BEGIN:VCALENDAR
VERSION:2.0
PRODID:icalendar-ruby
CALSCALE:GREGORIAN
BEGIN:VTIMEZONE
TZID:America/New_York
BEGIN:DAYLIGHT
DTSTART:20260308T030000
TZOFFSETFROM:-0500
TZOFFSETTO:-0400
RRULE:FREQ=YEARLY;BYDAY=2SU;BYMONTH=3
TZNAME:EDT
END:DAYLIGHT
BEGIN:STANDARD
DTSTART:20261101T010000
TZOFFSETFROM:-0400
TZOFFSETTO:-0500
RRULE:FREQ=YEARLY;BYDAY=1SU;BYMONTH=11
TZNAME:EST
END:STANDARD
END:VTIMEZONE
BEGIN:VEVENT
DTSTAMP:20260422T170635Z
UID:8337f5ac-60d2-4618-88d5-ab0ddd7ccb3f
DTSTART;VALUE=DATE:20260422
DTEND;VALUE=DATE:20260423
DESCRIPTION:
LOCATION:
SUMMARY:NATIONAL ADMINISTRATIVE PROFESSIONALS DAY
END:VEVENT
BEGIN:VEVENT
DTSTAMP:20260422T170635Z
UID:eefab787-0a65-4de3-aa00-a8abf2d29dea
DTSTART;VALUE=DATE:20260429
DTEND;VALUE=DATE:20260430
DESCRIPTION:
LOCATION:
SUMMARY:GRADE 5 MCAS MATH SESSION 1
END:VEVENT
BEGIN:VEVENT
DTSTAMP:20260422T170635Z
UID:1fb7f139-50d9-491a-bdb3-9565d7f8d89f
DTSTART;VALUE=DATE:20260430
DTEND;VALUE=DATE:20260501
DESCRIPTION:
LOCATION:
SUMMARY:COLLICOT ART SHOW
END:VEVENT
BEGIN:VEVENT
DTSTAMP:20260422T170635Z
UID:bea58337-cd8e-470c-8592-1e89a30084df
DTSTART;VALUE=DATE:20260430
DTEND;VALUE=DATE:20260501
DESCRIPTION:
LOCATION:
SUMMARY:GRADE 5 MCAS MATH SESSION 2
END:VEVENT
BEGIN:VEVENT
DTSTAMP:20260422T170635Z
UID:ee2187e9-2617-4ab4-afa0-59a17bfe549b
DTSTART;VALUE=DATE:20260501
DTEND;VALUE=DATE:20260502
DESCRIPTION:
LOCATION:
SUMMARY:NATIONAL PRINCIPAL APPRECIATION DAY
END:VEVENT
BEGIN:VEVENT
DTSTAMP:20260422T170635Z
UID:bc53676e-ce74-4be4-bcd3-9437b4cdb962
DTSTART;VALUE=DATE:20260501
DTEND;VALUE=DATE:20260502
DESCRIPTION:
LOCATION:
SUMMARY:NATIONAL SCHOOL LUNCH HERO DAY
END:VEVENT
BEGIN:VEVENT
DTSTAMP:20260422T170635Z
UID:7b590fb9-99f2-4f74-b417-4da270c59a16
DTSTART;VALUE=DATE:20260504
DTEND;VALUE=DATE:20260509
DESCRIPTION:
LOCATION:
SUMMARY:TEACHER APPRECIATION WEEK
END:VEVENT
BEGIN:VEVENT
DTSTAMP:20260422T170635Z
UID:c50021de-9370-4784-8b37-c6231e9ce5c7
DTSTART;VALUE=DATE:20260506
DTEND;VALUE=DATE:20260507
DESCRIPTION:
LOCATION:
SUMMARY:GRADE 4 MCAS MATH SESSION 1
END:VEVENT
BEGIN:VEVENT
DTSTAMP:20260422T170635Z
UID:2558c8e0-5ee2-4b04-a461-0c61e8fed5af
DTSTART;VALUE=DATE:20260507
DTEND;VALUE=DATE:20260508
DESCRIPTION:
LOCATION:
SUMMARY:GRADE 4 MCAS MATH SESSION 2
END:VEVENT
BEGIN:VEVENT
DTSTAMP:20260422T170635Z
UID:e030da92-ead4-49dc-89ee-2b712214f00c
DTSTART;VALUE=DATE:20260511
DTEND;VALUE=DATE:20260512
DESCRIPTION:
LOCATION:
SUMMARY:GRADE 3 MCAS MATH SESSION 1
END:VEVENT
BEGIN:VEVENT
DTSTAMP:20260422T170635Z
UID:3c70eb32-68c5-457d-9fcd-5687b34386b9
DTSTART;VALUE=DATE:20260512
DTEND;VALUE=DATE:20260513
DESCRIPTION:
LOCATION:
SUMMARY:GRADE 3 MATH MCAS SESSION 2
END:VEVENT
BEGIN:VEVENT
DTSTAMP:20260422T170635Z
UID:db6e70d2-e6aa-4994-a053-f355997e0dff
DTSTART;VALUE=DATE:20260513
DTEND;VALUE=DATE:20260514
DESCRIPTION:
LOCATION:
SUMMARY:GRADE 5 SCIENCE MCAS SESSION 1
END:VEVENT
BEGIN:VEVENT
DTSTAMP:20260422T170635Z
UID:5f0e159e-fc98-4b48-ac4b-975636e7263f
DTSTART;VALUE=DATE:20260513
DTEND;VALUE=DATE:20260514
DESCRIPTION:
LOCATION:
SUMMARY:NATIONAL SCHOOL NURSE DAY
END:VEVENT
BEGIN:VEVENT
DTSTAMP:20260422T170635Z
UID:c49cef1a-9c58-4c2c-ad8b-782f4a5659af
DTSTART;VALUE=DATE:20260514
DTEND;VALUE=DATE:20260515
DESCRIPTION:
LOCATION:
SUMMARY:GRADE 5 MCAS SCIENCE SESSION 2
END:VEVENT
BEGIN:VEVENT
DTSTAMP:20260422T170635Z
UID:d2429e89-5205-4384-8f11-3fd6b1c89718
DTSTART;VALUE=DATE:20260515
DTEND;VALUE=DATE:20260516
DESCRIPTION:
LOCATION:
SUMMARY:GRADES 2 AND 3 CONCERT
END:VEVENT
BEGIN:VEVENT
DTSTAMP:20260422T170635Z
UID:eb11185d-6e12-45e2-8150-57f734515217
DTSTART;VALUE=DATE:20260518
DTEND;VALUE=DATE:20260519
DESCRIPTION:
LOCATION:
SUMMARY:Field Day for grades K-2
END:VEVENT
BEGIN:VEVENT
DTSTAMP:20260422T170635Z
UID:fbd1fd6b-5c43-410a-b9bb-1368154c7502
DTSTART;VALUE=DATE:20260519
DTEND;VALUE=DATE:20260520
DESCRIPTION:
LOCATION:
SUMMARY:Field Day for Grades 3 and 4
END:VEVENT
BEGIN:VEVENT
DTSTAMP:20260422T170635Z
UID:297484d1-46ae-4160-8314-2fa7fe339839
DTSTART;VALUE=DATE:20260520
DTEND;VALUE=DATE:20260521
DESCRIPTION:
LOCATION:
SUMMARY:Pierce Camp for Grade 5
END:VEVENT
BEGIN:VEVENT
DTSTAMP:20260422T170635Z
UID:7d076159-99dc-4bf1-a45a-43cab560a29b
DTSTART;VALUE=DATE:20260521
DTEND;VALUE=DATE:20260522
DESCRIPTION:
LOCATION:
SUMMARY:Pierce Camp for Grade 5
END:VEVENT
BEGIN:VEVENT
DTSTAMP:20260422T170635Z
UID:98b2d501-473d-4f0b-97e0-88ded2d27bbb
DTSTART;VALUE=DATE:20260525
DTEND;VALUE=DATE:20260526
DESCRIPTION:
LOCATION:
SUMMARY:NO SCHOOL MEMORIAL DAY
END:VEVENT
BEGIN:VEVENT
DTSTAMP:20260422T170635Z
UID:c4dc01f8-2588-464e-8095-f753234fa831
DTSTART;VALUE=DATE:20260527
DTEND;VALUE=DATE:20260528
DESCRIPTION:
LOCATION:
SUMMARY:GRADES 4 AND 5 CONCERT
END:VEVENT
BEGIN:VEVENT
DTSTAMP:20260422T170635Z
UID:18d04655-891c-4605-952c-f46c66b193e1
DTSTART;VALUE=DATE:20260529
DTEND;VALUE=DATE:20260530
DESCRIPTION:
LOCATION:
SUMMARY:KINDERGARTEN AND GRADE ONE CONCERT
END:VEVENT
BEGIN:VEVENT
DTSTAMP:20260422T170635Z
UID:7d197f06-41de-49a5-becd-fc918470df4e
DTSTART;VALUE=DATE:20260602
DTEND;VALUE=DATE:20260603
DESCRIPTION:
LOCATION:
SUMMARY:GRADE ONE FIELD TRIP
END:VEVENT
BEGIN:VEVENT
DTSTAMP:20260422T170635Z
UID:7ba31035-91d7-4777-a6f8-102a9527bbe0
DTSTART;VALUE=DATE:20260603
DTEND;VALUE=DATE:20260604
DESCRIPTION:
LOCATION:
SUMMARY:GRADE 4 FIELD TRIP
END:VEVENT
BEGIN:VEVENT
DTSTAMP:20260422T170635Z
UID:06fd953f-b7af-441c-96d7-0fc6f3b4c45d
DTSTART;VALUE=DATE:20260605
DTEND;VALUE=DATE:20260606
DESCRIPTION:
LOCATION:
SUMMARY:KINDERGARTEN FIELD TRIP
END:VEVENT
BEGIN:VEVENT
DTSTAMP:20260422T170635Z
UID:0420e8d9-212f-4d6e-a9f9-6a6dfb28c9ff
DTSTART;VALUE=DATE:20260612
DTEND;VALUE=DATE:20260613
DESCRIPTION:
LOCATION:
SUMMARY:BOO HOO YAHOO FOR GRADE 5 FAMILIES SCHOOL YARD 
END:VEVENT
BEGIN:VEVENT
DTSTAMP:20260422T170635Z
UID:daae4efe-b410-48c3-a54f-dcc467187923
DTSTART;VALUE=DATE:20260612
DTEND;VALUE=DATE:20260613
DESCRIPTION:
LOCATION:
SUMMARY:GRADE 5 MOVING ON CEREMONY
END:VEVENT
BEGIN:VEVENT
DTSTAMP:20260422T170635Z
UID:7b66815a-69f3-47c4-b5b7-bf53cc772aba
DTSTART;VALUE=DATE:20260618
DTEND;VALUE=DATE:20260619
DESCRIPTION:
LOCATION:
SUMMARY:GRADE 2 FIELD TRIP
END:VEVENT
END:VCALENDAR
