BEGIN:VCALENDAR
VERSION:2.0
PRODID:icalendar-ruby
CALSCALE:GREGORIAN
BEGIN:VTIMEZONE
TZID:America/New_York
BEGIN:DAYLIGHT
DTSTART:20260308T030000
TZOFFSETFROM:-0500
TZOFFSETTO:-0400
RRULE:FREQ=YEARLY;BYDAY=2SU;BYMONTH=3
TZNAME:EDT
END:DAYLIGHT
BEGIN:STANDARD
DTSTART:20261101T010000
TZOFFSETFROM:-0400
TZOFFSETTO:-0500
RRULE:FREQ=YEARLY;BYDAY=1SU;BYMONTH=11
TZNAME:EST
END:STANDARD
END:VTIMEZONE
BEGIN:VEVENT
DTSTAMP:20260423T154945Z
UID:634c0cbc-d9ac-473a-ae2f-4c70aa267ebb
DTSTART:20260428T190000
DTEND:20260428T190000
DESCRIPTION:
LOCATION:
SUMMARY:Board of Education Meeting
END:VEVENT
BEGIN:VEVENT
DTSTAMP:20260423T154945Z
UID:0d719a32-b42c-437b-83c9-cf66990bfdad
DTSTART:20260512T190000
DTEND:20260512T190000
DESCRIPTION:
LOCATION:
SUMMARY:Board of Education Meeting
END:VEVENT
BEGIN:VEVENT
DTSTAMP:20260423T154945Z
UID:0e0ba5d8-e0b7-4b57-9f57-1f81baf73845
DTSTART;VALUE=DATE:20260521
DTEND;VALUE=DATE:20260522
DESCRIPTION:
LOCATION:
SUMMARY:Early Dismissal
END:VEVENT
BEGIN:VEVENT
DTSTAMP:20260423T154945Z
UID:6bfe16c9-a56a-412e-9999-e082e309f101
DTSTART;VALUE=DATE:20260522
DTEND;VALUE=DATE:20260523
DESCRIPTION:
LOCATION:
SUMMARY:School District Closed/In-Service
END:VEVENT
BEGIN:VEVENT
DTSTAMP:20260423T154945Z
UID:169d0b9d-0795-492f-be87-bd1076aaca65
DTSTART;VALUE=DATE:20260525
DTEND;VALUE=DATE:20260526
DESCRIPTION:
LOCATION:
SUMMARY:School District Closed
END:VEVENT
BEGIN:VEVENT
DTSTAMP:20260423T154945Z
UID:34183806-377c-4411-b9e8-2cf871d50b4b
DTSTART:20260609T190000
DTEND:20260609T190000
DESCRIPTION:
LOCATION:
SUMMARY:Board of Education Meeting
END:VEVENT
BEGIN:VEVENT
DTSTAMP:20260423T154945Z
UID:a51daaeb-e93a-4d0e-8226-957bb65fe939
DTSTART;VALUE=DATE:20260619
DTEND;VALUE=DATE:20260620
DESCRIPTION:
LOCATION:
SUMMARY:School District Closed
END:VEVENT
BEGIN:VEVENT
DTSTAMP:20260423T154945Z
UID:a751b5b0-0e11-4244-8325-daea3b7f070d
DTSTART;VALUE=DATE:20260703
DTEND;VALUE=DATE:20260704
DESCRIPTION:
LOCATION:
SUMMARY:School District Closed
END:VEVENT
BEGIN:VEVENT
DTSTAMP:20260423T154945Z
UID:5ab496d4-ef62-41b4-b58b-8c76ad7472f9
DTSTART;VALUE=DATE:20260710
DTEND;VALUE=DATE:20260711
DESCRIPTION:
LOCATION:
SUMMARY:School District Closed
END:VEVENT
BEGIN:VEVENT
DTSTAMP:20260423T154945Z
UID:ef359432-6ea2-435d-8753-1796e8b743dd
DTSTART;VALUE=DATE:20260717
DTEND;VALUE=DATE:20260718
DESCRIPTION:
LOCATION:
SUMMARY:School District Closed
END:VEVENT
BEGIN:VEVENT
DTSTAMP:20260423T154945Z
UID:860ea121-4ea1-4aa7-b7bc-c81bc4d41f47
DTSTART;VALUE=DATE:20260724
DTEND;VALUE=DATE:20260725
DESCRIPTION:
LOCATION:
SUMMARY:School District Closed
END:VEVENT
BEGIN:VEVENT
DTSTAMP:20260423T154945Z
UID:02f0de06-e47a-478e-8766-742dbc77a7f7
DTSTART;VALUE=DATE:20260731
DTEND;VALUE=DATE:20260801
DESCRIPTION:
LOCATION:
SUMMARY:School District Closed
END:VEVENT
BEGIN:VEVENT
DTSTAMP:20260423T154945Z
UID:9c5b7f1c-670f-46ef-b205-5099af06f7ec
DTSTART;VALUE=DATE:20260807
DTEND;VALUE=DATE:20260808
DESCRIPTION:
LOCATION:
SUMMARY:School District Closed
END:VEVENT
BEGIN:VEVENT
DTSTAMP:20260423T154945Z
UID:78bb2c63-00f7-4548-95e4-7fd615b2d01f
DTSTART:20260811T190000
DTEND:20260811T190000
DESCRIPTION:
LOCATION:
SUMMARY:Board of Education Meeting
END:VEVENT
BEGIN:VEVENT
DTSTAMP:20260423T154945Z
UID:706eba1d-a500-41fc-806a-555c1b0a1aac
DTSTART;VALUE=DATE:20260814
DTEND;VALUE=DATE:20260815
DESCRIPTION:
LOCATION:
SUMMARY:School District Closed
END:VEVENT
BEGIN:VEVENT
DTSTAMP:20260423T154945Z
UID:b2785ad4-26e2-4460-92c6-780e09565076
DTSTART;VALUE=DATE:20260904
DTEND;VALUE=DATE:20260905
DESCRIPTION:
LOCATION:
SUMMARY:School District Closed Labor Day Holiday
END:VEVENT
BEGIN:VEVENT
DTSTAMP:20260423T154945Z
UID:9768b056-5153-4d4a-a4b0-736951ecd6fc
DTSTART;VALUE=DATE:20260907
DTEND;VALUE=DATE:20260908
DESCRIPTION:
LOCATION:
SUMMARY:School District Closed-Labor Day Holiday
END:VEVENT
BEGIN:VEVENT
DTSTAMP:20260423T154945Z
UID:f748efa6-e330-4730-a166-3d9e3d063ae6
DTSTART:20260908T190000
DTEND:20260908T190000
DESCRIPTION:
LOCATION:
SUMMARY:Board of Education
END:VEVENT
BEGIN:VEVENT
DTSTAMP:20260423T154945Z
UID:bd2e5a75-f285-48cb-9c2b-93dc7a85b014
DTSTART:20261013T190000
DTEND:20261013T190000
DESCRIPTION:
LOCATION:
SUMMARY:Board of Education Meeting
END:VEVENT
BEGIN:VEVENT
DTSTAMP:20260423T154945Z
UID:2b641443-35ea-4517-986c-95cdd0dba1ba
DTSTART:20261110T190000
DTEND:20261110T190000
DESCRIPTION:
LOCATION:
SUMMARY:Board of Education Meeting
END:VEVENT
BEGIN:VEVENT
DTSTAMP:20260423T154945Z
UID:e96d299f-9449-4629-bd77-7983a6bb2e73
DTSTART:20261208T190000
DTEND:20261208T190000
DESCRIPTION:
LOCATION:
SUMMARY:Board of Education Meeting
END:VEVENT
BEGIN:VEVENT
DTSTAMP:20260423T154945Z
UID:05b93482-0587-4f0b-bb6e-42b9287c61bb
DTSTART:20270105T190000
DTEND:20270105T190000
DESCRIPTION:
LOCATION:
SUMMARY:Board of Education Meeting
END:VEVENT
END:VCALENDAR
