BEGIN:VCALENDAR
VERSION:2.0
PRODID:icalendar-ruby
CALSCALE:GREGORIAN
BEGIN:VTIMEZONE
TZID:America/New_York
BEGIN:DAYLIGHT
DTSTART:20260308T030000
TZOFFSETFROM:-0500
TZOFFSETTO:-0400
RRULE:FREQ=YEARLY;BYDAY=2SU;BYMONTH=3
TZNAME:EDT
END:DAYLIGHT
BEGIN:STANDARD
DTSTART:20261101T010000
TZOFFSETFROM:-0400
TZOFFSETTO:-0500
RRULE:FREQ=YEARLY;BYDAY=1SU;BYMONTH=11
TZNAME:EST
END:STANDARD
END:VTIMEZONE
BEGIN:VEVENT
DTSTAMP:20260423T102226Z
UID:151d86a5-a4cb-4b2c-9e89-598d1f6c4924
DTSTART;VALUE=DATE:20260502
DTEND;VALUE=DATE:20260503
DESCRIPTION:
LOCATION:
SUMMARY:FFA Plant Sale
END:VEVENT
BEGIN:VEVENT
DTSTAMP:20260423T102226Z
UID:7be2a33a-d74f-40aa-8d91-821363c6b822
DTSTART;VALUE=DATE:20260508
DTEND;VALUE=DATE:20260509
DESCRIPTION:
LOCATION:
SUMMARY:Interim Reports
END:VEVENT
BEGIN:VEVENT
DTSTAMP:20260423T102226Z
UID:0988f6bc-c4ab-4408-9565-2c9c7666168e
DTSTART:20260512T151500
DTEND:20260512T163000
DESCRIPTION:
LOCATION:
SUMMARY:Hangout
END:VEVENT
BEGIN:VEVENT
DTSTAMP:20260423T102226Z
UID:22df45b5-69ad-4b51-b65f-412e825ae171
DTSTART:20260519T190000
DTEND:20260519T200000
DESCRIPTION:
LOCATION:
SUMMARY:Spring Chorus/Band Concert
END:VEVENT
BEGIN:VEVENT
DTSTAMP:20260423T102226Z
UID:e16436b0-8254-4039-9228-cad35ddf30f8
DTSTART;VALUE=DATE:20260525
DTEND;VALUE=DATE:20260526
DESCRIPTION:
LOCATION:
SUMMARY:Holiday
END:VEVENT
BEGIN:VEVENT
DTSTAMP:20260423T102226Z
UID:b332524e-1368-454c-8ada-d8f33a219013
DTSTART;VALUE=DATE:20260610
DTEND;VALUE=DATE:20260611
DESCRIPTION:
LOCATION:
SUMMARY:Last Student Day: 2 Hour Early Dismissal
END:VEVENT
END:VCALENDAR
