BEGIN:VCALENDAR
VERSION:2.0
PRODID:icalendar-ruby
CALSCALE:GREGORIAN
BEGIN:VTIMEZONE
TZID:America/New_York
BEGIN:DAYLIGHT
DTSTART:20260308T030000
TZOFFSETFROM:-0500
TZOFFSETTO:-0400
RRULE:FREQ=YEARLY;BYDAY=2SU;BYMONTH=3
TZNAME:EDT
END:DAYLIGHT
BEGIN:STANDARD
DTSTART:20261101T010000
TZOFFSETFROM:-0400
TZOFFSETTO:-0500
RRULE:FREQ=YEARLY;BYDAY=1SU;BYMONTH=11
TZNAME:EST
END:STANDARD
END:VTIMEZONE
BEGIN:VEVENT
DTSTAMP:20260426T013920Z
UID:801f91d8-7536-42e3-92e5-538024f1fb8f
DTSTART;VALUE=DATE:20260430
DTEND;VALUE=DATE:20260501
DESCRIPTION:
LOCATION:
SUMMARY:SWRHS Spring Musical/Show
END:VEVENT
BEGIN:VEVENT
DTSTAMP:20260426T013920Z
UID:c08dddad-70ac-4b9a-a5fe-b450e0689881
DTSTART;VALUE=DATE:20260501
DTEND;VALUE=DATE:20260502
DESCRIPTION:
LOCATION:
SUMMARY:SWRHS Spring Musical/Show
END:VEVENT
BEGIN:VEVENT
DTSTAMP:20260426T013920Z
UID:7e9ddbaa-4cf7-4e34-b3de-3b7478b3f98e
DTSTART;VALUE=DATE:20260502
DTEND;VALUE=DATE:20260503
DESCRIPTION:
LOCATION:
SUMMARY:SWRHS Spring Musical/Show
END:VEVENT
BEGIN:VEVENT
DTSTAMP:20260426T013920Z
UID:64ddcda2-945e-473d-9016-143aaa6cf8ca
DTSTART;VALUE=DATE:20260507
DTEND;VALUE=DATE:20260508
DESCRIPTION:
LOCATION:
SUMMARY:$10 Physicals at SWRHS
END:VEVENT
BEGIN:VEVENT
DTSTAMP:20260426T013920Z
UID:d2b40f7b-805c-4cd3-9e76-90115aaf5a3c
DTSTART;VALUE=DATE:20260507
DTEND;VALUE=DATE:20260508
DESCRIPTION:
LOCATION:
SUMMARY:Senior Meeting during Cougar Connections
END:VEVENT
BEGIN:VEVENT
DTSTAMP:20260426T013920Z
UID:cc99d4e3-9e4c-4a21-a5dc-db5040e06ae5
DTSTART:20260507T180000
DTEND:20260507T203000
DESCRIPTION:
LOCATION:Southwestern Randolph High School\, 1641 Hopewell Friends Rd\, Ash
 eboro\, NC 27205\, USA
SUMMARY:FFA Banquet
END:VEVENT
BEGIN:VEVENT
DTSTAMP:20260426T013920Z
UID:0f9abfbb-06c0-4e23-93ec-425c6d3e896a
DTSTART;VALUE=DATE:20260508
DTEND;VALUE=DATE:20260509
DESCRIPTION:
LOCATION:
SUMMARY:Interim Reports
END:VEVENT
BEGIN:VEVENT
DTSTAMP:20260426T013920Z
UID:d9e7130f-f061-4541-b0f8-de648deb4cf5
DTSTART:20260508T180000
DTEND:20260508T230000
DESCRIPTION:
LOCATION:Pinewood Country Club\, 247 Pinewood Rd\, Asheboro\, NC 27205
SUMMARY:JROTC Military Ball
END:VEVENT
BEGIN:VEVENT
DTSTAMP:20260426T013920Z
UID:a0c90e9d-84b2-436f-9b54-3788e54e54d2
DTSTART:20260511T190000
DTEND:20260511T200000
DESCRIPTION:
LOCATION:Cafeteria
SUMMARY:SWRHS Athletic Boosters Club Meeting
END:VEVENT
BEGIN:VEVENT
DTSTAMP:20260426T013920Z
UID:478cb529-a3e0-416e-92ea-abb4dd3dc355
DTSTART:20260514T153000
DTEND:20260514T163000
DESCRIPTION:
LOCATION:
SUMMARY: SIT Meeting
END:VEVENT
BEGIN:VEVENT
DTSTAMP:20260426T013920Z
UID:ac0dad70-4322-469d-acbc-e6b4a85168af
DTSTART;VALUE=DATE:20260515
DTEND;VALUE=DATE:20260516
DESCRIPTION:
LOCATION:
SUMMARY:NC Check-In's (All EOCs)
END:VEVENT
BEGIN:VEVENT
DTSTAMP:20260426T013920Z
UID:cec465e8-cce6-40f9-9b8e-c46c62ae59fd
DTSTART;VALUE=DATE:20260522
DTEND;VALUE=DATE:20260523
DESCRIPTION:
LOCATION:
SUMMARY:SWRHS Senior Grad Walks & Senior Class Photo
END:VEVENT
BEGIN:VEVENT
DTSTAMP:20260426T013920Z
UID:b34e137c-065f-49a9-87a3-b6d5bfde5cc4
DTSTART;VALUE=DATE:20260525
DTEND;VALUE=DATE:20260526
DESCRIPTION:
LOCATION:
SUMMARY:HOLIDAY - No School!
END:VEVENT
BEGIN:VEVENT
DTSTAMP:20260426T013920Z
UID:6b12751c-a165-46c7-9aad-b61e06e4c8b1
DTSTART:20260528T183000
DTEND:20260528T193000
DESCRIPTION:
LOCATION:
SUMMARY:Academic Awards Ceremony
END:VEVENT
BEGIN:VEVENT
DTSTAMP:20260426T013920Z
UID:6b3a4335-9e62-4017-b4c4-f774ad1fe24e
DTSTART;VALUE=DATE:20260604
DTEND;VALUE=DATE:20260605
DESCRIPTION:
LOCATION:
SUMMARY:Final Exams - Day 1
END:VEVENT
BEGIN:VEVENT
DTSTAMP:20260426T013920Z
UID:82e2cb29-2346-4084-a7ba-bf3f1e6039be
DTSTART;VALUE=DATE:20260605
DTEND;VALUE=DATE:20260606
DESCRIPTION:
LOCATION:
SUMMARY:Final Exams - Day 2
END:VEVENT
BEGIN:VEVENT
DTSTAMP:20260426T013920Z
UID:bab721cd-65fa-42aa-aa1e-b3461074c4ba
DTSTART:20260607T190000
DTEND:20260607T200000
DESCRIPTION:
LOCATION:Hopewell Friends Meeting\,  2244 Hopewell Friends Rd\, Asheboro\, 
 NC 27205
SUMMARY:Baccalaureate
END:VEVENT
BEGIN:VEVENT
DTSTAMP:20260426T013920Z
UID:049e544e-285a-4bd7-b335-932e3503adf5
DTSTART;VALUE=DATE:20260608
DTEND;VALUE=DATE:20260609
DESCRIPTION:
LOCATION:
SUMMARY:Final Exams - Day 3
END:VEVENT
BEGIN:VEVENT
DTSTAMP:20260426T013920Z
UID:3e5b8abf-bf64-4adb-857b-681084789ec5
DTSTART;VALUE=DATE:20260609
DTEND;VALUE=DATE:20260610
DESCRIPTION:
LOCATION:
SUMMARY:Final Exams - Day 4
END:VEVENT
BEGIN:VEVENT
DTSTAMP:20260426T013920Z
UID:9464d8f5-9471-426c-9b13-f151cf19b82b
DTSTART:20260609T153000
DTEND:20260609T163000
DESCRIPTION:
LOCATION:
SUMMARY:SIT Meeting
END:VEVENT
BEGIN:VEVENT
DTSTAMP:20260426T013920Z
UID:5539dcd3-b5e7-409e-b9e6-71885274abe3
DTSTART;VALUE=DATE:20260610
DTEND;VALUE=DATE:20260611
DESCRIPTION:
LOCATION:
SUMMARY:2-Hour Early Release
END:VEVENT
BEGIN:VEVENT
DTSTAMP:20260426T013920Z
UID:a173ae9a-db5d-4d29-9d96-eed869ea55d0
DTSTART;VALUE=DATE:20260610
DTEND;VALUE=DATE:20260611
DESCRIPTION:
LOCATION:
SUMMARY:Final Exams - Day 5
END:VEVENT
BEGIN:VEVENT
DTSTAMP:20260426T013920Z
UID:356ac83e-6f6e-4e39-b58b-14f79598b7cd
DTSTART;VALUE=DATE:20260610
DTEND;VALUE=DATE:20260611
DESCRIPTION:
LOCATION:
SUMMARY:GRADUATION!
END:VEVENT
END:VCALENDAR
