BEGIN:VCALENDAR
VERSION:2.0
PRODID:icalendar-ruby
CALSCALE:GREGORIAN
BEGIN:VTIMEZONE
TZID:America/New_York
BEGIN:DAYLIGHT
DTSTART:20260308T030000
TZOFFSETFROM:-0500
TZOFFSETTO:-0400
RRULE:FREQ=YEARLY;BYDAY=2SU;BYMONTH=3
TZNAME:EDT
END:DAYLIGHT
BEGIN:STANDARD
DTSTART:20261101T010000
TZOFFSETFROM:-0400
TZOFFSETTO:-0500
RRULE:FREQ=YEARLY;BYDAY=1SU;BYMONTH=11
TZNAME:EST
END:STANDARD
END:VTIMEZONE
BEGIN:VEVENT
DTSTAMP:20260422T180630Z
UID:4d42797a-476b-4417-a166-326a6130c85d
DTSTART;VALUE=DATE:20260422
DTEND;VALUE=DATE:20260423
DESCRIPTION:
LOCATION:
SUMMARY:🦍2nd Grade to NC Zoo
END:VEVENT
BEGIN:VEVENT
DTSTAMP:20260422T180630Z
UID:e356dc89-ce77-4f50-8f38-0e3544283145
DTSTART;VALUE=DATE:20260424
DTEND;VALUE=DATE:20260425
DESCRIPTION:
LOCATION:
SUMMARY:🧺1st Grade to Dan Nicholas Park
END:VEVENT
BEGIN:VEVENT
DTSTAMP:20260422T180630Z
UID:49f94670-683f-493e-875f-291116d45a79
DTSTART:20260424T160000
DTEND:20260424T190000
DESCRIPTION:
LOCATION:
SUMMARY:🌺Spring Fling
END:VEVENT
BEGIN:VEVENT
DTSTAMP:20260422T180630Z
UID:d2aca974-ebc9-4c01-a9bb-498928983c17
DTSTART;VALUE=DATE:20260430
DTEND;VALUE=DATE:20260501
DESCRIPTION:
LOCATION:
SUMMARY:🎓5th Grade Graduation Pictures
END:VEVENT
BEGIN:VEVENT
DTSTAMP:20260422T180630Z
UID:55fb12e2-f936-4541-9bdc-308c6577366c
DTSTART:20260505T173000
DTEND:20260505T190000
DESCRIPTION:
LOCATION:
SUMMARY:Title 1 Night
END:VEVENT
BEGIN:VEVENT
DTSTAMP:20260422T180630Z
UID:0ebdda6e-7961-4190-a176-3a4d0cc0bfd3
DTSTART:20260511T180000
DTEND:20260511T190000
DESCRIPTION:Meeting in the media center
LOCATION:
SUMMARY:🐾PTO Meeting
END:VEVENT
BEGIN:VEVENT
DTSTAMP:20260422T180630Z
UID:f34215dc-eae8-4ce7-bf7e-2d55858bc75d
DTSTART:20260608T180000
DTEND:20260608T190000
DESCRIPTION:Meeting in the media center
LOCATION:
SUMMARY:🐾PTO Meeting
END:VEVENT
BEGIN:VEVENT
DTSTAMP:20260422T180630Z
UID:574c90bf-c05a-4a1e-9f81-4771f360f6b5
DTSTART:20260713T180000
DTEND:20260713T190000
DESCRIPTION:Meeting in the media center
LOCATION:
SUMMARY:🐾PTO Meeting
END:VEVENT
BEGIN:VEVENT
DTSTAMP:20260422T180630Z
UID:04d7a2a9-f43a-4838-bbf1-48c39c410917
DTSTART:20260810T180000
DTEND:20260810T190000
DESCRIPTION:Meeting in the media center
LOCATION:
SUMMARY:🐾PTO Meeting
END:VEVENT
BEGIN:VEVENT
DTSTAMP:20260422T180630Z
UID:8e391644-97d3-46e7-b8d1-667a4a592c6a
DTSTART:20260914T180000
DTEND:20260914T190000
DESCRIPTION:Meeting in the media center
LOCATION:
SUMMARY:🐾PTO Meeting
END:VEVENT
BEGIN:VEVENT
DTSTAMP:20260422T180630Z
UID:d0ccb937-1483-411c-a632-e870edc4db5d
DTSTART:20261012T180000
DTEND:20261012T190000
DESCRIPTION:Meeting in the media center
LOCATION:
SUMMARY:🐾PTO Meeting
END:VEVENT
BEGIN:VEVENT
DTSTAMP:20260422T180630Z
UID:d5c0375b-6a17-44a6-b58a-7e3611b3ca2a
DTSTART:20261109T180000
DTEND:20261109T190000
DESCRIPTION:Meeting in the media center
LOCATION:
SUMMARY:🐾PTO Meeting
END:VEVENT
BEGIN:VEVENT
DTSTAMP:20260422T180630Z
UID:5dd8b995-a9ca-40d5-8228-51b17c1b2b74
DTSTART:20261214T180000
DTEND:20261214T190000
DESCRIPTION:Meeting in the media center
LOCATION:
SUMMARY:🐾PTO Meeting
END:VEVENT
BEGIN:VEVENT
DTSTAMP:20260422T180630Z
UID:9a51a98a-1a5b-491e-9eab-838b1a639728
DTSTART:20270111T180000
DTEND:20270111T190000
DESCRIPTION:Meeting in the media center
LOCATION:
SUMMARY:🐾PTO Meeting
END:VEVENT
BEGIN:VEVENT
DTSTAMP:20260422T180630Z
UID:036950fc-56b4-4d3a-850e-d3bc6438953a
DTSTART:20270208T180000
DTEND:20270208T190000
DESCRIPTION:Meeting in the media center
LOCATION:
SUMMARY:🐾PTO Meeting
END:VEVENT
BEGIN:VEVENT
DTSTAMP:20260422T180630Z
UID:1082f21e-1e33-4357-9ccf-fb3e9f79852f
DTSTART:20270308T180000
DTEND:20270308T190000
DESCRIPTION:Meeting in the media center
LOCATION:
SUMMARY:🐾PTO Meeting
END:VEVENT
BEGIN:VEVENT
DTSTAMP:20260422T180630Z
UID:09121a24-6288-4772-a5c3-6884ce823674
DTSTART:20270412T180000
DTEND:20270412T190000
DESCRIPTION:Meeting in the media center
LOCATION:
SUMMARY:🐾PTO Meeting
END:VEVENT
BEGIN:VEVENT
DTSTAMP:20260422T180630Z
UID:828132a7-0909-40c0-b0bc-e88ccdecf8f5
DTSTART:20270510T180000
DTEND:20270510T190000
DESCRIPTION:Meeting in the media center
LOCATION:
SUMMARY:🐾PTO Meeting
END:VEVENT
END:VCALENDAR
