BEGIN:VCALENDAR
VERSION:2.0
PRODID:icalendar-ruby
CALSCALE:GREGORIAN
BEGIN:VTIMEZONE
TZID:America/Chicago
BEGIN:DAYLIGHT
DTSTART:20260308T030000
TZOFFSETFROM:-0600
TZOFFSETTO:-0500
RRULE:FREQ=YEARLY;BYDAY=2SU;BYMONTH=3
TZNAME:CDT
END:DAYLIGHT
BEGIN:STANDARD
DTSTART:20261101T010000
TZOFFSETFROM:-0500
TZOFFSETTO:-0600
RRULE:FREQ=YEARLY;BYDAY=1SU;BYMONTH=11
TZNAME:CST
END:STANDARD
END:VTIMEZONE
BEGIN:VEVENT
DTSTAMP:20260424T014953Z
UID:42c05d76-6cef-4b82-9b7f-726382bff1b6
DTSTART;VALUE=DATE:20260423
DTEND;VALUE=DATE:20260424
DESCRIPTION:
LOCATION:
SUMMARY:JH Track @ Cassville
END:VEVENT
BEGIN:VEVENT
DTSTAMP:20260424T014953Z
UID:d7d01701-069d-453b-bd1a-ccfd4d4959f1
DTSTART:20260423T170000
DTEND:20260423T190000
DESCRIPTION:
LOCATION:
SUMMARY:Baseball @ Jasper
END:VEVENT
BEGIN:VEVENT
DTSTAMP:20260424T014953Z
UID:14bac2a4-9146-4340-90d5-7ce708b28153
DTSTART:20260423T173000
DTEND:20260423T193000
DESCRIPTION:
LOCATION:
SUMMARY:Softball vs. Greenfield
END:VEVENT
BEGIN:VEVENT
DTSTAMP:20260424T014953Z
UID:fc0e1852-a92c-4dc1-85db-3bf17caa22fd
DTSTART:20260424T163000
DTEND:20260424T183000
DESCRIPTION:
LOCATION:
SUMMARY:Softball vs. Bronaugh
END:VEVENT
BEGIN:VEVENT
DTSTAMP:20260424T014953Z
UID:86276244-8d24-4f47-af14-4eb79c77e48c
DTSTART:20260424T170000
DTEND:20260424T190000
DESCRIPTION:
LOCATION:
SUMMARY:Baseball vs. Pleasant Hope
END:VEVENT
BEGIN:VEVENT
DTSTAMP:20260424T014953Z
UID:d53e4d7c-f438-4d7d-8f08-4529fef0b7eb
DTSTART:20260425T100000
DTEND:20260425T120000
DESCRIPTION:
LOCATION:
SUMMARY:Baseball vs. Clever 
END:VEVENT
BEGIN:VEVENT
DTSTAMP:20260424T014953Z
UID:2ba2ad31-b88f-4193-b89f-2e1427e52ad6
DTSTART:20260425T180000
DTEND:20260425T183000
DESCRIPTION:
LOCATION:
SUMMARY:Chapter FFA Banquet
END:VEVENT
BEGIN:VEVENT
DTSTAMP:20260424T014953Z
UID:2632ffc7-98d8-446a-80a6-1703ce43bc00
DTSTART;VALUE=DATE:20260427
DTEND;VALUE=DATE:20260428
DESCRIPTION:
LOCATION:
SUMMARY:JH Track @ Seneca
END:VEVENT
BEGIN:VEVENT
DTSTAMP:20260424T014953Z
UID:9d8e81ea-bdaa-4a7e-be15-e7e6dacbaed0
DTSTART:20260427T170000
DTEND:20260427T190000
DESCRIPTION:
LOCATION:
SUMMARY:Baseball vs. Purdy
END:VEVENT
BEGIN:VEVENT
DTSTAMP:20260424T014953Z
UID:6e834810-c9dd-491b-bdda-819980147e43
DTSTART:20260427T170000
DTEND:20260427T190000
DESCRIPTION:
LOCATION:
SUMMARY:Softball vs. Miller 
END:VEVENT
BEGIN:VEVENT
DTSTAMP:20260424T014953Z
UID:012b4d07-86cd-4df7-949d-7096a9246028
DTSTART:20260428T170000
DTEND:20260428T190000
DESCRIPTION:
LOCATION:
SUMMARY:Baseball vs. Exeter 
END:VEVENT
BEGIN:VEVENT
DTSTAMP:20260424T014953Z
UID:e078b29c-f034-4bf0-b49b-37bf23f70eae
DTSTART:20260428T170000
DTEND:20260428T190000
DESCRIPTION:
LOCATION:
SUMMARY:Softball @ Jasper
END:VEVENT
BEGIN:VEVENT
DTSTAMP:20260424T014953Z
UID:173e211e-8db3-42c0-b84f-8cc546eb35cc
DTSTART;VALUE=DATE:20260430
DTEND;VALUE=DATE:20260501
DESCRIPTION:
LOCATION:
SUMMARY:JH Track @ Neosho
END:VEVENT
BEGIN:VEVENT
DTSTAMP:20260424T014953Z
UID:18956d1b-7c8c-4a0d-8b30-3a7cf3af28bb
DTSTART:20260430T170000
DTEND:20260430T190000
DESCRIPTION:
LOCATION:
SUMMARY:Baseball vs. Billings
END:VEVENT
BEGIN:VEVENT
DTSTAMP:20260424T014953Z
UID:d29f0b41-b301-4a01-9f43-7ea99a79a0ca
DTSTART:20260430T170000
DTEND:20260430T190000
DESCRIPTION:
LOCATION:
SUMMARY:Softball vs. Exeter
END:VEVENT
BEGIN:VEVENT
DTSTAMP:20260424T014953Z
UID:5f7c9033-6926-4881-b30d-a960943b9f6b
DTSTART:20260501T170000
DTEND:20260501T190000
DESCRIPTION:
LOCATION:
SUMMARY:Baseball vs. New Heights Christian Academy
END:VEVENT
BEGIN:VEVENT
DTSTAMP:20260424T014953Z
UID:2ed84aea-fcb1-459e-a834-05f8a8d2a36b
DTSTART:20260501T170000
DTEND:20260501T190000
DESCRIPTION:
LOCATION:
SUMMARY:Softball vs. New Heights Christian Academy
END:VEVENT
BEGIN:VEVENT
DTSTAMP:20260424T014953Z
UID:61ba4132-f7e9-40da-bfa2-087680f83a85
DTSTART:20260504T163000
DTEND:20260504T183000
DESCRIPTION:
LOCATION:
SUMMARY:Softball @ Liberal
END:VEVENT
BEGIN:VEVENT
DTSTAMP:20260424T014953Z
UID:ec9b6e93-e55c-4fd9-a86f-0e63c716bf01
DTSTART:20260504T170000
DTEND:20260504T190000
DESCRIPTION:
LOCATION:
SUMMARY:Baseball @ Hurley
END:VEVENT
BEGIN:VEVENT
DTSTAMP:20260424T014953Z
UID:38814fd1-e42b-45c5-a705-05f36b69b041
DTSTART;VALUE=DATE:20260505
DTEND;VALUE=DATE:20260506
DESCRIPTION:
LOCATION:
SUMMARY:FFA Area Officer Interviews
END:VEVENT
BEGIN:VEVENT
DTSTAMP:20260424T014953Z
UID:c03ff750-a274-4816-a164-af09178498f7
DTSTART:20260505T170000
DTEND:20260505T190000
DESCRIPTION:
LOCATION:
SUMMARY:Softball @ Hollister
END:VEVENT
BEGIN:VEVENT
DTSTAMP:20260424T014953Z
UID:8e947a33-d86c-49ad-9462-870581123dd4
DTSTART:20260505T180000
DTEND:20260505T190000
DESCRIPTION:
LOCATION:
SUMMARY:JH/HS Spring Concert
END:VEVENT
BEGIN:VEVENT
DTSTAMP:20260424T014953Z
UID:faaee734-df43-4db2-b905-aa680c3ddce3
DTSTART:20260506T163000
DTEND:20260506T183000
DESCRIPTION:
LOCATION:
SUMMARY:Baseball vs. Marion C. Early
END:VEVENT
BEGIN:VEVENT
DTSTAMP:20260424T014953Z
UID:22404b83-12aa-4985-a3e7-767463e1e30f
DTSTART:20260507T170000
DTEND:20260507T190000
DESCRIPTION:
LOCATION:
SUMMARY:Baseball vs. Verona
END:VEVENT
BEGIN:VEVENT
DTSTAMP:20260424T014953Z
UID:186d85cb-c6dd-40aa-bf7f-5b71938eed3f
DTSTART:20260511T170000
DTEND:20260511T190000
DESCRIPTION:
LOCATION:
SUMMARY:Baseball @ Exeter
END:VEVENT
BEGIN:VEVENT
DTSTAMP:20260424T014953Z
UID:7139f9d5-facc-46d0-8f6b-bc3d25085142
DTSTART;VALUE=DATE:20260512
DTEND;VALUE=DATE:20260513
DESCRIPTION:
LOCATION:
SUMMARY:Seniors Last Day of Class
END:VEVENT
BEGIN:VEVENT
DTSTAMP:20260424T014953Z
UID:4c3198fc-2cd5-46d1-93ee-d525ef22b491
DTSTART;VALUE=DATE:20260512
DTEND;VALUE=DATE:20260513
DESCRIPTION:
LOCATION:
SUMMARY:Staff / Seniors Volleyball Game
END:VEVENT
BEGIN:VEVENT
DTSTAMP:20260424T014953Z
UID:6aa592f2-8f6a-4aed-99bf-35f42d673328
DTSTART:20260512T170000
DTEND:20260512T190000
DESCRIPTION:
LOCATION:
SUMMARY:Baseball @ Sarcoxie
END:VEVENT
BEGIN:VEVENT
DTSTAMP:20260424T014953Z
UID:7655870e-7845-420d-b179-cca849ce3ff0
DTSTART;VALUE=DATE:20260513
DTEND;VALUE=DATE:20260514
DESCRIPTION:
LOCATION:
SUMMARY:Baccalaureate
END:VEVENT
BEGIN:VEVENT
DTSTAMP:20260424T014953Z
UID:dd1e3566-5b39-4890-8a55-14643ef106cc
DTSTART:20260513T090000
DTEND:20260513T100000
DESCRIPTION:
LOCATION:
SUMMARY:Senior Awards Assembly
END:VEVENT
BEGIN:VEVENT
DTSTAMP:20260424T014953Z
UID:69de689c-8a16-4e5f-a49d-5be84fa2c8f4
DTSTART;VALUE=DATE:20260514
DTEND;VALUE=DATE:20260515
DESCRIPTION:
LOCATION:
SUMMARY:Graduation
END:VEVENT
BEGIN:VEVENT
DTSTAMP:20260424T014953Z
UID:831e5515-2968-4da6-a5a9-0f5d53b9e8cd
DTSTART;VALUE=DATE:20260515
DTEND;VALUE=DATE:20260516
DESCRIPTION:
LOCATION:
SUMMARY:Athletic Banquet
END:VEVENT
BEGIN:VEVENT
DTSTAMP:20260424T014953Z
UID:7c2301f6-cd87-4dd6-9857-e8caed45003f
DTSTART;VALUE=DATE:20260515
DTEND;VALUE=DATE:20260516
DESCRIPTION:
LOCATION:
SUMMARY:Food For America
END:VEVENT
BEGIN:VEVENT
DTSTAMP:20260424T014953Z
UID:39f6eeb4-7060-49e2-9e52-21021d1037e6
DTSTART;VALUE=DATE:20260520
DTEND;VALUE=DATE:20260521
DESCRIPTION:
LOCATION:
SUMMARY:Last Day of School - Early Release
END:VEVENT
BEGIN:VEVENT
DTSTAMP:20260424T014953Z
UID:82c1b477-37d4-4e78-810e-e3405ab0743f
DTSTART;VALUE=DATE:20260825
DTEND;VALUE=DATE:20260826
DESCRIPTION:
LOCATION:
SUMMARY:First Day of School
END:VEVENT
BEGIN:VEVENT
DTSTAMP:20260424T014953Z
UID:5b5f0dad-c2ea-469a-b34b-944cdecb6983
DTSTART;VALUE=DATE:20260829
DTEND;VALUE=DATE:20260830
DESCRIPTION:
LOCATION:
SUMMARY:Wheaton BBQ
END:VEVENT
BEGIN:VEVENT
DTSTAMP:20260424T014953Z
UID:0e3e6842-bb92-4bc3-af94-ec62045841ea
DTSTART;VALUE=DATE:20260907
DTEND;VALUE=DATE:20260908
DESCRIPTION:
LOCATION:
SUMMARY:No School - Labor Day
END:VEVENT
BEGIN:VEVENT
DTSTAMP:20260424T014953Z
UID:925a8c26-3793-4924-af05-2094a8728546
DTSTART;VALUE=DATE:20260918
DTEND;VALUE=DATE:20260919
DESCRIPTION:
LOCATION:
SUMMARY:No School - Professional Development Ozark 7 (Exeter)
END:VEVENT
BEGIN:VEVENT
DTSTAMP:20260424T014953Z
UID:16ff5d9f-4ac0-4e54-9004-561ba412e3db
DTSTART;VALUE=DATE:20261012
DTEND;VALUE=DATE:20261013
DESCRIPTION:
LOCATION:
SUMMARY:No School - Professional Development
END:VEVENT
BEGIN:VEVENT
DTSTAMP:20260424T014953Z
UID:2e68a397-bdf1-4058-8b31-3f1112e49b49
DTSTART;VALUE=DATE:20261016
DTEND;VALUE=DATE:20261017
DESCRIPTION:
LOCATION:
SUMMARY:End of First Quarter
END:VEVENT
BEGIN:VEVENT
DTSTAMP:20260424T014953Z
UID:c5f3434b-d576-41a7-b90b-c78a1eb5508c
DTSTART:20261020T085000
DTEND:20261020T095000
DESCRIPTION:
LOCATION:
SUMMARY:Jostens SR Cap/Gown Information
END:VEVENT
BEGIN:VEVENT
DTSTAMP:20260424T014953Z
UID:d6af50f4-d20e-4f20-a0c7-160daf3fac2f
DTSTART:20261020T093000
DTEND:20261020T103000
DESCRIPTION:
LOCATION:
SUMMARY:Jostens- Sophomore Class Ring Information
END:VEVENT
BEGIN:VEVENT
DTSTAMP:20260424T014953Z
UID:af57cfda-2c94-4684-b432-0670997d34c6
DTSTART;VALUE=DATE:20261029
DTEND;VALUE=DATE:20261030
DESCRIPTION:
LOCATION:
SUMMARY:Early Release - Parent/Teacher Conferences
END:VEVENT
BEGIN:VEVENT
DTSTAMP:20260424T014953Z
UID:39079674-5212-4329-b636-fd616fcc6ed8
DTSTART;VALUE=DATE:20261030
DTEND;VALUE=DATE:20261031
DESCRIPTION:
LOCATION:
SUMMARY:No School - Professional Development
END:VEVENT
BEGIN:VEVENT
DTSTAMP:20260424T014953Z
UID:077f5d9f-9d2b-49ab-92e5-299012ea9373
DTSTART:20261102T093000
DTEND:20261102T103000
DESCRIPTION:
LOCATION:
SUMMARY:Sophomore Class Ring Order Day
END:VEVENT
BEGIN:VEVENT
DTSTAMP:20260424T014953Z
UID:477b812d-1c48-445a-af86-97315ef77712
DTSTART;VALUE=DATE:20261103
DTEND;VALUE=DATE:20261104
DESCRIPTION:
LOCATION:
SUMMARY:Jostens Cap/Gown Order Deadline
END:VEVENT
BEGIN:VEVENT
DTSTAMP:20260424T014953Z
UID:586d5434-3b96-44c6-a959-65c6511faa16
DTSTART;VALUE=DATE:20261123
DTEND;VALUE=DATE:20261128
DESCRIPTION:
LOCATION:
SUMMARY:Thanksgiving Break
END:VEVENT
BEGIN:VEVENT
DTSTAMP:20260424T014953Z
UID:bc891c32-9674-405b-a63c-e6494fd9cf48
DTSTART;VALUE=DATE:20261218
DTEND;VALUE=DATE:20261219
DESCRIPTION:
LOCATION:
SUMMARY:Early Release- Winter Break
END:VEVENT
BEGIN:VEVENT
DTSTAMP:20260424T014953Z
UID:4cd1fd6c-2d8f-4482-8e7f-ca67fde535c0
DTSTART;VALUE=DATE:20261221
DTEND;VALUE=DATE:20270104
DESCRIPTION:
LOCATION:
SUMMARY:Winter Break
END:VEVENT
BEGIN:VEVENT
DTSTAMP:20260424T014953Z
UID:6017819b-8b4a-402a-807f-a5260cfb0732
DTSTART;VALUE=DATE:20270104
DTEND;VALUE=DATE:20270105
DESCRIPTION:
LOCATION:
SUMMARY:No School - Professional Development
END:VEVENT
BEGIN:VEVENT
DTSTAMP:20260424T014953Z
UID:ed989a93-72d7-4706-93a7-bdaee2f76716
DTSTART;VALUE=DATE:20270105
DTEND;VALUE=DATE:20270106
DESCRIPTION:
LOCATION:
SUMMARY:First Day of 2nd Semester
END:VEVENT
BEGIN:VEVENT
DTSTAMP:20260424T014953Z
UID:17d0b656-47a8-4463-b06a-79aeddc5461d
DTSTART;VALUE=DATE:20270118
DTEND;VALUE=DATE:20270119
DESCRIPTION:
LOCATION:
SUMMARY:No School
END:VEVENT
BEGIN:VEVENT
DTSTAMP:20260424T014953Z
UID:5b9787d8-38b9-4f65-9373-a40ed64846b4
DTSTART;VALUE=DATE:20270215
DTEND;VALUE=DATE:20270216
DESCRIPTION:
LOCATION:
SUMMARY:No School - Professional Development
END:VEVENT
BEGIN:VEVENT
DTSTAMP:20260424T014953Z
UID:83c9c44d-eecf-4c7e-9b50-17d3244bd24f
DTSTART;VALUE=DATE:20270312
DTEND;VALUE=DATE:20270313
DESCRIPTION:
LOCATION:
SUMMARY:Early Release- Parent/Teacher Conferences
END:VEVENT
BEGIN:VEVENT
DTSTAMP:20260424T014953Z
UID:f7a4278f-ebd2-4cba-bff1-475561815a63
DTSTART;VALUE=DATE:20270312
DTEND;VALUE=DATE:20270313
DESCRIPTION:
LOCATION:
SUMMARY:End of 3rd Quarter
END:VEVENT
BEGIN:VEVENT
DTSTAMP:20260424T014953Z
UID:64481511-25a1-47cd-954b-f9899c0d4561
DTSTART;VALUE=DATE:20270326
DTEND;VALUE=DATE:20270327
DESCRIPTION:
LOCATION:
SUMMARY:No School - Good Friday
END:VEVENT
BEGIN:VEVENT
DTSTAMP:20260424T014953Z
UID:e1b3fca0-90fe-4f6d-8c1d-05b9cf3fc909
DTSTART;VALUE=DATE:20270329
DTEND;VALUE=DATE:20270403
DESCRIPTION:
LOCATION:
SUMMARY:No School - Spring Break
END:VEVENT
BEGIN:VEVENT
DTSTAMP:20260424T014953Z
UID:c2e0ed9e-6dde-4880-a94c-575b38547e79
DTSTART;VALUE=DATE:20270411
DTEND;VALUE=DATE:20270414
DESCRIPTION:
LOCATION:
SUMMARY:FBLA State Leadership Conf.
END:VEVENT
BEGIN:VEVENT
DTSTAMP:20260424T014953Z
UID:e9eb8690-82a4-4f73-9f78-615a479a68bf
DTSTART;VALUE=DATE:20270414
DTEND;VALUE=DATE:20270417
DESCRIPTION:
LOCATION:
SUMMARY:FFA State Convention
END:VEVENT
BEGIN:VEVENT
DTSTAMP:20260424T014953Z
UID:65adc661-e54b-4641-bb09-7f7bb961383d
DTSTART;VALUE=DATE:20270419
DTEND;VALUE=DATE:20270420
DESCRIPTION:
LOCATION:
SUMMARY:No School - Professional Development
END:VEVENT
BEGIN:VEVENT
DTSTAMP:20260424T014953Z
UID:d240448b-b4cb-415e-9e5e-9b1cd0c0364e
DTSTART;VALUE=DATE:20270527
DTEND;VALUE=DATE:20270528
DESCRIPTION:
LOCATION:
SUMMARY:Last Day of School - Early Release
END:VEVENT
END:VCALENDAR
