BEGIN:VCALENDAR
VERSION:2.0
PRODID:icalendar-ruby
CALSCALE:GREGORIAN
BEGIN:VTIMEZONE
TZID:America/New_York
BEGIN:DAYLIGHT
DTSTART:20260308T030000
TZOFFSETFROM:-0500
TZOFFSETTO:-0400
RRULE:FREQ=YEARLY;BYDAY=2SU;BYMONTH=3
TZNAME:EDT
END:DAYLIGHT
BEGIN:STANDARD
DTSTART:20261101T010000
TZOFFSETFROM:-0400
TZOFFSETTO:-0500
RRULE:FREQ=YEARLY;BYDAY=1SU;BYMONTH=11
TZNAME:EST
END:STANDARD
END:VTIMEZONE
BEGIN:VEVENT
DTSTAMP:20260420T192225Z
UID:894b9ba2-c041-4342-82fb-c9d5c5522455
DTSTART;VALUE=DATE:20260501
DTEND;VALUE=DATE:20260502
DESCRIPTION:
LOCATION:
SUMMARY:Field Day
END:VEVENT
BEGIN:VEVENT
DTSTAMP:20260420T192225Z
UID:6dfd84e1-32b3-472d-801c-21d5253731f0
DTSTART:20260519T130000
DTEND:20260519T140000
DESCRIPTION:
LOCATION:
SUMMARY:D.A.R.E. Graduation
END:VEVENT
BEGIN:VEVENT
DTSTAMP:20260420T192225Z
UID:bf5d7f62-611a-4426-8627-f5ff0a03aaf7
DTSTART;VALUE=DATE:20260525
DTEND;VALUE=DATE:20260526
DESCRIPTION:
LOCATION:
SUMMARY:Memorial Day - NO SCHOOL
END:VEVENT
BEGIN:VEVENT
DTSTAMP:20260420T192225Z
UID:38df279f-8d92-46f2-b807-e0bf7eeb3582
DTSTART;VALUE=DATE:20260528
DTEND;VALUE=DATE:20260529
DESCRIPTION:
LOCATION:
SUMMARY:EOG's begin
END:VEVENT
BEGIN:VEVENT
DTSTAMP:20260420T192225Z
UID:b3b39d30-7c01-4ad2-8db7-65c67561a9e0
DTSTART;VALUE=DATE:20260610
DTEND;VALUE=DATE:20260611
DESCRIPTION:
LOCATION:
SUMMARY:Last Day of School - Early Dismissal at 12:30pm
END:VEVENT
END:VCALENDAR
