BEGIN:VCALENDAR
VERSION:2.0
PRODID:icalendar-ruby
CALSCALE:GREGORIAN
BEGIN:VTIMEZONE
TZID:America/Chicago
BEGIN:DAYLIGHT
DTSTART:20260308T030000
TZOFFSETFROM:-0600
TZOFFSETTO:-0500
RRULE:FREQ=YEARLY;BYDAY=2SU;BYMONTH=3
TZNAME:CDT
END:DAYLIGHT
BEGIN:STANDARD
DTSTART:20261101T010000
TZOFFSETFROM:-0500
TZOFFSETTO:-0600
RRULE:FREQ=YEARLY;BYDAY=1SU;BYMONTH=11
TZNAME:CST
END:STANDARD
END:VTIMEZONE
BEGIN:VEVENT
DTSTAMP:20260419T190903Z
UID:6e48923f-02bb-4271-9443-fe6272dcfa8a
DTSTART:20260417T170000
DTEND:20260420T081500
DESCRIPTION:<p>INVITATION-ONLY EVENT.  This is a reward for students from t
 he Read-A-Thon.  Students may drop their stuffed friend off in the library
  on April 17 and pick up on April 20th.  Follow us on Facebook to see all 
 the fun they have at Malvern during their overnight stay.  </p>
LOCATION:
SUMMARY:Stuffed Animal Sleepover
END:VEVENT
BEGIN:VEVENT
DTSTAMP:20260419T190903Z
UID:a7874a7d-0d4c-419d-a7f8-ea5105a99bcc
DTSTART;VALUE=DATE:20260421
DTEND;VALUE=DATE:20260422
DESCRIPTION:<p>STAAR Testing grades 3-5</p><p>Campus closed to visitors.  <
 /p>
LOCATION:
SUMMARY:STAAR Test:  Closed Campus
END:VEVENT
BEGIN:VEVENT
DTSTAMP:20260419T190903Z
UID:7c0034de-1f21-403c-a687-48c0168af2d1
DTSTART:20260424T081500
DTEND:20260424T090000
DESCRIPTION:<p><a target="_blank" rel="noopener noreferrer nofollow" href="
 https://forms.gle/3RxMdYgFKbdfUvUA7" relative-link="">Parent RSVP</a><span
 > for award winners</span></p>
LOCATION:
SUMMARY:Red Hawk Rally
END:VEVENT
BEGIN:VEVENT
DTSTAMP:20260419T190903Z
UID:893091b4-3e05-4424-9aa5-718eb889abaf
DTSTART;VALUE=DATE:20260427
DTEND;VALUE=DATE:20260428
DESCRIPTION:
LOCATION:
SUMMARY:Bad Weather Day
END:VEVENT
BEGIN:VEVENT
DTSTAMP:20260419T190903Z
UID:a7e6fe1b-c714-4ab3-828f-2b5c7c13d7c7
DTSTART:20260429T170000
DTEND:20260429T180000
DESCRIPTION:
LOCATION:
SUMMARY:Welcome Tour (New Malvern Families)
END:VEVENT
BEGIN:VEVENT
DTSTAMP:20260419T190903Z
UID:f0d2af97-fcf2-4f43-aacc-c02c0b37dc0f
DTSTART;VALUE=DATE:20260504
DTEND;VALUE=DATE:20260505
DESCRIPTION:
LOCATION:
SUMMARY:Field Day
END:VEVENT
BEGIN:VEVENT
DTSTAMP:20260419T190903Z
UID:8065ebd2-7fc5-4a5a-9e74-aa5285989082
DTSTART;VALUE=DATE:20260511
DTEND;VALUE=DATE:20260512
DESCRIPTION:
LOCATION:
SUMMARY:Field Day RAIN DAY (if needed)
END:VEVENT
BEGIN:VEVENT
DTSTAMP:20260419T190903Z
UID:fd04ff23-b041-413a-a48d-0ebeb5b5eea8
DTSTART:20260519T080000
DTEND:20260519T090000
DESCRIPTION:
LOCATION:
SUMMARY:5th Grade Celebration
END:VEVENT
BEGIN:VEVENT
DTSTAMP:20260419T190903Z
UID:e1997487-bffb-4512-b77a-5f79e28cafc5
DTSTART:20260519T080000
DTEND:20260519T090000
DESCRIPTION:
LOCATION:
SUMMARY:Kinder Celebration
END:VEVENT
BEGIN:VEVENT
DTSTAMP:20260419T190903Z
UID:1f8393ba-3c01-4836-b7f2-44b34183dcb0
DTSTART;VALUE=DATE:20260521
DTEND;VALUE=DATE:20260522
DESCRIPTION:
LOCATION:
SUMMARY:Last Day of School 
END:VEVENT
END:VCALENDAR
