BEGIN:VCALENDAR
VERSION:2.0
PRODID:icalendar-ruby
CALSCALE:GREGORIAN
BEGIN:VTIMEZONE
TZID:America/New_York
BEGIN:DAYLIGHT
DTSTART:20260308T030000
TZOFFSETFROM:-0500
TZOFFSETTO:-0400
RRULE:FREQ=YEARLY;BYDAY=2SU;BYMONTH=3
TZNAME:EDT
END:DAYLIGHT
BEGIN:STANDARD
DTSTART:20261101T010000
TZOFFSETFROM:-0400
TZOFFSETTO:-0500
RRULE:FREQ=YEARLY;BYDAY=1SU;BYMONTH=11
TZNAME:EST
END:STANDARD
END:VTIMEZONE
BEGIN:VEVENT
DTSTAMP:20260421T163256Z
UID:0857df73-2915-44cc-9e32-77612504f78e
DTSTART:20260427T173000
DTEND:20260427T183000
DESCRIPTION:
LOCATION:Central Middle School\, 303 E Superior St\, Kokomo\, IN 46901\, US
 A
SUMMARY:AAC Night: Connect & Communicate
END:VEVENT
BEGIN:VEVENT
DTSTAMP:20260421T163256Z
UID:62397f3c-5892-4eca-ba70-8b4a2072f06a
DTSTART:20260429T130000
DTEND:20260429T150000
DESCRIPTION:
LOCATION:1500 S Washington St\, Kokomo\, IN 46902\, USA
SUMMARY:Board Work Session
END:VEVENT
BEGIN:VEVENT
DTSTAMP:20260421T163256Z
UID:2880cae3-474a-4b7d-bffd-3e97e9085de9
DTSTART:20260504T180000
DTEND:20260504T190000
DESCRIPTION:
LOCATION:1500 S Washington St\, Kokomo\, IN 46902\, USA
SUMMARY:School Board Meeting
END:VEVENT
BEGIN:VEVENT
DTSTAMP:20260421T163256Z
UID:544de15c-f5bf-45ef-8fa0-1da11911cdcb
DTSTART:20260521T170000
DTEND:20260521T183000
DESCRIPTION:
LOCATION:
SUMMARY:Taco 'Bout Summer Family Event
END:VEVENT
BEGIN:VEVENT
DTSTAMP:20260421T163256Z
UID:d132aea7-1021-42e0-a069-afcbe7e0e4d5
DTSTART;VALUE=DATE:20260525
DTEND;VALUE=DATE:20260526
DESCRIPTION:
LOCATION:
SUMMARY:Memorial Day (No School)
END:VEVENT
BEGIN:VEVENT
DTSTAMP:20260421T163256Z
UID:b31c578c-c78c-4fb6-9d73-882a3a0a2d11
DTSTART;VALUE=DATE:20260527
DTEND;VALUE=DATE:20260529
DESCRIPTION:
LOCATION:
SUMMARY:Final Exams
END:VEVENT
BEGIN:VEVENT
DTSTAMP:20260421T163256Z
UID:b3f98161-3e54-4754-af0c-061806200009
DTSTART;VALUE=DATE:20260528
DTEND;VALUE=DATE:20260529
DESCRIPTION:
LOCATION:
SUMMARY:End Grading Period 4
END:VEVENT
BEGIN:VEVENT
DTSTAMP:20260421T163256Z
UID:38368504-9188-49ad-a88b-d68e191902f4
DTSTART;VALUE=DATE:20260528
DTEND;VALUE=DATE:20260529
DESCRIPTION:
LOCATION:
SUMMARY:Last Day of School  for Students
END:VEVENT
BEGIN:VEVENT
DTSTAMP:20260421T163256Z
UID:9c1daa8f-66a9-4f99-9e35-22905691ccf6
DTSTART:20260601T180000
DTEND:20260601T190000
DESCRIPTION:
LOCATION:1500 S Washington St\, Kokomo\, IN 46902\, USA
SUMMARY:School Board Meeting
END:VEVENT
BEGIN:VEVENT
DTSTAMP:20260421T163256Z
UID:c19f4d74-601d-457c-9dce-3168889bc2ce
DTSTART:20260605T193000
DTEND:20260605T213000
DESCRIPTION:
LOCATION:Memorial Gymnasium\, 200 S Apperson Way\, Kokomo\, IN 46901\, USA
SUMMARY:KHS Commencement
END:VEVENT
BEGIN:VEVENT
DTSTAMP:20260421T163256Z
UID:b8d2890a-10be-434f-8770-f46362bb78b8
DTSTART:20260701T130000
DTEND:20260701T150000
DESCRIPTION:
LOCATION:1500 S Washington St\, Kokomo\, IN 46902\, USA
SUMMARY:Board Work Session
END:VEVENT
BEGIN:VEVENT
DTSTAMP:20260421T163256Z
UID:5e0eae6b-8ec4-4771-9768-6a19bb3a1318
DTSTART:20260706T180000
DTEND:20260706T190000
DESCRIPTION:
LOCATION:1500 S Washington St\, Kokomo\, IN 46902\, USA
SUMMARY:School Board Meeting
END:VEVENT
BEGIN:VEVENT
DTSTAMP:20260421T163256Z
UID:39d42bf2-009c-42ca-8a01-f5136b6c2ac2
DTSTART:20260707T080000
DTEND:20260707T160000
DESCRIPTION:
LOCATION:
SUMMARY:In-Person Registration
END:VEVENT
BEGIN:VEVENT
DTSTAMP:20260421T163256Z
UID:215ea7b9-485f-4806-a239-baf9a517d3df
DTSTART:20260729T130000
DTEND:20260729T140000
DESCRIPTION:
LOCATION:1500 S Washington St\, Kokomo\, IN 46902\, USA
SUMMARY:Board Work Session
END:VEVENT
BEGIN:VEVENT
DTSTAMP:20260421T163256Z
UID:092c23ac-a75d-41dc-b775-3eca79d730c0
DTSTART:20260803T180000
DTEND:20260803T190000
DESCRIPTION:
LOCATION:1500 S Washington St\, Kokomo\, IN 46902\, USA
SUMMARY:School Board Meeting
END:VEVENT
BEGIN:VEVENT
DTSTAMP:20260421T163256Z
UID:4464e5b3-fdec-4bd4-af22-e027ce644781
DTSTART;VALUE=DATE:20260805
DTEND;VALUE=DATE:20260806
DESCRIPTION:
LOCATION:
SUMMARY:First Day of School for 2026-2027
END:VEVENT
BEGIN:VEVENT
DTSTAMP:20260421T163256Z
UID:30db7c9d-fa64-4ff9-ba05-d3aab669dfc0
DTSTART;VALUE=DATE:20260907
DTEND;VALUE=DATE:20260908
DESCRIPTION:
LOCATION:
SUMMARY:Labor Day - No School
END:VEVENT
BEGIN:VEVENT
DTSTAMP:20260421T163256Z
UID:d93d29ed-b5b1-4164-943b-35f56e4d3de9
DTSTART;VALUE=DATE:20261007
DTEND;VALUE=DATE:20261008
DESCRIPTION:
LOCATION:
SUMMARY:Parent/Teacher Conference Day (No School)
END:VEVENT
BEGIN:VEVENT
DTSTAMP:20260421T163256Z
UID:f6fc0958-c9ee-4613-83ad-98e9ef41000d
DTSTART:20261007T180000
DTEND:20261007T190000
DESCRIPTION:
LOCATION:1500 S Washington St\, Kokomo\, IN 46902\, USA
SUMMARY:School Board Meeting
END:VEVENT
BEGIN:VEVENT
DTSTAMP:20260421T163256Z
UID:6a505702-56dc-4e1d-a1bb-d4d739c901ea
DTSTART;VALUE=DATE:20261019
DTEND;VALUE=DATE:20261024
DESCRIPTION:
LOCATION:
SUMMARY:Fall Break (No School)
END:VEVENT
BEGIN:VEVENT
DTSTAMP:20260421T163256Z
UID:066f0d7a-e410-4e55-9cf2-3ce9eebe1ae6
DTSTART:20261028T130000
DTEND:20261028T140000
DESCRIPTION:
LOCATION:1500 S Washington St\, Kokomo\, IN 46902\, USA
SUMMARY:Board Work Session
END:VEVENT
BEGIN:VEVENT
DTSTAMP:20260421T163256Z
UID:0dc35ff2-7e32-49bb-a282-dc0540ee771b
DTSTART:20261102T180000
DTEND:20261102T190000
DESCRIPTION:
LOCATION:1500 S Washington St\, Kokomo\, IN 46902\, USA
SUMMARY:School Board Meeting
END:VEVENT
BEGIN:VEVENT
DTSTAMP:20260421T163256Z
UID:04f83e06-1a2d-4f8f-9ee9-41c5a5c4ea81
DTSTART;VALUE=DATE:20261125
DTEND;VALUE=DATE:20261128
DESCRIPTION:
LOCATION:
SUMMARY:Thanksgiving Break (No School)
END:VEVENT
BEGIN:VEVENT
DTSTAMP:20260421T163256Z
UID:fb13610f-ae15-424c-83d4-14a888e45c8d
DTSTART:20261202T130000
DTEND:20261202T150000
DESCRIPTION:
LOCATION:1500 S Washington St\, Kokomo\, IN 46902\, USA
SUMMARY:Board Work Session
END:VEVENT
BEGIN:VEVENT
DTSTAMP:20260421T163256Z
UID:5da1b186-e659-42db-8034-b6ed127572d8
DTSTART:20261207T180000
DTEND:20261207T190000
DESCRIPTION:
LOCATION:1500 S Washington St\, Kokomo\, IN 46902\, USA
SUMMARY:School Board Meeting
END:VEVENT
BEGIN:VEVENT
DTSTAMP:20260421T163256Z
UID:b9de0687-bc48-49a0-a488-210142a9cb22
DTSTART;VALUE=DATE:20261217
DTEND;VALUE=DATE:20261219
DESCRIPTION:
LOCATION:
SUMMARY:Final Exams
END:VEVENT
BEGIN:VEVENT
DTSTAMP:20260421T163256Z
UID:aa2a0de6-4a57-4d6f-b35a-9c851dbbcde1
DTSTART;VALUE=DATE:20261221
DTEND;VALUE=DATE:20270102
DESCRIPTION:
LOCATION:
SUMMARY:Winter Break (No School)
END:VEVENT
BEGIN:VEVENT
DTSTAMP:20260421T163256Z
UID:7e33c9e5-1deb-431d-ac08-6abbcb21aba9
DTSTART;VALUE=DATE:20270104
DTEND;VALUE=DATE:20270105
DESCRIPTION:
LOCATION:
SUMMARY:First Day of Second Semester
END:VEVENT
BEGIN:VEVENT
DTSTAMP:20260421T163256Z
UID:68c8c91e-14e5-46e8-8ffa-014a5c2d75b9
DTSTART;VALUE=DATE:20270118
DTEND;VALUE=DATE:20270119
DESCRIPTION:
LOCATION:
SUMMARY:Martin Luther King Jr. Birthday (No School)
END:VEVENT
BEGIN:VEVENT
DTSTAMP:20260421T163256Z
UID:8f3d0bb1-6d49-4627-9bc3-5ceaedd90057
DTSTART;VALUE=DATE:20270215
DTEND;VALUE=DATE:20270216
DESCRIPTION:
LOCATION:
SUMMARY:Presidents Day (Snow Make-up Day)
END:VEVENT
BEGIN:VEVENT
DTSTAMP:20260421T163256Z
UID:5a30ce04-75c6-46fd-b49d-fb6d14c1ee90
DTSTART;VALUE=DATE:20270322
DTEND;VALUE=DATE:20270403
DESCRIPTION:
LOCATION:
SUMMARY:Spring Break (No School)
END:VEVENT
BEGIN:VEVENT
DTSTAMP:20260421T163256Z
UID:2035f5fd-e293-4cd7-89af-eb241c033cf9
DTSTART;VALUE=DATE:20270526
DTEND;VALUE=DATE:20270528
DESCRIPTION:
LOCATION:
SUMMARY:Final Exams
END:VEVENT
BEGIN:VEVENT
DTSTAMP:20260421T163256Z
UID:3bfb748e-651e-4e66-8ab1-c198570efed5
DTSTART;VALUE=DATE:20270527
DTEND;VALUE=DATE:20270528
DESCRIPTION:
LOCATION:
SUMMARY:Last Day of School
END:VEVENT
END:VCALENDAR
