BEGIN:VCALENDAR
VERSION:2.0
PRODID:icalendar-ruby
CALSCALE:GREGORIAN
BEGIN:VTIMEZONE
TZID:America/Chicago
BEGIN:DAYLIGHT
DTSTART:20260308T030000
TZOFFSETFROM:-0600
TZOFFSETTO:-0500
RRULE:FREQ=YEARLY;BYDAY=2SU;BYMONTH=3
TZNAME:CDT
END:DAYLIGHT
BEGIN:STANDARD
DTSTART:20261101T010000
TZOFFSETFROM:-0500
TZOFFSETTO:-0600
RRULE:FREQ=YEARLY;BYDAY=1SU;BYMONTH=11
TZNAME:CST
END:STANDARD
END:VTIMEZONE
BEGIN:VEVENT
DTSTAMP:20260422T163831Z
UID:0c9e0e13-6f7c-4058-a51e-2c256217c363
DTSTART:20260422T171500
DTEND:20260422T200000
DESCRIPTION:<p><em>Regular Board Meetings are the 3rd Monday of each month.
  Special Board Meetings are called as needed.</em></p>
LOCATION:City Council Chambers
SUMMARY:School Board Meeting
END:VEVENT
BEGIN:VEVENT
DTSTAMP:20260422T163831Z
UID:a92f73f8-f486-4dd1-9bff-073d56ca868e
DTSTART:20260511T180000
DTEND:20260511T200000
DESCRIPTION:<p><em>Regular Board Meetings are the 3rd Monday of each month.
  Special Board Meetings are called as needed.</em></p>
LOCATION:City Council Chambers
SUMMARY:School Board Meeting
END:VEVENT
BEGIN:VEVENT
DTSTAMP:20260422T163831Z
UID:9254425e-ee0a-4b23-b00f-06cca1439e77
DTSTART:20260517T140000
DTEND:20260517T160000
DESCRIPTION:<p><span>2026 Graduation <br>JBU Bill George Arena<br>2:00</spa
 n></p>
LOCATION:1215 W Valley Dr\, Siloam Springs\, AR 72761\, USA
SUMMARY:2026 Graduation
END:VEVENT
BEGIN:VEVENT
DTSTAMP:20260422T163831Z
UID:a0c8f280-7b92-4051-9625-88a49795a37e
DTSTART;VALUE=DATE:20260525
DTEND;VALUE=DATE:20260526
DESCRIPTION:
LOCATION:
SUMMARY:Memorial Day (No school)
END:VEVENT
BEGIN:VEVENT
DTSTAMP:20260422T163831Z
UID:363b75dc-295a-49a3-af7d-2e98a9c41a83
DTSTART;VALUE=DATE:20260526
DTEND;VALUE=DATE:20260527
DESCRIPTION:<p>Due to inclement weather. </p>
LOCATION:
SUMMARY:Make-up Day Three
END:VEVENT
BEGIN:VEVENT
DTSTAMP:20260422T163831Z
UID:11c806b6-afe7-4187-b0df-090075222a10
DTSTART;VALUE=DATE:20260527
DTEND;VALUE=DATE:20260528
DESCRIPTION:<p>Due to inclement weather. </p>
LOCATION:
SUMMARY:Make-up Day Four
END:VEVENT
BEGIN:VEVENT
DTSTAMP:20260422T163831Z
UID:5acc74b2-a0a2-4527-97da-8a8596100707
DTSTART;VALUE=DATE:20260528
DTEND;VALUE=DATE:20260529
DESCRIPTION:
LOCATION:
SUMMARY:Last day of school and end of 4th quarter(91 days)
END:VEVENT
BEGIN:VEVENT
DTSTAMP:20260422T163831Z
UID:fd3d6060-f732-4a65-b424-aa711dfd48e2
DTSTART;VALUE=DATE:20260528
DTEND;VALUE=DATE:20260529
DESCRIPTION:<p>Due to inclement weather. </p>
LOCATION:
SUMMARY:Make-up Day Five
END:VEVENT
BEGIN:VEVENT
DTSTAMP:20260422T163831Z
UID:42f3dc8a-92d4-47d9-99d6-225658533332
DTSTART:20260615T180000
DTEND:20260615T200000
DESCRIPTION:<p><em>Regular Board Meetings are the 3rd Monday of each month.
  Special Board Meetings are called as needed.</em></p>
LOCATION:City Council Chambers
SUMMARY:School Board Meeting
END:VEVENT
BEGIN:VEVENT
DTSTAMP:20260422T163831Z
UID:d0dd5c33-38b3-450d-b373-008d9a9aee58
DTSTART:20260806T170000
DTEND:20260806T190000
DESCRIPTION:
LOCATION:
SUMMARY:Middle School & High School Open House
END:VEVENT
BEGIN:VEVENT
DTSTAMP:20260422T163831Z
UID:88d66326-862d-4c5e-b57d-494a27d558d4
DTSTART:20260807T170000
DTEND:20260807T190000
DESCRIPTION:
LOCATION:
SUMMARY:Primary School Open House
END:VEVENT
BEGIN:VEVENT
DTSTAMP:20260422T163831Z
UID:6fc9517d-5090-4091-bc4d-b2ab20cd0e29
DTSTART:20260810T170000
DTEND:20260810T190000
DESCRIPTION:
LOCATION:
SUMMARY:Intermediate School Open House
END:VEVENT
END:VCALENDAR
