BEGIN:VCALENDAR
VERSION:2.0
PRODID:icalendar-ruby
CALSCALE:GREGORIAN
BEGIN:VTIMEZONE
TZID:America/New_York
BEGIN:DAYLIGHT
DTSTART:20260308T030000
TZOFFSETFROM:-0500
TZOFFSETTO:-0400
RRULE:FREQ=YEARLY;BYDAY=2SU;BYMONTH=3
TZNAME:EDT
END:DAYLIGHT
BEGIN:STANDARD
DTSTART:20261101T010000
TZOFFSETFROM:-0400
TZOFFSETTO:-0500
RRULE:FREQ=YEARLY;BYDAY=1SU;BYMONTH=11
TZNAME:EST
END:STANDARD
END:VTIMEZONE
BEGIN:VEVENT
DTSTAMP:20260421T163834Z
UID:fe97253e-c492-4f16-9362-f11107ab63fc
DTSTART;VALUE=DATE:20260422
DTEND;VALUE=DATE:20260423
DESCRIPTION:
LOCATION:Chapel Hill High School 
SUMMARY:LEAP Field Day
END:VEVENT
BEGIN:VEVENT
DTSTAMP:20260421T163834Z
UID:ecefbd61-b39a-4819-a068-d6609a216e82
DTSTART;VALUE=DATE:20260515
DTEND;VALUE=DATE:20260516
DESCRIPTION:
LOCATION:
SUMMARY:Last Day of School for LEAP Students
END:VEVENT
BEGIN:VEVENT
DTSTAMP:20260421T163834Z
UID:33617cc6-16e5-47b1-8efd-ae282ae86b7f
DTSTART;VALUE=DATE:20260519
DTEND;VALUE=DATE:20260521
DESCRIPTION:
LOCATION:
SUMMARY:Half Days\, All Students
END:VEVENT
BEGIN:VEVENT
DTSTAMP:20260421T163834Z
UID:a284f867-4f81-48d3-b55a-ef1e73a1d1b5
DTSTART;VALUE=DATE:20260520
DTEND;VALUE=DATE:20260523
DESCRIPTION:
LOCATION:
SUMMARY:High School Graduations
END:VEVENT
BEGIN:VEVENT
DTSTAMP:20260421T163834Z
UID:2517409f-4174-4d27-aec1-fbb42556e56b
DTSTART;VALUE=DATE:20260520
DTEND;VALUE=DATE:20260521
DESCRIPTION:
LOCATION:
SUMMARY:Semester Ends
END:VEVENT
BEGIN:VEVENT
DTSTAMP:20260421T163834Z
UID:dea385f4-8807-4f7a-868e-cde65da167a5
DTSTART;VALUE=DATE:20260521
DTEND;VALUE=DATE:20260523
DESCRIPTION:
LOCATION:
SUMMARY:Post Planning
END:VEVENT
BEGIN:VEVENT
DTSTAMP:20260421T163834Z
UID:3ee3562f-f240-4d2c-b180-559c36ca9535
DTSTART;VALUE=DATE:20260525
DTEND;VALUE=DATE:20260526
DESCRIPTION:
LOCATION:
SUMMARY:Holiday for All
END:VEVENT
BEGIN:VEVENT
DTSTAMP:20260421T163834Z
UID:1faf0534-51bd-4b46-9a0e-544e71391827
DTSTART;VALUE=DATE:20260526
DTEND;VALUE=DATE:20260527
DESCRIPTION:
LOCATION:
SUMMARY:Professional Learning
END:VEVENT
BEGIN:VEVENT
DTSTAMP:20260421T163834Z
UID:1ff03b36-2bb4-479d-a7d4-a938a3684bd9
DTSTART;VALUE=DATE:20260605
DTEND;VALUE=DATE:20260606
DESCRIPTION:
LOCATION:
SUMMARY:202 Last Day
END:VEVENT
BEGIN:VEVENT
DTSTAMP:20260421T163834Z
UID:427aa21e-2267-4448-ab50-6bf35bb9b028
DTSTART;VALUE=DATE:20260612
DTEND;VALUE=DATE:20260613
DESCRIPTION:
LOCATION:
SUMMARY:207 Last Day
END:VEVENT
BEGIN:VEVENT
DTSTAMP:20260421T163834Z
UID:5352d686-47ba-4879-9716-5d805ddae91f
DTSTART;VALUE=DATE:20260619
DTEND;VALUE=DATE:20260620
DESCRIPTION:
LOCATION:
SUMMARY:Holiday for All
END:VEVENT
BEGIN:VEVENT
DTSTAMP:20260421T163834Z
UID:6058379c-9592-4d49-8797-fc05a28d7b4c
DTSTART;VALUE=DATE:20260622
DTEND;VALUE=DATE:20260623
DESCRIPTION:
LOCATION:
SUMMARY:212 Last Day
END:VEVENT
BEGIN:VEVENT
DTSTAMP:20260421T163834Z
UID:ea296c34-c6cb-4e3b-8541-850b05f8d8d8
DTSTART;VALUE=DATE:20260629
DTEND;VALUE=DATE:20260704
DESCRIPTION:
LOCATION:
SUMMARY:Holidays for All (Exc. 246)
END:VEVENT
END:VCALENDAR
