BEGIN:VCALENDAR
VERSION:2.0
PRODID:icalendar-ruby
CALSCALE:GREGORIAN
BEGIN:VTIMEZONE
TZID:America/New_York
BEGIN:DAYLIGHT
DTSTART:20260308T030000
TZOFFSETFROM:-0500
TZOFFSETTO:-0400
RRULE:FREQ=YEARLY;BYDAY=2SU;BYMONTH=3
TZNAME:EDT
END:DAYLIGHT
BEGIN:STANDARD
DTSTART:20261101T010000
TZOFFSETFROM:-0400
TZOFFSETTO:-0500
RRULE:FREQ=YEARLY;BYDAY=1SU;BYMONTH=11
TZNAME:EST
END:STANDARD
END:VTIMEZONE
BEGIN:VEVENT
DTSTAMP:20260420T233522Z
UID:a130c1a5-ee41-41d4-a591-dc37b5f9cc35
DTSTART:20260507T180000
DTEND:20260507T193000
DESCRIPTION:
LOCATION:1052 Jer Les St\, Milford\, OH 45150\, USA
SUMMARY:4th Grade Music Showcase 
END:VEVENT
BEGIN:VEVENT
DTSTAMP:20260420T233522Z
UID:ce8d9b41-1838-479a-b62e-9ea0f894696c
DTSTART:20260508T190000
DTEND:20260508T203000
DESCRIPTION:
LOCATION:1052 Jer Les St
SUMMARY:Boyd E. Smith PTO 5th grade Send Off
END:VEVENT
BEGIN:VEVENT
DTSTAMP:20260420T233522Z
UID:23e69bb4-ab17-4579-a6a5-9f0403b4ba2a
DTSTART:20260514T180000
DTEND:20260514T193000
DESCRIPTION:
LOCATION:1052 Jer Les St\, Milford\, OH 45150\, USA
SUMMARY:Art Show
END:VEVENT
BEGIN:VEVENT
DTSTAMP:20260420T233522Z
UID:951903e2-8448-49c2-a8fe-e7ebf6270c90
DTSTART;VALUE=DATE:20260519
DTEND;VALUE=DATE:20260520
DESCRIPTION:
LOCATION:1052 Jer Les St\, Milford\, OH 45150\, USA
SUMMARY:Field Day
END:VEVENT
BEGIN:VEVENT
DTSTAMP:20260420T233522Z
UID:3ef745fd-17be-4def-86c5-0679efa69837
DTSTART:20260520T180000
DTEND:20260520T190000
DESCRIPTION:
LOCATION:1052 Jer Les St\, Milford\, OH 45150\, USA
SUMMARY:5th Grade Recognition
END:VEVENT
END:VCALENDAR
