BEGIN:VCALENDAR
VERSION:2.0
PRODID:icalendar-ruby
CALSCALE:GREGORIAN
BEGIN:VTIMEZONE
TZID:America/Chicago
BEGIN:DAYLIGHT
DTSTART:20260308T030000
TZOFFSETFROM:-0600
TZOFFSETTO:-0500
RRULE:FREQ=YEARLY;BYDAY=2SU;BYMONTH=3
TZNAME:CDT
END:DAYLIGHT
BEGIN:STANDARD
DTSTART:20261101T010000
TZOFFSETFROM:-0500
TZOFFSETTO:-0600
RRULE:FREQ=YEARLY;BYDAY=1SU;BYMONTH=11
TZNAME:CST
END:STANDARD
END:VTIMEZONE
BEGIN:VEVENT
DTSTAMP:20260426T014119Z
UID:45b424c7-9309-4ab4-8d6d-9a6038fd56b8
DTSTART:20260430T143000
DTEND:20260430T150000
DESCRIPTION:
LOCATION:N2575 Snake Rd\, Lake Geneva\, WI 53147\, USA
SUMMARY:HATS - 1st & 2nd Grade Play
END:VEVENT
BEGIN:VEVENT
DTSTAMP:20260426T014119Z
UID:1d3e36b8-6c4f-4ad6-a0b8-c6f3763065a0
DTSTART:20260501T091500
DTEND:20260501T094500
DESCRIPTION:
LOCATION:N2575 Snake Rd\, Lake Geneva\, WI 53147\, USA
SUMMARY:HATS - 1st & 2nd Grade Play
END:VEVENT
BEGIN:VEVENT
DTSTAMP:20260426T014119Z
UID:2bb83a12-b7d2-4546-abf3-a728fd714f9f
DTSTART:20260506T080000
DTEND:20260508T120000
DESCRIPTION:
LOCATION:
SUMMARY:7th Grade OE
END:VEVENT
BEGIN:VEVENT
DTSTAMP:20260426T014119Z
UID:99951c79-c112-482c-9df7-45d7e073bcfa
DTSTART:20260512T183000
DTEND:20260512T193000
DESCRIPTION:
LOCATION:
SUMMARY:Spring Concert 
END:VEVENT
BEGIN:VEVENT
DTSTAMP:20260426T014119Z
UID:3d83c5aa-b31b-488d-be86-e3428a314414
DTSTART:20260514T100000
DTEND:20260514T160000
DESCRIPTION:
LOCATION:1 Brewers Way\, Milwaukee\, WI 53214\, USA
SUMMARY:5TH - 8TH GRADE FIELD TRIP
END:VEVENT
BEGIN:VEVENT
DTSTAMP:20260426T014119Z
UID:87d3bc8f-71c3-4300-9a55-9921aa344282
DTSTART:20260520T173000
DTEND:20260520T190000
DESCRIPTION:
LOCATION:
SUMMARY:Art Night 
END:VEVENT
BEGIN:VEVENT
DTSTAMP:20260426T014119Z
UID:c43669ab-15dc-4c7f-8e42-26b3980d2b08
DTSTART:20260525T080000
DTEND:20260525T090000
DESCRIPTION:
LOCATION:
SUMMARY:No School - Memorial Day
END:VEVENT
BEGIN:VEVENT
DTSTAMP:20260426T014119Z
UID:0222eef5-197d-4252-b8f4-62d9b18cecbf
DTSTART:20260601T180000
DTEND:20260601T193000
DESCRIPTION:
LOCATION:
SUMMARY:8th Grade Graduation
END:VEVENT
BEGIN:VEVENT
DTSTAMP:20260426T014119Z
UID:4c8e4561-ca49-42a2-a2bc-7f5539571024
DTSTART:20260602T080000
DTEND:20260602T090000
DESCRIPTION:
LOCATION:
SUMMARY:Field Day
END:VEVENT
BEGIN:VEVENT
DTSTAMP:20260426T014119Z
UID:cbd4e80f-5323-4b38-bab8-21a3fb1527c3
DTSTART:20260603T080000
DTEND:20260603T090000
DESCRIPTION:
LOCATION:
SUMMARY:Last Day / Early Release
END:VEVENT
END:VCALENDAR
