BEGIN:VCALENDAR
VERSION:2.0
PRODID:icalendar-ruby
CALSCALE:GREGORIAN
BEGIN:VTIMEZONE
TZID:America/Juneau
BEGIN:DAYLIGHT
DTSTART:20260308T030000
TZOFFSETFROM:-0900
TZOFFSETTO:-0800
RRULE:FREQ=YEARLY;BYDAY=2SU;BYMONTH=3
TZNAME:AKDT
END:DAYLIGHT
BEGIN:STANDARD
DTSTART:20261101T010000
TZOFFSETFROM:-0800
TZOFFSETTO:-0900
RRULE:FREQ=YEARLY;BYDAY=1SU;BYMONTH=11
TZNAME:AKST
END:STANDARD
END:VTIMEZONE
BEGIN:VEVENT
DTSTAMP:20260425T010502Z
UID:a3b0dcc7-df5e-483a-9dca-58d681ea8b41
DTSTART;VALUE=DATE:20260501
DTEND;VALUE=DATE:20260502
DESCRIPTION:
LOCATION:
SUMMARY:Testing Window Ends
END:VEVENT
BEGIN:VEVENT
DTSTAMP:20260425T010502Z
UID:09ad730a-5f06-4ca7-9ce8-67834551a144
DTSTART;VALUE=DATE:20260507
DTEND;VALUE=DATE:20260508
DESCRIPTION:
LOCATION:Jimmy Huntington School\, Huslia
SUMMARY:School Board Meeting
END:VEVENT
BEGIN:VEVENT
DTSTAMP:20260425T010502Z
UID:90a2ce50-887c-4370-ae40-14219f2105ac
DTSTART;VALUE=DATE:20260515
DTEND;VALUE=DATE:20260516
DESCRIPTION:
LOCATION:Andrew K. Demoski School\, Nulato
SUMMARY:Andrew K. Demoski School Graduation
END:VEVENT
BEGIN:VEVENT
DTSTAMP:20260425T010502Z
UID:30d21241-f1e9-4588-b53b-62bbb19c4c11
DTSTART;VALUE=DATE:20260515
DTEND;VALUE=DATE:20260516
DESCRIPTION:
LOCATION:Jimmy Huntington School\, Huslia
SUMMARY:Jimmy Huntington School Graduation
END:VEVENT
BEGIN:VEVENT
DTSTAMP:20260425T010502Z
UID:5f2ceec4-2996-4129-ac0f-51f0cc26bc65
DTSTART;VALUE=DATE:20260515
DTEND;VALUE=DATE:20260516
DESCRIPTION:
LOCATION:Minto School\, Minto
SUMMARY:Minto School Graduation
END:VEVENT
BEGIN:VEVENT
DTSTAMP:20260425T010502Z
UID:8b4fa653-98fd-424e-9c9e-643cc4ebac60
DTSTART;VALUE=DATE:20260518
DTEND;VALUE=DATE:20260519
DESCRIPTION:
LOCATION:Kaltag School\, Kaltag
SUMMARY:Kaltag School Graduation
END:VEVENT
BEGIN:VEVENT
DTSTAMP:20260425T010502Z
UID:32a6533e-dd75-4a0a-9813-da25ef6fdf3f
DTSTART;VALUE=DATE:20260520
DTEND;VALUE=DATE:20260521
DESCRIPTION:
LOCATION:Allakaket School\, Allakaket
SUMMARY:Allakaket School Graduation
END:VEVENT
BEGIN:VEVENT
DTSTAMP:20260425T010502Z
UID:42891a86-778a-4375-b69a-df901eab691a
DTSTART;VALUE=DATE:20260520
DTEND;VALUE=DATE:20260521
DESCRIPTION:
LOCATION:Ella B. Vernetti School\, Koyukuk
SUMMARY:Ella B. Vernetti School Graduation
END:VEVENT
BEGIN:VEVENT
DTSTAMP:20260425T010502Z
UID:7478a608-6e4b-4a3f-9e09-444156dae807
DTSTART;VALUE=DATE:20260520
DTEND;VALUE=DATE:20260521
DESCRIPTION:
LOCATION:Merreline A. Kangas School\, Ruby
SUMMARY:Merreline A. Kangas School Graduation
END:VEVENT
BEGIN:VEVENT
DTSTAMP:20260425T010502Z
UID:21aacb5b-fe4f-4c77-9fda-3c8bdcd6f796
DTSTART;VALUE=DATE:20260521
DTEND;VALUE=DATE:20260522
DESCRIPTION:
LOCATION:Maudrey J. Sommer School\, Tanana
SUMMARY:Maudrey J. Sommer School Graduation
END:VEVENT
BEGIN:VEVENT
DTSTAMP:20260425T010502Z
UID:cfcb5165-eff4-4eb5-8e82-29ca0f1d0e84
DTSTART;VALUE=DATE:20260522
DTEND;VALUE=DATE:20260523
DESCRIPTION:
LOCATION:
SUMMARY:Last Day of School for Students/Report Cards
END:VEVENT
BEGIN:VEVENT
DTSTAMP:20260425T010502Z
UID:283dab43-dde0-4031-a84f-7e9bf3b0a4f4
DTSTART;VALUE=DATE:20260525
DTEND;VALUE=DATE:20260526
DESCRIPTION:
LOCATION:
SUMMARY:Memorial Holiday
END:VEVENT
BEGIN:VEVENT
DTSTAMP:20260425T010502Z
UID:a4fdcf65-e369-4f52-a26b-c26c51e238cc
DTSTART;VALUE=DATE:20260704
DTEND;VALUE=DATE:20260705
DESCRIPTION:
LOCATION:
SUMMARY:4th of July Holiday
END:VEVENT
BEGIN:VEVENT
DTSTAMP:20260425T010502Z
UID:b5978e98-6cea-4911-9206-d03efdb2342a
DTSTART;VALUE=DATE:20270704
DTEND;VALUE=DATE:20270705
DESCRIPTION:
LOCATION:
SUMMARY:4th of July Holiday
END:VEVENT
BEGIN:VEVENT
DTSTAMP:20260425T010502Z
UID:13b857de-92d5-4b59-9ee4-4abc42e8b6ce
DTSTART;VALUE=DATE:20280704
DTEND;VALUE=DATE:20280705
DESCRIPTION:
LOCATION:
SUMMARY:4th of July Holiday
END:VEVENT
BEGIN:VEVENT
DTSTAMP:20260425T010502Z
UID:cb95ce90-84e4-4191-b98a-de4702228d0c
DTSTART;VALUE=DATE:20290704
DTEND;VALUE=DATE:20290705
DESCRIPTION:
LOCATION:
SUMMARY:4th of July Holiday
END:VEVENT
BEGIN:VEVENT
DTSTAMP:20260425T010502Z
UID:9401bd22-4271-4704-88de-7423b80730d6
DTSTART;VALUE=DATE:20300704
DTEND;VALUE=DATE:20300705
DESCRIPTION:
LOCATION:
SUMMARY:4th of July Holiday
END:VEVENT
BEGIN:VEVENT
DTSTAMP:20260425T010502Z
UID:bace413b-9db6-4f56-b967-99c693798e10
DTSTART;VALUE=DATE:20310704
DTEND;VALUE=DATE:20310705
DESCRIPTION:
LOCATION:
SUMMARY:4th of July Holiday
END:VEVENT
BEGIN:VEVENT
DTSTAMP:20260425T010502Z
UID:a6db7c64-a237-404b-9c26-ab78e24303ae
DTSTART;VALUE=DATE:20320704
DTEND;VALUE=DATE:20320705
DESCRIPTION:
LOCATION:
SUMMARY:4th of July Holiday
END:VEVENT
BEGIN:VEVENT
DTSTAMP:20260425T010502Z
UID:9c7c2fc8-c119-4a5c-9078-ef21a12e24c5
DTSTART;VALUE=DATE:20330704
DTEND;VALUE=DATE:20330705
DESCRIPTION:
LOCATION:
SUMMARY:4th of July Holiday
END:VEVENT
END:VCALENDAR
