BEGIN:VCALENDAR
VERSION:2.0
PRODID:icalendar-ruby
CALSCALE:GREGORIAN
BEGIN:VTIMEZONE
TZID:America/Indiana/Indianapolis
BEGIN:DAYLIGHT
DTSTART:20260308T030000
TZOFFSETFROM:-0500
TZOFFSETTO:-0400
RRULE:FREQ=YEARLY;BYDAY=2SU;BYMONTH=3
TZNAME:EDT
END:DAYLIGHT
BEGIN:STANDARD
DTSTART:20261101T010000
TZOFFSETFROM:-0400
TZOFFSETTO:-0500
RRULE:FREQ=YEARLY;BYDAY=1SU;BYMONTH=11
TZNAME:EST
END:STANDARD
END:VTIMEZONE
BEGIN:VEVENT
DTSTAMP:20260423T122748Z
UID:ba2ad5b1-516d-4406-a505-3d35e27e9aa5
DTSTART:20260518T163000
DTEND:20260518T183000
DESCRIPTION:District wide STEM and Literacy event offering stations\, book 
 giveaways\, food\, summer learning packs\, science show\, robotics team de
 monstration\, magic show\, local authors.
LOCATION:Moorhead Community Resource Center\, 8400 E 10th St\, Indianapolis
 \, IN 46219\, USA
SUMMARY:A Night of Wonder: STEM and Literacy Magic 
END:VEVENT
BEGIN:VEVENT
DTSTAMP:20260423T122748Z
UID:fdaa1478-4125-4f8b-b04e-90a5fc1abadd
DTSTART:20260520T183000
DTEND:20260520T203000
DESCRIPTION:<u></u>The Board’s meeting site is fully accessible to all pe
 rsons. Any person requiring further accommodation should contact the Super
 intendent&#39\;s Office at the Warren Education and Community Center at 31
 7-869-4346.<br><br><p><b>Safety Notifications:</b></p><p>Board meeting att
 endees will be required to follow Marion County Public Health Department r
 ecommendations. Guidelines for social distancing will be in place. Masks a
 re optional.</p><p>In an effort to protect the health\, welfare\, and safe
 ty of students\, staff\, parents\, community members\, other visitors and 
 Corporation property\, board meeting attendees and their bags will be requ
 ired to be screened by a metal detector prior to entering the board meetin
 g room.</p><p>Board meetings are streamed live and are recorded.</p><u></u
 >
LOCATION:Warren Education & Community Center\, 975 N. Post Road\, 46219
SUMMARY:Regular School Board Meeting
END:VEVENT
BEGIN:VEVENT
DTSTAMP:20260423T122748Z
UID:82708a80-a8f6-4a2f-8be3-b4e6997c239f
DTSTART;VALUE=DATE:20260522
DTEND;VALUE=DATE:20260523
DESCRIPTION:<p>Last Day for Students\, Early Dismissal</p><ul><li><p>K-4: 2
 :05 PM</p><p></p></li><li><p>5-8: 2:55 PM</p></li><li><p> 9-12: 12:30 PM</
 p></li></ul>
LOCATION:
SUMMARY:Last Day for Students\, Early Dismissal
END:VEVENT
BEGIN:VEVENT
DTSTAMP:20260423T122748Z
UID:df260097-f0e1-4204-871b-f34ac6fde6b9
DTSTART:20260522T123000
DTEND:20260522T160000
DESCRIPTION:K-4:    2:00 PM • 5-8:     2:55 PM • 9-12:  12:30 PM
LOCATION:
SUMMARY:Last Day for Students\, Early Dismissal 
END:VEVENT
BEGIN:VEVENT
DTSTAMP:20260423T122748Z
UID:012b0a4d-4f40-426d-99e3-1250ed7e6e61
DTSTART;VALUE=DATE:20260525
DTEND;VALUE=DATE:20260526
DESCRIPTION:
LOCATION:
SUMMARY:Memorial Day
END:VEVENT
BEGIN:VEVENT
DTSTAMP:20260423T122748Z
UID:46c30366-8782-4a0e-9600-47208458bc88
DTSTART:20260617T183000
DTEND:20260617T203000
DESCRIPTION:<u></u>The Board’s meeting site is fully accessible to all pe
 rsons. Any person requiring further accommodation should contact the Super
 intendent&#39\;s Office at the Warren Education and Community Center at 31
 7-869-4346.<br><br><p><b>Safety Notifications:</b></p><p>Board meeting att
 endees will be required to follow Marion County Public Health Department r
 ecommendations. Guidelines for social distancing will be in place. Masks a
 re optional.</p><p>In an effort to protect the health\, welfare\, and safe
 ty of students\, staff\, parents\, community members\, other visitors and 
 Corporation property\, board meeting attendees and their bags will be requ
 ired to be screened by a metal detector prior to entering the board meetin
 g room.</p><p>Board meetings are streamed live and are recorded.</p><u></u
 >
LOCATION:Warren Education & Community Center\, 975 N. Post Road\, 46219
SUMMARY:Regular School Board Meeting
END:VEVENT
BEGIN:VEVENT
DTSTAMP:20260423T122748Z
UID:e1223481-0277-4ede-87f3-c1ceb7135f1d
DTSTART;VALUE=DATE:20260619
DTEND;VALUE=DATE:20260620
DESCRIPTION:
LOCATION:
SUMMARY:Juneteenth
END:VEVENT
BEGIN:VEVENT
DTSTAMP:20260423T122748Z
UID:b823b00b-6272-403c-8228-3bfb631a01b3
DTSTART:20260715T183000
DTEND:20260715T203000
DESCRIPTION:<u></u>The Board’s meeting site is fully accessible to all pe
 rsons. Any person requiring further accommodation should contact the Super
 intendent&#39\;s Office at the Warren Education and Community Center at 31
 7-869-4346.<br><br><p><b>Safety Notifications:</b></p><p>Board meeting att
 endees will be required to follow Marion County Public Health Department r
 ecommendations. Guidelines for social distancing will be in place. Masks a
 re optional.</p><p>In an effort to protect the health\, welfare\, and safe
 ty of students\, staff\, parents\, community members\, other visitors and 
 Corporation property\, board meeting attendees and their bags will be requ
 ired to be screened by a metal detector prior to entering the board meetin
 g room.</p><p>Board meetings are streamed live and are recorded.</p><u></u
 >
LOCATION:Warren Education & Community Center\, 975 N. Post Road\, 46219
SUMMARY:Regular School Board Meeting
END:VEVENT
BEGIN:VEVENT
DTSTAMP:20260423T122748Z
UID:28e75caa-fb87-458d-9891-78edb5b1415e
DTSTART:20260730T120000
DTEND:20260730T130000
DESCRIPTION:
LOCATION:
SUMMARY:First Day for K - 9 Students (note: eLearning Day for 10 – 12 Stu
 dents on Feb. 15)
END:VEVENT
BEGIN:VEVENT
DTSTAMP:20260423T122748Z
UID:a7b75204-137d-4df0-9498-fddd945702d3
DTSTART:20260819T183000
DTEND:20260819T203000
DESCRIPTION:<u></u>The Board’s meeting site is fully accessible to all pe
 rsons. Any person requiring further accommodation should contact the Super
 intendent&#39\;s Office at the Warren Education and Community Center at 31
 7-869-4346.<br><br><p><b>Safety Notifications:</b></p><p>Board meeting att
 endees will be required to follow Marion County Public Health Department r
 ecommendations. Guidelines for social distancing will be in place. Masks a
 re optional.</p><p>In an effort to protect the health\, welfare\, and safe
 ty of students\, staff\, parents\, community members\, other visitors and 
 Corporation property\, board meeting attendees and their bags will be requ
 ired to be screened by a metal detector prior to entering the board meetin
 g room.</p><p>Board meetings are streamed live and are recorded.</p><u></u
 >
LOCATION:Warren Education & Community Center\, 975 N. Post Road\, 46219
SUMMARY:Regular School Board Meeting
END:VEVENT
BEGIN:VEVENT
DTSTAMP:20260423T122748Z
UID:e01ca521-265d-4800-9144-abe605226e74
DTSTART:20260916T183000
DTEND:20260916T203000
DESCRIPTION:<u></u>The Board’s meeting site is fully accessible to all pe
 rsons. Any person requiring further accommodation should contact the Super
 intendent&#39\;s Office at the Warren Education and Community Center at 31
 7-869-4346.<br><br><p><b>Safety Notifications:</b></p><p>Board meeting att
 endees will be required to follow Marion County Public Health Department r
 ecommendations. Guidelines for social distancing will be in place. Masks a
 re optional.</p><p>In an effort to protect the health\, welfare\, and safe
 ty of students\, staff\, parents\, community members\, other visitors and 
 Corporation property\, board meeting attendees and their bags will be requ
 ired to be screened by a metal detector prior to entering the board meetin
 g room.</p><p>Board meetings are streamed live and are recorded.</p><u></u
 >
LOCATION:Warren Education & Community Center\, 975 N. Post Road\, 46219
SUMMARY:Regular School Board Meeting
END:VEVENT
BEGIN:VEVENT
DTSTAMP:20260423T122748Z
UID:4d0d5cce-6b31-49c1-97a2-5b634a72dfed
DTSTART:20261021T183000
DTEND:20261021T203000
DESCRIPTION:<u></u>The Board’s meeting site is fully accessible to all pe
 rsons. Any person requiring further accommodation should contact the Super
 intendent&#39\;s Office at the Warren Education and Community Center at 31
 7-869-4346.<br><br><p><b>Safety Notifications:</b></p><p>Board meeting att
 endees will be required to follow Marion County Public Health Department r
 ecommendations. Guidelines for social distancing will be in place. Masks a
 re optional.</p><p>In an effort to protect the health\, welfare\, and safe
 ty of students\, staff\, parents\, community members\, other visitors and 
 Corporation property\, board meeting attendees and their bags will be requ
 ired to be screened by a metal detector prior to entering the board meetin
 g room.</p><p>Board meetings are streamed live and are recorded.</p><u></u
 >
LOCATION:Warren Education & Community Center\, 975 N. Post Road\, 46219
SUMMARY:Regular School Board Meeting
END:VEVENT
BEGIN:VEVENT
DTSTAMP:20260423T122748Z
UID:b6cc6a8d-9741-4367-850e-589edc455a8a
DTSTART:20261118T183000
DTEND:20261118T203000
DESCRIPTION:<u></u>The Board’s meeting site is fully accessible to all pe
 rsons. Any person requiring further accommodation should contact the Super
 intendent&#39\;s Office at the Warren Education and Community Center at 31
 7-869-4346.<br><br><p><b>Safety Notifications:</b></p><p>Board meeting att
 endees will be required to follow Marion County Public Health Department r
 ecommendations. Guidelines for social distancing will be in place. Masks a
 re optional.</p><p>In an effort to protect the health\, welfare\, and safe
 ty of students\, staff\, parents\, community members\, other visitors and 
 Corporation property\, board meeting attendees and their bags will be requ
 ired to be screened by a metal detector prior to entering the board meetin
 g room.</p><p>Board meetings are streamed live and are recorded.</p><u></u
 >
LOCATION:Warren Education & Community Center\, 975 N. Post Road\, 46219
SUMMARY:Regular School Board Meeting
END:VEVENT
BEGIN:VEVENT
DTSTAMP:20260423T122748Z
UID:62bdae43-a30d-4115-82be-f718a2d30f81
DTSTART:20261216T183000
DTEND:20261216T203000
DESCRIPTION:<u></u>The Board’s meeting site is fully accessible to all pe
 rsons. Any person requiring further accommodation should contact the Super
 intendent&#39\;s Office at the Warren Education and Community Center at 31
 7-869-4346.<br><br><p><b>Safety Notifications:</b></p><p>Board meeting att
 endees will be required to follow Marion County Public Health Department r
 ecommendations. Guidelines for social distancing will be in place. Masks a
 re optional.</p><p>In an effort to protect the health\, welfare\, and safe
 ty of students\, staff\, parents\, community members\, other visitors and 
 Corporation property\, board meeting attendees and their bags will be requ
 ired to be screened by a metal detector prior to entering the board meetin
 g room.</p><p>Board meetings are streamed live and are recorded.</p><u></u
 >
LOCATION:Warren Education & Community Center\, 975 N. Post Road\, 46219
SUMMARY:Regular School Board Meeting
END:VEVENT
BEGIN:VEVENT
DTSTAMP:20260423T122748Z
UID:a156bb63-7728-4df9-8bbf-2d08ef13dba3
DTSTART:20270120T183000
DTEND:20270120T203000
DESCRIPTION:<u></u>The Board’s meeting site is fully accessible to all pe
 rsons. Any person requiring further accommodation should contact the Super
 intendent&#39\;s Office at the Warren Education and Community Center at 31
 7-869-4346.<br><br><p><b>Safety Notifications:</b></p><p>Board meeting att
 endees will be required to follow Marion County Public Health Department r
 ecommendations. Guidelines for social distancing will be in place. Masks a
 re optional.</p><p>In an effort to protect the health\, welfare\, and safe
 ty of students\, staff\, parents\, community members\, other visitors and 
 Corporation property\, board meeting attendees and their bags will be requ
 ired to be screened by a metal detector prior to entering the board meetin
 g room.</p><p>Board meetings are streamed live and are recorded.</p><u></u
 >
LOCATION:Warren Education & Community Center\, 975 N. Post Road\, 46219
SUMMARY:Regular School Board Meeting
END:VEVENT
END:VCALENDAR
