BEGIN:VCALENDAR
VERSION:2.0
PRODID:icalendar-ruby
CALSCALE:GREGORIAN
BEGIN:VTIMEZONE
TZID:America/New_York
BEGIN:DAYLIGHT
DTSTART:20260308T030000
TZOFFSETFROM:-0500
TZOFFSETTO:-0400
RRULE:FREQ=YEARLY;BYDAY=2SU;BYMONTH=3
TZNAME:EDT
END:DAYLIGHT
BEGIN:STANDARD
DTSTART:20261101T010000
TZOFFSETFROM:-0400
TZOFFSETTO:-0500
RRULE:FREQ=YEARLY;BYDAY=1SU;BYMONTH=11
TZNAME:EST
END:STANDARD
END:VTIMEZONE
BEGIN:VEVENT
DTSTAMP:20260421T101117Z
UID:e78abaa9-3137-4e99-8ef9-905f5659a92a
DTSTART;VALUE=DATE:20260422
DTEND;VALUE=DATE:20260423
DESCRIPTION:
LOCATION:
SUMMARY:Early Release Wednesday
END:VEVENT
BEGIN:VEVENT
DTSTAMP:20260421T101117Z
UID:f6fb3c9e-1c8a-47d1-addd-4a559bb261dd
DTSTART;VALUE=DATE:20260506
DTEND;VALUE=DATE:20260507
DESCRIPTION:
LOCATION:
SUMMARY:Early Release Wednesday
END:VEVENT
BEGIN:VEVENT
DTSTAMP:20260421T101117Z
UID:5225ca3a-5189-49f3-ab50-6bf925c04ca2
DTSTART;VALUE=DATE:20260513
DTEND;VALUE=DATE:20260514
DESCRIPTION:
LOCATION:
SUMMARY:Early Release Wednesday
END:VEVENT
BEGIN:VEVENT
DTSTAMP:20260421T101117Z
UID:b66e491b-35df-42a5-b6ee-17c526eaf7b2
DTSTART:20260514T183000
DTEND:20260514T193000
DESCRIPTION:
LOCATION:275 N Fremont St\, Coldwater\, MI 49036\, USA
SUMMARY:LMS Spring Band Concert (at CHS)
END:VEVENT
BEGIN:VEVENT
DTSTAMP:20260421T101117Z
UID:e9c84a62-cb41-4cc4-bed1-7da62f4044b9
DTSTART:20260519T180000
DTEND:20260519T183000
DESCRIPTION:
LOCATION:175 Green St\, Coldwater\, MI 49036\, USA
SUMMARY:LMS 6th Grade Honors Night
END:VEVENT
BEGIN:VEVENT
DTSTAMP:20260421T101117Z
UID:0b93f53b-be21-4230-97f4-1af9c9dc79e3
DTSTART:20260519T190000
DTEND:20260519T193000
DESCRIPTION:
LOCATION:175 Green St\, Coldwater\, MI 49036\, USA
SUMMARY:LMS 7th Grade Honors Night
END:VEVENT
BEGIN:VEVENT
DTSTAMP:20260421T101117Z
UID:8077c7d4-bc41-4be3-bb17-2496da6405e8
DTSTART;VALUE=DATE:20260520
DTEND;VALUE=DATE:20260521
DESCRIPTION:
LOCATION:
SUMMARY:Early Release Wednesday
END:VEVENT
BEGIN:VEVENT
DTSTAMP:20260421T101117Z
UID:c4241120-dd3e-491d-b5c0-bd80f5a270ac
DTSTART:20260520T190000
DTEND:20260520T200000
DESCRIPTION:
LOCATION:275 N Fremont St\, Coldwater\, MI 49036\, USA
SUMMARY:LMS Spring Choir Concert (at CHS)
END:VEVENT
BEGIN:VEVENT
DTSTAMP:20260421T101117Z
UID:b48dae84-58a4-44bb-a7bb-2b90428f31db
DTSTART:20260521T180000
DTEND:20260521T190000
DESCRIPTION:
LOCATION:175 Green St\, Coldwater\, MI 49036\, USA
SUMMARY:LMS 8th Grade Honors Night
END:VEVENT
BEGIN:VEVENT
DTSTAMP:20260421T101117Z
UID:b4fce15f-9ced-4d0a-b6ac-3ca8f3681222
DTSTART;VALUE=DATE:20260525
DTEND;VALUE=DATE:20260526
DESCRIPTION:
LOCATION:
SUMMARY:Memorial Day - NO SCHOOL
END:VEVENT
BEGIN:VEVENT
DTSTAMP:20260421T101117Z
UID:60e7d126-4ba3-4b56-957d-0936b0b3357d
DTSTART;VALUE=DATE:20260529
DTEND;VALUE=DATE:20260530
DESCRIPTION:
LOCATION:
SUMMARY:Last Day of Classes - HALF DAY of Classes in AM - Records Day in PM
END:VEVENT
BEGIN:VEVENT
DTSTAMP:20260421T101117Z
UID:9dd593e6-bc32-4696-81ad-8443e567ac2f
DTSTART;VALUE=DATE:20260917
DTEND;VALUE=DATE:20260918
DESCRIPTION:
LOCATION:
SUMMARY:Constitution Day
END:VEVENT
BEGIN:VEVENT
DTSTAMP:20260421T101117Z
UID:a8830788-ef40-4bc0-89a1-ae9f07c1ca75
DTSTART;VALUE=DATE:20270917
DTEND;VALUE=DATE:20270918
DESCRIPTION:
LOCATION:
SUMMARY:Constitution Day
END:VEVENT
BEGIN:VEVENT
DTSTAMP:20260421T101117Z
UID:5cfd3a2b-deac-4916-824f-dba9cdd1c2e4
DTSTART;VALUE=DATE:20280917
DTEND;VALUE=DATE:20280918
DESCRIPTION:
LOCATION:
SUMMARY:Constitution Day
END:VEVENT
BEGIN:VEVENT
DTSTAMP:20260421T101117Z
UID:9bef485a-6163-455a-9c97-1fc32619bde7
DTSTART;VALUE=DATE:20290917
DTEND;VALUE=DATE:20290918
DESCRIPTION:
LOCATION:
SUMMARY:Constitution Day
END:VEVENT
BEGIN:VEVENT
DTSTAMP:20260421T101117Z
UID:8c08f96f-5220-48a8-85ea-16f35ae34de4
DTSTART;VALUE=DATE:20300917
DTEND;VALUE=DATE:20300918
DESCRIPTION:
LOCATION:
SUMMARY:Constitution Day
END:VEVENT
BEGIN:VEVENT
DTSTAMP:20260421T101117Z
UID:e665d188-bc6b-48d7-943a-713ba4d08535
DTSTART;VALUE=DATE:20310917
DTEND;VALUE=DATE:20310918
DESCRIPTION:
LOCATION:
SUMMARY:Constitution Day
END:VEVENT
BEGIN:VEVENT
DTSTAMP:20260421T101117Z
UID:11076fe0-89eb-46eb-8d0e-86022b710850
DTSTART;VALUE=DATE:20320917
DTEND;VALUE=DATE:20320918
DESCRIPTION:
LOCATION:
SUMMARY:Constitution Day
END:VEVENT
BEGIN:VEVENT
DTSTAMP:20260421T101117Z
UID:a7e303fc-40af-43d4-bcaa-d24d97de0690
DTSTART;VALUE=DATE:20330917
DTEND;VALUE=DATE:20330918
DESCRIPTION:
LOCATION:
SUMMARY:Constitution Day
END:VEVENT
BEGIN:VEVENT
DTSTAMP:20260421T101117Z
UID:6b386fc7-f184-4db4-aabe-4cdfb0f0ee76
DTSTART;VALUE=DATE:20340917
DTEND;VALUE=DATE:20340918
DESCRIPTION:
LOCATION:
SUMMARY:Constitution Day
END:VEVENT
BEGIN:VEVENT
DTSTAMP:20260421T101117Z
UID:b0a1a840-0cd9-475f-9a97-a93355b5345c
DTSTART;VALUE=DATE:20350917
DTEND;VALUE=DATE:20350918
DESCRIPTION:
LOCATION:
SUMMARY:Constitution Day
END:VEVENT
BEGIN:VEVENT
DTSTAMP:20260421T101117Z
UID:b5a8ee83-3d84-448a-89e2-bdba79d794dc
DTSTART;VALUE=DATE:20360917
DTEND;VALUE=DATE:20360918
DESCRIPTION:
LOCATION:
SUMMARY:Constitution Day
END:VEVENT
BEGIN:VEVENT
DTSTAMP:20260421T101117Z
UID:bfe5a6b6-cc98-4107-9e28-f38b2abaa1a1
DTSTART;VALUE=DATE:20370917
DTEND;VALUE=DATE:20370918
DESCRIPTION:
LOCATION:
SUMMARY:Constitution Day
END:VEVENT
BEGIN:VEVENT
DTSTAMP:20260421T101117Z
UID:c291910a-1eca-4ab4-b0c0-cd39ad998092
DTSTART;VALUE=DATE:20380917
DTEND;VALUE=DATE:20380918
DESCRIPTION:
LOCATION:
SUMMARY:Constitution Day
END:VEVENT
BEGIN:VEVENT
DTSTAMP:20260421T101117Z
UID:ea144b92-aa5c-4b87-b19d-92ea1064a334
DTSTART;VALUE=DATE:20390917
DTEND;VALUE=DATE:20390918
DESCRIPTION:
LOCATION:
SUMMARY:Constitution Day
END:VEVENT
BEGIN:VEVENT
DTSTAMP:20260421T101117Z
UID:c25d3e2b-8661-4bf6-816a-48398b124036
DTSTART;VALUE=DATE:20400917
DTEND;VALUE=DATE:20400918
DESCRIPTION:
LOCATION:
SUMMARY:Constitution Day
END:VEVENT
BEGIN:VEVENT
DTSTAMP:20260421T101117Z
UID:6058d8cf-a592-4aeb-a90d-5d00075baf82
DTSTART;VALUE=DATE:20410917
DTEND;VALUE=DATE:20410918
DESCRIPTION:
LOCATION:
SUMMARY:Constitution Day
END:VEVENT
BEGIN:VEVENT
DTSTAMP:20260421T101117Z
UID:f9d40e04-7ef2-4789-b6d6-9cc67f30b63b
DTSTART;VALUE=DATE:20420917
DTEND;VALUE=DATE:20420918
DESCRIPTION:
LOCATION:
SUMMARY:Constitution Day
END:VEVENT
BEGIN:VEVENT
DTSTAMP:20260421T101117Z
UID:eabdcf35-4539-4c55-b951-3a76a7463584
DTSTART;VALUE=DATE:20430917
DTEND;VALUE=DATE:20430918
DESCRIPTION:
LOCATION:
SUMMARY:Constitution Day
END:VEVENT
BEGIN:VEVENT
DTSTAMP:20260421T101117Z
UID:4ccbfb1d-70e8-4ab0-bf8e-095271209ad7
DTSTART;VALUE=DATE:20440917
DTEND;VALUE=DATE:20440918
DESCRIPTION:
LOCATION:
SUMMARY:Constitution Day
END:VEVENT
BEGIN:VEVENT
DTSTAMP:20260421T101117Z
UID:e4954f80-5084-4593-93bd-8d586a690841
DTSTART;VALUE=DATE:20450917
DTEND;VALUE=DATE:20450918
DESCRIPTION:
LOCATION:
SUMMARY:Constitution Day
END:VEVENT
BEGIN:VEVENT
DTSTAMP:20260421T101117Z
UID:25c193c6-939a-4d61-9f71-b4a99aec4f43
DTSTART;VALUE=DATE:20460917
DTEND;VALUE=DATE:20460918
DESCRIPTION:
LOCATION:
SUMMARY:Constitution Day
END:VEVENT
BEGIN:VEVENT
DTSTAMP:20260421T101117Z
UID:227a5d5c-73bd-4b5d-b206-d74f8e14a524
DTSTART;VALUE=DATE:20470917
DTEND;VALUE=DATE:20470918
DESCRIPTION:
LOCATION:
SUMMARY:Constitution Day
END:VEVENT
BEGIN:VEVENT
DTSTAMP:20260421T101117Z
UID:f44ee3c5-b6cc-430d-977b-741c2ba83798
DTSTART;VALUE=DATE:20480917
DTEND;VALUE=DATE:20480918
DESCRIPTION:
LOCATION:
SUMMARY:Constitution Day
END:VEVENT
BEGIN:VEVENT
DTSTAMP:20260421T101117Z
UID:fed5434a-7d5a-490e-a90a-1f7689817967
DTSTART;VALUE=DATE:20490917
DTEND;VALUE=DATE:20490918
DESCRIPTION:
LOCATION:
SUMMARY:Constitution Day
END:VEVENT
BEGIN:VEVENT
DTSTAMP:20260421T101117Z
UID:0091f394-1b8f-49ed-9708-9549415a514a
DTSTART;VALUE=DATE:20500917
DTEND;VALUE=DATE:20500918
DESCRIPTION:
LOCATION:
SUMMARY:Constitution Day
END:VEVENT
BEGIN:VEVENT
DTSTAMP:20260421T101117Z
UID:f9e7ca7d-70d9-4055-b65c-1b7eea6fa286
DTSTART;VALUE=DATE:20510917
DTEND;VALUE=DATE:20510918
DESCRIPTION:
LOCATION:
SUMMARY:Constitution Day
END:VEVENT
BEGIN:VEVENT
DTSTAMP:20260421T101117Z
UID:fd29f72c-5eae-41bf-b749-518f4316b927
DTSTART;VALUE=DATE:20520917
DTEND;VALUE=DATE:20520918
DESCRIPTION:
LOCATION:
SUMMARY:Constitution Day
END:VEVENT
BEGIN:VEVENT
DTSTAMP:20260421T101117Z
UID:f13129c1-e567-4245-8e57-c3f7b960b84f
DTSTART;VALUE=DATE:20530917
DTEND;VALUE=DATE:20530918
DESCRIPTION:
LOCATION:
SUMMARY:Constitution Day
END:VEVENT
BEGIN:VEVENT
DTSTAMP:20260421T101117Z
UID:1025b5af-6a74-4459-828b-54b04a5e79b1
DTSTART;VALUE=DATE:20540917
DTEND;VALUE=DATE:20540918
DESCRIPTION:
LOCATION:
SUMMARY:Constitution Day
END:VEVENT
BEGIN:VEVENT
DTSTAMP:20260421T101117Z
UID:174a1148-3fcb-4a13-82f6-d7fb894eb43b
DTSTART;VALUE=DATE:20550917
DTEND;VALUE=DATE:20550918
DESCRIPTION:
LOCATION:
SUMMARY:Constitution Day
END:VEVENT
BEGIN:VEVENT
DTSTAMP:20260421T101117Z
UID:38917e25-60bf-4d7b-9325-4c7bf3ab8f25
DTSTART;VALUE=DATE:20560917
DTEND;VALUE=DATE:20560918
DESCRIPTION:
LOCATION:
SUMMARY:Constitution Day
END:VEVENT
BEGIN:VEVENT
DTSTAMP:20260421T101117Z
UID:0ec05ac3-f3c2-471a-aea4-4aa97cd9b4d5
DTSTART;VALUE=DATE:20570917
DTEND;VALUE=DATE:20570918
DESCRIPTION:
LOCATION:
SUMMARY:Constitution Day
END:VEVENT
BEGIN:VEVENT
DTSTAMP:20260421T101117Z
UID:ff218e99-6f96-4f73-881b-9f3060b71166
DTSTART;VALUE=DATE:20580917
DTEND;VALUE=DATE:20580918
DESCRIPTION:
LOCATION:
SUMMARY:Constitution Day
END:VEVENT
BEGIN:VEVENT
DTSTAMP:20260421T101117Z
UID:e6c41369-0353-4966-b62a-184bd55e0754
DTSTART;VALUE=DATE:20590917
DTEND;VALUE=DATE:20590918
DESCRIPTION:
LOCATION:
SUMMARY:Constitution Day
END:VEVENT
BEGIN:VEVENT
DTSTAMP:20260421T101117Z
UID:deaaf64e-e9eb-4dd4-ad43-78f9326f88ff
DTSTART;VALUE=DATE:20600917
DTEND;VALUE=DATE:20600918
DESCRIPTION:
LOCATION:
SUMMARY:Constitution Day
END:VEVENT
BEGIN:VEVENT
DTSTAMP:20260421T101117Z
UID:8989b705-03a7-4a50-8534-c8aa1a02c28c
DTSTART;VALUE=DATE:20610917
DTEND;VALUE=DATE:20610918
DESCRIPTION:
LOCATION:
SUMMARY:Constitution Day
END:VEVENT
BEGIN:VEVENT
DTSTAMP:20260421T101117Z
UID:199091ca-84ff-4dac-8996-5fcd477cdc07
DTSTART;VALUE=DATE:20620917
DTEND;VALUE=DATE:20620918
DESCRIPTION:
LOCATION:
SUMMARY:Constitution Day
END:VEVENT
BEGIN:VEVENT
DTSTAMP:20260421T101117Z
UID:fa993266-95b0-44e8-88ed-bbe0cb35430e
DTSTART;VALUE=DATE:20630917
DTEND;VALUE=DATE:20630918
DESCRIPTION:
LOCATION:
SUMMARY:Constitution Day
END:VEVENT
BEGIN:VEVENT
DTSTAMP:20260421T101117Z
UID:1f01fc59-f691-416d-899d-fca62f338544
DTSTART;VALUE=DATE:20640917
DTEND;VALUE=DATE:20640918
DESCRIPTION:
LOCATION:
SUMMARY:Constitution Day
END:VEVENT
BEGIN:VEVENT
DTSTAMP:20260421T101117Z
UID:2baff941-4ebc-4ece-b99d-2a9e8edf023e
DTSTART;VALUE=DATE:20650917
DTEND;VALUE=DATE:20650918
DESCRIPTION:
LOCATION:
SUMMARY:Constitution Day
END:VEVENT
BEGIN:VEVENT
DTSTAMP:20260421T101117Z
UID:d3c86561-59bf-4fab-9e16-3bbcc81fc063
DTSTART;VALUE=DATE:20660917
DTEND;VALUE=DATE:20660918
DESCRIPTION:
LOCATION:
SUMMARY:Constitution Day
END:VEVENT
BEGIN:VEVENT
DTSTAMP:20260421T101117Z
UID:2b17b50d-ac2f-4934-b362-5d36db6b2824
DTSTART;VALUE=DATE:20670917
DTEND;VALUE=DATE:20670918
DESCRIPTION:
LOCATION:
SUMMARY:Constitution Day
END:VEVENT
BEGIN:VEVENT
DTSTAMP:20260421T101117Z
UID:e731fabc-e64a-48f7-a265-6d231e42b663
DTSTART;VALUE=DATE:20680917
DTEND;VALUE=DATE:20680918
DESCRIPTION:
LOCATION:
SUMMARY:Constitution Day
END:VEVENT
BEGIN:VEVENT
DTSTAMP:20260421T101117Z
UID:f35ee0d4-42f8-441f-9d63-04c634787595
DTSTART;VALUE=DATE:20690917
DTEND;VALUE=DATE:20690918
DESCRIPTION:
LOCATION:
SUMMARY:Constitution Day
END:VEVENT
BEGIN:VEVENT
DTSTAMP:20260421T101117Z
UID:ec014530-87ca-4d35-a870-417b0ae27765
DTSTART;VALUE=DATE:20700917
DTEND;VALUE=DATE:20700918
DESCRIPTION:
LOCATION:
SUMMARY:Constitution Day
END:VEVENT
BEGIN:VEVENT
DTSTAMP:20260421T101117Z
UID:7925b0a9-fb13-4a76-b6a9-bfde849cf065
DTSTART;VALUE=DATE:20710917
DTEND;VALUE=DATE:20710918
DESCRIPTION:
LOCATION:
SUMMARY:Constitution Day
END:VEVENT
BEGIN:VEVENT
DTSTAMP:20260421T101117Z
UID:438ea4a5-b652-441f-9608-fcf0c63205e4
DTSTART;VALUE=DATE:20720917
DTEND;VALUE=DATE:20720918
DESCRIPTION:
LOCATION:
SUMMARY:Constitution Day
END:VEVENT
BEGIN:VEVENT
DTSTAMP:20260421T101117Z
UID:4deaf616-4c64-4265-9e88-8881d8f23d73
DTSTART;VALUE=DATE:20730917
DTEND;VALUE=DATE:20730918
DESCRIPTION:
LOCATION:
SUMMARY:Constitution Day
END:VEVENT
BEGIN:VEVENT
DTSTAMP:20260421T101117Z
UID:a1086f7b-0be9-4a86-a3f1-dabb418d70fb
DTSTART;VALUE=DATE:20740917
DTEND;VALUE=DATE:20740918
DESCRIPTION:
LOCATION:
SUMMARY:Constitution Day
END:VEVENT
BEGIN:VEVENT
DTSTAMP:20260421T101117Z
UID:bf73d81f-6632-40fa-862e-858755e71832
DTSTART;VALUE=DATE:20750917
DTEND;VALUE=DATE:20750918
DESCRIPTION:
LOCATION:
SUMMARY:Constitution Day
END:VEVENT
BEGIN:VEVENT
DTSTAMP:20260421T101117Z
UID:d8a1ce3c-2f76-464c-8dcc-1fa6c20e0075
DTSTART;VALUE=DATE:20760917
DTEND;VALUE=DATE:20760918
DESCRIPTION:
LOCATION:
SUMMARY:Constitution Day
END:VEVENT
BEGIN:VEVENT
DTSTAMP:20260421T101117Z
UID:40c3487c-1b10-4890-b7a1-25c1b8a505d6
DTSTART;VALUE=DATE:20770917
DTEND;VALUE=DATE:20770918
DESCRIPTION:
LOCATION:
SUMMARY:Constitution Day
END:VEVENT
BEGIN:VEVENT
DTSTAMP:20260421T101117Z
UID:bd5057af-1a07-441c-b771-45519a47baa4
DTSTART;VALUE=DATE:20780917
DTEND;VALUE=DATE:20780918
DESCRIPTION:
LOCATION:
SUMMARY:Constitution Day
END:VEVENT
BEGIN:VEVENT
DTSTAMP:20260421T101117Z
UID:009c9940-725c-4159-ba0a-9e336c6481e8
DTSTART;VALUE=DATE:20790917
DTEND;VALUE=DATE:20790918
DESCRIPTION:
LOCATION:
SUMMARY:Constitution Day
END:VEVENT
BEGIN:VEVENT
DTSTAMP:20260421T101117Z
UID:1a7040b2-28fc-41c0-9e89-e203dd047b19
DTSTART;VALUE=DATE:20800917
DTEND;VALUE=DATE:20800918
DESCRIPTION:
LOCATION:
SUMMARY:Constitution Day
END:VEVENT
BEGIN:VEVENT
DTSTAMP:20260421T101117Z
UID:efc1df09-9aa9-4a39-8e99-a9bb0b0b0aa1
DTSTART;VALUE=DATE:20810917
DTEND;VALUE=DATE:20810918
DESCRIPTION:
LOCATION:
SUMMARY:Constitution Day
END:VEVENT
BEGIN:VEVENT
DTSTAMP:20260421T101117Z
UID:9f2bf96e-0b73-4e90-80d3-84ef32212b62
DTSTART;VALUE=DATE:20820917
DTEND;VALUE=DATE:20820918
DESCRIPTION:
LOCATION:
SUMMARY:Constitution Day
END:VEVENT
BEGIN:VEVENT
DTSTAMP:20260421T101117Z
UID:a461bea5-7844-44ca-a736-c7acc3f7ce87
DTSTART;VALUE=DATE:20830917
DTEND;VALUE=DATE:20830918
DESCRIPTION:
LOCATION:
SUMMARY:Constitution Day
END:VEVENT
BEGIN:VEVENT
DTSTAMP:20260421T101117Z
UID:45b0121a-bc77-4097-a197-e146eaec88d3
DTSTART;VALUE=DATE:20840917
DTEND;VALUE=DATE:20840918
DESCRIPTION:
LOCATION:
SUMMARY:Constitution Day
END:VEVENT
BEGIN:VEVENT
DTSTAMP:20260421T101117Z
UID:5062a9a9-8b1a-475e-91e6-d8ca4d8f842a
DTSTART;VALUE=DATE:20850917
DTEND;VALUE=DATE:20850918
DESCRIPTION:
LOCATION:
SUMMARY:Constitution Day
END:VEVENT
BEGIN:VEVENT
DTSTAMP:20260421T101117Z
UID:4a5a7851-030d-4414-9059-09dd9c891502
DTSTART;VALUE=DATE:20860917
DTEND;VALUE=DATE:20860918
DESCRIPTION:
LOCATION:
SUMMARY:Constitution Day
END:VEVENT
BEGIN:VEVENT
DTSTAMP:20260421T101117Z
UID:4270066b-e64e-480c-94ee-acee8d6dc215
DTSTART;VALUE=DATE:20870917
DTEND;VALUE=DATE:20870918
DESCRIPTION:
LOCATION:
SUMMARY:Constitution Day
END:VEVENT
BEGIN:VEVENT
DTSTAMP:20260421T101117Z
UID:099126d1-6078-4e1c-b82f-0be1ab7e7163
DTSTART;VALUE=DATE:20880917
DTEND;VALUE=DATE:20880918
DESCRIPTION:
LOCATION:
SUMMARY:Constitution Day
END:VEVENT
BEGIN:VEVENT
DTSTAMP:20260421T101117Z
UID:917b8562-5cfd-4946-a25d-4a7bbc95bbd0
DTSTART;VALUE=DATE:20890917
DTEND;VALUE=DATE:20890918
DESCRIPTION:
LOCATION:
SUMMARY:Constitution Day
END:VEVENT
BEGIN:VEVENT
DTSTAMP:20260421T101117Z
UID:7e93cf4e-c91f-4d80-9fbe-d34b106cc66a
DTSTART;VALUE=DATE:20900917
DTEND;VALUE=DATE:20900918
DESCRIPTION:
LOCATION:
SUMMARY:Constitution Day
END:VEVENT
BEGIN:VEVENT
DTSTAMP:20260421T101117Z
UID:957ab87f-352b-4027-8c25-b42922ae1368
DTSTART;VALUE=DATE:20910917
DTEND;VALUE=DATE:20910918
DESCRIPTION:
LOCATION:
SUMMARY:Constitution Day
END:VEVENT
BEGIN:VEVENT
DTSTAMP:20260421T101117Z
UID:b4e0c1f5-3df2-4313-b237-c9c036dde137
DTSTART;VALUE=DATE:20920917
DTEND;VALUE=DATE:20920918
DESCRIPTION:
LOCATION:
SUMMARY:Constitution Day
END:VEVENT
BEGIN:VEVENT
DTSTAMP:20260421T101117Z
UID:3a4089de-65b5-43b7-ba83-428faafb6e99
DTSTART;VALUE=DATE:20930917
DTEND;VALUE=DATE:20930918
DESCRIPTION:
LOCATION:
SUMMARY:Constitution Day
END:VEVENT
BEGIN:VEVENT
DTSTAMP:20260421T101117Z
UID:9fc56191-e978-4ca5-816d-0160cca58397
DTSTART;VALUE=DATE:20940917
DTEND;VALUE=DATE:20940918
DESCRIPTION:
LOCATION:
SUMMARY:Constitution Day
END:VEVENT
BEGIN:VEVENT
DTSTAMP:20260421T101117Z
UID:0578081f-54e9-42bf-80b7-73d1f761bd18
DTSTART;VALUE=DATE:20950917
DTEND;VALUE=DATE:20950918
DESCRIPTION:
LOCATION:
SUMMARY:Constitution Day
END:VEVENT
BEGIN:VEVENT
DTSTAMP:20260421T101117Z
UID:477c74c7-5b1b-4b2c-9ca0-9e494138db39
DTSTART;VALUE=DATE:20960917
DTEND;VALUE=DATE:20960918
DESCRIPTION:
LOCATION:
SUMMARY:Constitution Day
END:VEVENT
BEGIN:VEVENT
DTSTAMP:20260421T101117Z
UID:5b118363-0cfa-48e2-a12b-66551f70f1c8
DTSTART;VALUE=DATE:20970917
DTEND;VALUE=DATE:20970918
DESCRIPTION:
LOCATION:
SUMMARY:Constitution Day
END:VEVENT
BEGIN:VEVENT
DTSTAMP:20260421T101117Z
UID:e82e212b-4c72-4fa5-88fe-83ec5449aad6
DTSTART;VALUE=DATE:20980917
DTEND;VALUE=DATE:20980918
DESCRIPTION:
LOCATION:
SUMMARY:Constitution Day
END:VEVENT
BEGIN:VEVENT
DTSTAMP:20260421T101117Z
UID:8e6c5e4e-c323-4e9e-a5e0-f636a71b7541
DTSTART;VALUE=DATE:20990917
DTEND;VALUE=DATE:20990918
DESCRIPTION:
LOCATION:
SUMMARY:Constitution Day
END:VEVENT
END:VCALENDAR
