BEGIN:VCALENDAR
VERSION:2.0
PRODID:icalendar-ruby
CALSCALE:GREGORIAN
BEGIN:VTIMEZONE
TZID:America/Los_Angeles
BEGIN:DAYLIGHT
DTSTART:20260308T030000
TZOFFSETFROM:-0800
TZOFFSETTO:-0700
RRULE:FREQ=YEARLY;BYDAY=2SU;BYMONTH=3
TZNAME:PDT
END:DAYLIGHT
BEGIN:STANDARD
DTSTART:20261101T010000
TZOFFSETFROM:-0700
TZOFFSETTO:-0800
RRULE:FREQ=YEARLY;BYDAY=1SU;BYMONTH=11
TZNAME:PST
END:STANDARD
END:VTIMEZONE
BEGIN:VEVENT
DTSTAMP:20260421T042155Z
UID:8e2124e5-b1f5-4fb1-957a-47528617cd4a
DTSTART:20260421T100000
DTEND:20260421T100000
DESCRIPTION:<p dir="ltr">Join us for a <b>Hiring Presentation &amp\; Q&amp\
 ;A</b> to learn about career opportunities with the Los Angeles Police Dep
 artment.</p><p dir="ltr">Get details on the hiring process\, benefits\, an
 d speak directly with LAPD representatives.</p><ul><li dir="ltr"><p dir="l
 tr"><b>To register:</b> Email your name and phone number to <b>44356@LAPD.
 online</b></p></li></ul><p dir="ltr">Feel free to share with others who ma
 y be interested.</p>
LOCATION:West Adams WorkSource Center\, 2900 S Crenshaw Blvd\, Los Angeles\
 , CA 90016\, USA
SUMMARY:LAPD Job Fair
END:VEVENT
BEGIN:VEVENT
DTSTAMP:20260421T042155Z
UID:31d28be3-7886-4fad-b55d-48c3b2ed99d5
DTSTART:20260422T090000
DTEND:20260422T090000
DESCRIPTION:<p dir="ltr">This is a great opportunity for individuals with e
 xperience in electrical and mechanical fields. Available positions include
 :</p><ul><li dir="ltr"><p dir="ltr">Electrician Specialist (1st Shift)</p>
 </li><li dir="ltr"><p dir="ltr">Electrician A (3rd Shift)</p></li><li dir=
 "ltr"><p dir="ltr">Maintenance Mechanic A (3rd Shift)</p></li></ul><p dir=
 "ltr"><b>Important:</b><b><br></b><b>Candidates will be interviewing on-si
 te the same day</b>\, so please come prepared and dressed professionally.<
 /p><p dir="ltr">We encourage all qualified participants to attend and take
  advantage of this opportunity to connect directly with the employer.</p><
 p dir="ltr">If you are interested\, please review the attached flyer for f
 ull details and call to RSVP at (323) 249-7751.</p>
LOCATION:2212 E. Imperial Hwy  Los Angeles\, CA 90059
SUMMARY:America's Job Fair Center - Monogram Aerospace Fasteners
END:VEVENT
BEGIN:VEVENT
DTSTAMP:20260421T042155Z
UID:0f33ebd6-0636-400b-b8d2-c8b5c48e7a24
DTSTART:20260428T100000
DTEND:20260428T140000
DESCRIPTION:<b>Parking in Lot C\, 2nd Floor and Up (Manhattan Beach Blvd. &
 amp\; Crenshaw Blvd.)</b>
LOCATION:El Camino College\, 16007 Crenshaw Blvd\, Torrance\, CA 90506\, US
 A
SUMMARY:26th Annual El Camino College Job Fair
END:VEVENT
BEGIN:VEVENT
DTSTAMP:20260421T042155Z
UID:3af27088-8824-4adb-bd18-88cfbca0920b
DTSTART:20260429T100000
DTEND:20260429T120000
DESCRIPTION:<p dir="ltr">We’re excited to invite job seekers across the c
 ommunity to our upcoming Community Job Fair in partnership with Los Angele
 s Harbor College!</p><ul><li dir="ltr"><p dir="ltr"><b>Los Angeles Harbor 
 College – Student Union MPR (2nd Floor)</b> This event is a great oppor
 tunity to connect directly with employers\, explore career pathways\, and 
 access valuable workforce resources.</p></li></ul><ul><li dir="ltr"><p dir
 ="ltr">Meet hiring employers</p></li><li dir="ltr"><p dir="ltr">Learn abou
 t training and career opportunities</p></li><li dir="ltr"><p dir="ltr">Att
 end a Resume Building Workshop at 11:00 AM Whether you’re actively job s
 earching or looking to take the next step in your career\, we encourage yo
 u to attend and take advantage of this opportunity.</p></li></ul>
LOCATION:Los Angeles Harbor College\, 1111 Figueroa Pl\, Wilmington\, CA 90
 744\, USA
SUMMARY:Los Angeles Harbor College - Community Job Fair
END:VEVENT
BEGIN:VEVENT
DTSTAMP:20260421T042155Z
UID:72bcda27-4c27-469b-98b4-0ba41066f22d
DTSTART:20260506T103000
DTEND:20260506T113000
DESCRIPTION:
LOCATION:
SUMMARY:Student Connect (LARAEC Opportunity)
END:VEVENT
BEGIN:VEVENT
DTSTAMP:20260421T042155Z
UID:d66801f9-08a0-4b80-8120-788991da6092
DTSTART:20260506T183000
DTEND:20260506T193000
DESCRIPTION:
LOCATION:
SUMMARY:Student Connect (LARAEC Opportunity)
END:VEVENT
BEGIN:VEVENT
DTSTAMP:20260421T042155Z
UID:73287a43-5446-4d5e-b1bf-ef22ebe24259
DTSTART:20260610T173000
DTEND:20260610T183000
DESCRIPTION:
LOCATION:
SUMMARY:Graduation Rehearsal
END:VEVENT
BEGIN:VEVENT
DTSTAMP:20260421T042155Z
UID:0065a870-cf2a-46ec-8302-e8213c44a478
DTSTART:20260611T180000
DTEND:20260611T193000
DESCRIPTION:
LOCATION:
SUMMARY:CCAS Graduation
END:VEVENT
BEGIN:VEVENT
DTSTAMP:20260421T042155Z
UID:ea467fc3-de01-4354-b4b6-a7ca50270254
DTSTART;VALUE=DATE:20260622
DTEND;VALUE=DATE:20260711
DESCRIPTION:
LOCATION:
SUMMARY:Summer Enrichment 4 Kids - Term 1
END:VEVENT
BEGIN:VEVENT
DTSTAMP:20260421T042155Z
UID:791dac82-9391-414c-92ef-92c14854b47b
DTSTART;VALUE=DATE:20260622
DTEND;VALUE=DATE:20260623
DESCRIPTION:
LOCATION:
SUMMARY:Summer Enrichment 4 Kids - Term 1
END:VEVENT
BEGIN:VEVENT
DTSTAMP:20260421T042155Z
UID:1f635b32-a0fe-4ea9-aea2-066f1a5cdc85
DTSTART;VALUE=DATE:20260623
DTEND;VALUE=DATE:20260624
DESCRIPTION:
LOCATION:
SUMMARY:Summer Enrichment 4 Kids - Term 1
END:VEVENT
BEGIN:VEVENT
DTSTAMP:20260421T042155Z
UID:51ef3e2e-5d26-4425-840e-75eae8104b1a
DTSTART;VALUE=DATE:20260624
DTEND;VALUE=DATE:20260625
DESCRIPTION:
LOCATION:
SUMMARY:Summer Enrichment 4 Kids - Term 1
END:VEVENT
BEGIN:VEVENT
DTSTAMP:20260421T042155Z
UID:6f1587ce-e778-44a8-a16d-eb3a61247c21
DTSTART;VALUE=DATE:20260625
DTEND;VALUE=DATE:20260626
DESCRIPTION:
LOCATION:
SUMMARY:Summer Enrichment 4 Kids - Term 1
END:VEVENT
BEGIN:VEVENT
DTSTAMP:20260421T042155Z
UID:0dfa9178-0e76-41b1-b6d4-628ca4e4477f
DTSTART;VALUE=DATE:20260626
DTEND;VALUE=DATE:20260627
DESCRIPTION:
LOCATION:
SUMMARY:Summer Enrichment 4 Kids - Term 1
END:VEVENT
BEGIN:VEVENT
DTSTAMP:20260421T042155Z
UID:7bcf5673-2cc0-4107-8675-236278e6d1ff
DTSTART;VALUE=DATE:20260629
DTEND;VALUE=DATE:20260630
DESCRIPTION:
LOCATION:
SUMMARY:Summer Enrichment 4 Kids - Term 1
END:VEVENT
BEGIN:VEVENT
DTSTAMP:20260421T042155Z
UID:c1758aab-0849-40d4-b45d-e06faa3910e8
DTSTART;VALUE=DATE:20260630
DTEND;VALUE=DATE:20260701
DESCRIPTION:
LOCATION:
SUMMARY:Summer Enrichment 4 Kids - Term 1
END:VEVENT
BEGIN:VEVENT
DTSTAMP:20260421T042155Z
UID:0fafcd22-047b-4d34-84a0-8f37d8b5f0d3
DTSTART;VALUE=DATE:20260701
DTEND;VALUE=DATE:20260702
DESCRIPTION:
LOCATION:
SUMMARY:Summer Enrichment 4 Kids - Term 1
END:VEVENT
BEGIN:VEVENT
DTSTAMP:20260421T042155Z
UID:3cf856c8-8d21-4d24-8bb1-da38105e2ff6
DTSTART;VALUE=DATE:20260702
DTEND;VALUE=DATE:20260703
DESCRIPTION:
LOCATION:
SUMMARY:Summer Enrichment 4 Kids - Term 1
END:VEVENT
BEGIN:VEVENT
DTSTAMP:20260421T042155Z
UID:64641ad0-0800-4b08-8e32-231fbd410eec
DTSTART;VALUE=DATE:20260703
DTEND;VALUE=DATE:20260704
DESCRIPTION:
LOCATION:
SUMMARY:Summer Enrichment 4 Kids - Term 1
END:VEVENT
BEGIN:VEVENT
DTSTAMP:20260421T042155Z
UID:66778bf6-23be-47b0-b8c5-2d750798786f
DTSTART;VALUE=DATE:20260706
DTEND;VALUE=DATE:20260707
DESCRIPTION:
LOCATION:
SUMMARY:Summer Enrichment 4 Kids - Term 1
END:VEVENT
BEGIN:VEVENT
DTSTAMP:20260421T042155Z
UID:469a4e6e-fc48-4e75-bb83-59d5992c3745
DTSTART;VALUE=DATE:20260707
DTEND;VALUE=DATE:20260708
DESCRIPTION:
LOCATION:
SUMMARY:Summer Enrichment 4 Kids - Term 1
END:VEVENT
BEGIN:VEVENT
DTSTAMP:20260421T042155Z
UID:185ddbea-a94a-470d-b5e2-193fd80ad45e
DTSTART;VALUE=DATE:20260708
DTEND;VALUE=DATE:20260709
DESCRIPTION:
LOCATION:
SUMMARY:Summer Enrichment 4 Kids - Term 1
END:VEVENT
BEGIN:VEVENT
DTSTAMP:20260421T042155Z
UID:d8e89319-81a6-4dab-9e62-99191ea4d8a6
DTSTART;VALUE=DATE:20260709
DTEND;VALUE=DATE:20260710
DESCRIPTION:
LOCATION:
SUMMARY:Summer Enrichment 4 Kids - Term 1
END:VEVENT
BEGIN:VEVENT
DTSTAMP:20260421T042155Z
UID:010f134a-9345-42af-91d3-bd63d76ba84f
DTSTART;VALUE=DATE:20260710
DTEND;VALUE=DATE:20260711
DESCRIPTION:
LOCATION:
SUMMARY:Summer Enrichment 4 Kids - Term 1
END:VEVENT
BEGIN:VEVENT
DTSTAMP:20260421T042155Z
UID:6c804d00-336e-4f89-b63f-a4c837801814
DTSTART;VALUE=DATE:20260713
DTEND;VALUE=DATE:20260714
DESCRIPTION:
LOCATION:
SUMMARY:Summer Enrichment 4 Kids - Term 2
END:VEVENT
BEGIN:VEVENT
DTSTAMP:20260421T042155Z
UID:f604f648-6123-4862-bb07-11959d0a3fb9
DTSTART;VALUE=DATE:20260714
DTEND;VALUE=DATE:20260715
DESCRIPTION:
LOCATION:
SUMMARY:Summer Enrichment 4 Kids - Term 2
END:VEVENT
BEGIN:VEVENT
DTSTAMP:20260421T042155Z
UID:a6898fdc-ac94-4fa6-8bb1-d3e28037c1c6
DTSTART;VALUE=DATE:20260715
DTEND;VALUE=DATE:20260716
DESCRIPTION:
LOCATION:
SUMMARY:Summer Enrichment 4 Kids - Term 2
END:VEVENT
BEGIN:VEVENT
DTSTAMP:20260421T042155Z
UID:e12738f8-8268-412e-9a6c-c0107401cd0e
DTSTART;VALUE=DATE:20260716
DTEND;VALUE=DATE:20260717
DESCRIPTION:
LOCATION:
SUMMARY:Summer Enrichment 4 Kids - Term 2
END:VEVENT
BEGIN:VEVENT
DTSTAMP:20260421T042155Z
UID:fd864014-6ad4-4e92-8172-111042ca739d
DTSTART;VALUE=DATE:20260717
DTEND;VALUE=DATE:20260718
DESCRIPTION:
LOCATION:
SUMMARY:Summer Enrichment 4 Kids - Term 2
END:VEVENT
BEGIN:VEVENT
DTSTAMP:20260421T042155Z
UID:338c0c46-1166-4f4a-ac25-7b690acd418a
DTSTART;VALUE=DATE:20260720
DTEND;VALUE=DATE:20260721
DESCRIPTION:
LOCATION:
SUMMARY:Summer Enrichment 4 Kids - Term 2
END:VEVENT
BEGIN:VEVENT
DTSTAMP:20260421T042155Z
UID:ff46a562-01ed-47b6-a73a-ccd2c10c138f
DTSTART;VALUE=DATE:20260721
DTEND;VALUE=DATE:20260722
DESCRIPTION:
LOCATION:
SUMMARY:Summer Enrichment 4 Kids - Term 2
END:VEVENT
BEGIN:VEVENT
DTSTAMP:20260421T042155Z
UID:16a480e8-5bf5-49e0-b252-44f96d49a9e5
DTSTART;VALUE=DATE:20260722
DTEND;VALUE=DATE:20260723
DESCRIPTION:
LOCATION:
SUMMARY:Summer Enrichment 4 Kids - Term 2
END:VEVENT
BEGIN:VEVENT
DTSTAMP:20260421T042155Z
UID:537c2ffd-8556-46da-91aa-1d8ea9e64e6e
DTSTART;VALUE=DATE:20260723
DTEND;VALUE=DATE:20260724
DESCRIPTION:
LOCATION:
SUMMARY:Summer Enrichment 4 Kids - Term 2
END:VEVENT
BEGIN:VEVENT
DTSTAMP:20260421T042155Z
UID:90448daf-539b-4baf-9c18-3a465278aec0
DTSTART;VALUE=DATE:20260724
DTEND;VALUE=DATE:20260725
DESCRIPTION:
LOCATION:
SUMMARY:Summer Enrichment 4 Kids - Term 2
END:VEVENT
BEGIN:VEVENT
DTSTAMP:20260421T042155Z
UID:a2b5fb83-fd0f-4779-bc4b-8741387a5e4a
DTSTART;VALUE=DATE:20260727
DTEND;VALUE=DATE:20260728
DESCRIPTION:
LOCATION:
SUMMARY:Summer Enrichment 4 Kids - Term 2
END:VEVENT
BEGIN:VEVENT
DTSTAMP:20260421T042155Z
UID:46e830cf-923d-4cb2-9408-d66509a36afc
DTSTART;VALUE=DATE:20260728
DTEND;VALUE=DATE:20260729
DESCRIPTION:
LOCATION:
SUMMARY:Summer Enrichment 4 Kids - Term 2
END:VEVENT
BEGIN:VEVENT
DTSTAMP:20260421T042155Z
UID:2366bb53-414f-4530-8a02-593a052c8ba9
DTSTART;VALUE=DATE:20260729
DTEND;VALUE=DATE:20260730
DESCRIPTION:
LOCATION:
SUMMARY:Summer Enrichment 4 Kids - Term 2
END:VEVENT
BEGIN:VEVENT
DTSTAMP:20260421T042155Z
UID:902141fb-b08a-4072-81a4-21d93ea6bab9
DTSTART;VALUE=DATE:20260730
DTEND;VALUE=DATE:20260731
DESCRIPTION:
LOCATION:
SUMMARY:Summer Enrichment 4 Kids - Term 2
END:VEVENT
BEGIN:VEVENT
DTSTAMP:20260421T042155Z
UID:889f21cc-eee3-4fa4-8ca8-e0f69574495b
DTSTART;VALUE=DATE:20260731
DTEND;VALUE=DATE:20260801
DESCRIPTION:
LOCATION:
SUMMARY:Summer Enrichment 4 Kids - Term 2
END:VEVENT
END:VCALENDAR
