BEGIN:VCALENDAR
VERSION:2.0
PRODID:icalendar-ruby
CALSCALE:GREGORIAN
BEGIN:VTIMEZONE
TZID:America/New_York
BEGIN:DAYLIGHT
DTSTART:20260308T030000
TZOFFSETFROM:-0500
TZOFFSETTO:-0400
RRULE:FREQ=YEARLY;BYDAY=2SU;BYMONTH=3
TZNAME:EDT
END:DAYLIGHT
BEGIN:STANDARD
DTSTART:20261101T010000
TZOFFSETFROM:-0400
TZOFFSETTO:-0500
RRULE:FREQ=YEARLY;BYDAY=1SU;BYMONTH=11
TZNAME:EST
END:STANDARD
END:VTIMEZONE
BEGIN:VEVENT
DTSTAMP:20260419T162408Z
UID:624a8629-8b35-49c0-ae1e-dd4f2fcd3ef4
DTSTART;VALUE=DATE:20260420
DTEND;VALUE=DATE:20260425
DESCRIPTION:
LOCATION:
SUMMARY:Check-In C: Grades 3-8
END:VEVENT
BEGIN:VEVENT
DTSTAMP:20260419T162408Z
UID:8b141fa2-26e0-4028-84c1-4ff86d2027eb
DTSTART;VALUE=DATE:20260429
DTEND;VALUE=DATE:20260430
DESCRIPTION:
LOCATION:
SUMMARY:Progress Reports
END:VEVENT
BEGIN:VEVENT
DTSTAMP:20260419T162408Z
UID:2624673c-886a-47d0-800c-5c6bd62abe3e
DTSTART;VALUE=DATE:20260501
DTEND;VALUE=DATE:20260502
DESCRIPTION:
LOCATION:
SUMMARY:Teacher Workday
END:VEVENT
BEGIN:VEVENT
DTSTAMP:20260419T162408Z
UID:23d3577d-b6e5-4628-8a89-1beec902111a
DTSTART;VALUE=DATE:20260504
DTEND;VALUE=DATE:20260509
DESCRIPTION:
LOCATION:
SUMMARY:Eng II\, Math I\, Math III Check-in
END:VEVENT
BEGIN:VEVENT
DTSTAMP:20260419T162408Z
UID:2375e6d7-890e-4f40-8e0f-0ac1833619d7
DTSTART;VALUE=DATE:20260504
DTEND;VALUE=DATE:20260509
DESCRIPTION:
LOCATION:
SUMMARY:Teacher Appreciation Week
END:VEVENT
BEGIN:VEVENT
DTSTAMP:20260419T162408Z
UID:ed933df3-c2da-4d09-8731-558a08942be3
DTSTART;VALUE=DATE:20260511
DTEND;VALUE=DATE:20260516
DESCRIPTION:
LOCATION:
SUMMARY:Biology Check-in
END:VEVENT
BEGIN:VEVENT
DTSTAMP:20260419T162408Z
UID:2750714a-7387-4086-bd65-f6a5681843f7
DTSTART;VALUE=DATE:20260521
DTEND;VALUE=DATE:20260522
DESCRIPTION:
LOCATION:
SUMMARY:EOG's Begins
END:VEVENT
BEGIN:VEVENT
DTSTAMP:20260419T162408Z
UID:87dda815-f23f-40e9-a476-34e046dd5f26
DTSTART;VALUE=DATE:20260525
DTEND;VALUE=DATE:20260526
DESCRIPTION:
LOCATION:
SUMMARY:School Closed - Holiday
END:VEVENT
BEGIN:VEVENT
DTSTAMP:20260419T162408Z
UID:d11d426a-2802-4b19-88b5-05ea29c0770e
DTSTART;VALUE=DATE:20260529
DTEND;VALUE=DATE:20260530
DESCRIPTION:
LOCATION:
SUMMARY:EOC's
END:VEVENT
BEGIN:VEVENT
DTSTAMP:20260419T162408Z
UID:acad1c87-1153-4aed-afad-fd5e2427d65b
DTSTART;VALUE=DATE:20260601
DTEND;VALUE=DATE:20260602
DESCRIPTION:
LOCATION:
SUMMARY:EOC's
END:VEVENT
BEGIN:VEVENT
DTSTAMP:20260419T162408Z
UID:40948abc-6b33-4982-89cd-1eda3891830c
DTSTART;VALUE=DATE:20260602
DTEND;VALUE=DATE:20260603
DESCRIPTION:
LOCATION:
SUMMARY:EOC's
END:VEVENT
BEGIN:VEVENT
DTSTAMP:20260419T162408Z
UID:7b32cac9-5cb4-46c5-a97d-67d88b28ed43
DTSTART;VALUE=DATE:20260603
DTEND;VALUE=DATE:20260604
DESCRIPTION:
LOCATION:
SUMMARY:EOC's
END:VEVENT
BEGIN:VEVENT
DTSTAMP:20260419T162408Z
UID:aa21313b-21ac-4dca-b0a4-824cd49ea3fc
DTSTART;VALUE=DATE:20260604
DTEND;VALUE=DATE:20260605
DESCRIPTION:
LOCATION:
SUMMARY:EOC's
END:VEVENT
BEGIN:VEVENT
DTSTAMP:20260419T162408Z
UID:8c1ad6d6-8ccc-4a19-97e7-0198201410ae
DTSTART;VALUE=DATE:20260604
DTEND;VALUE=DATE:20260605
DESCRIPTION:
LOCATION:
SUMMARY:Last Day of School - Early Release Day
END:VEVENT
BEGIN:VEVENT
DTSTAMP:20260419T162408Z
UID:72656640-18d9-4d6f-a7c0-387f513ac2df
DTSTART;VALUE=DATE:20260604
DTEND;VALUE=DATE:20260605
DESCRIPTION:
LOCATION:
SUMMARY:RHS & MHS Graduations
END:VEVENT
BEGIN:VEVENT
DTSTAMP:20260419T162408Z
UID:5118d232-2a81-4479-a516-c972ebd83586
DTSTART;VALUE=DATE:20260605
DTEND;VALUE=DATE:20260606
DESCRIPTION:
LOCATION:
SUMMARY:McM & RCHS Graduations
END:VEVENT
BEGIN:VEVENT
DTSTAMP:20260419T162408Z
UID:fd0fe341-2fac-4474-8e57-3707a641200a
DTSTART;VALUE=DATE:20260610
DTEND;VALUE=DATE:20260611
DESCRIPTION:
LOCATION:
SUMMARY:Report Cards Sent Home
END:VEVENT
END:VCALENDAR
