BEGIN:VCALENDAR
VERSION:2.0
PRODID:icalendar-ruby
CALSCALE:GREGORIAN
BEGIN:VTIMEZONE
TZID:America/New_York
BEGIN:DAYLIGHT
DTSTART:20260308T030000
TZOFFSETFROM:-0500
TZOFFSETTO:-0400
RRULE:FREQ=YEARLY;BYDAY=2SU;BYMONTH=3
TZNAME:EDT
END:DAYLIGHT
BEGIN:STANDARD
DTSTART:20261101T010000
TZOFFSETFROM:-0400
TZOFFSETTO:-0500
RRULE:FREQ=YEARLY;BYDAY=1SU;BYMONTH=11
TZNAME:EST
END:STANDARD
END:VTIMEZONE
BEGIN:VEVENT
DTSTAMP:20260423T153824Z
UID:f74dd7ac-dd6c-498c-ae5b-5f465d715de9
DTSTART:20260423T160000
DTEND:20260423T200000
DESCRIPTION:
LOCATION:
SUMMARY:DMHS TRACK HOSTS MHS\, BY\, WALKERTOWN\, AND CARVER
END:VEVENT
BEGIN:VEVENT
DTSTAMP:20260423T153824Z
UID:7b8d1f8d-c97e-4c8c-be4b-79ec65a7892f
DTSTART:20260423T160000
DTEND:20260423T170000
DESCRIPTION:
LOCATION:
SUMMARY:TRACK DMHS HOST WALKERTOWN AND CARVER
END:VEVENT
BEGIN:VEVENT
DTSTAMP:20260423T153824Z
UID:b6ddf0f7-86b2-425f-b86d-f38322add4f3
DTSTART:20260423T180000
DTEND:20260423T200000
DESCRIPTION:
LOCATION:
SUMMARY:ROTC Awards Banquet
END:VEVENT
BEGIN:VEVENT
DTSTAMP:20260423T153824Z
UID:3f50bf95-a974-4746-b533-2aba7f55245a
DTSTART:20260424T163000
DTEND:20260424T180000
DESCRIPTION:
LOCATION:Morehead
SUMMARY:Baseball (JV)@ John M. Morehead High School
END:VEVENT
BEGIN:VEVENT
DTSTAMP:20260423T153824Z
UID:4ad80804-afde-4cc9-ad29-306470371b22
DTSTART:20260424T180000
DTEND:20260424T193000
DESCRIPTION:
LOCATION:McMichael
SUMMARY:SOCCER SENIOR NIGHT Dalton L. McMichael High School vs John M. More
 head High School
END:VEVENT
BEGIN:VEVENT
DTSTAMP:20260423T153824Z
UID:613ea299-524f-4670-82e6-19086ae8fdee
DTSTART:20260424T180000
DTEND:20260424T193000
DESCRIPTION:
LOCATION:Morehead
SUMMARY:Softball (Varsity)@ John M. Morehead High School
END:VEVENT
BEGIN:VEVENT
DTSTAMP:20260423T153824Z
UID:9d53312c-41c9-42a9-a809-93052b45d32f
DTSTART:20260424T190000
DTEND:20260424T203000
DESCRIPTION:
LOCATION:Morehead
SUMMARY:Baseball (Varsity)@ John M. Morehead High School
END:VEVENT
BEGIN:VEVENT
DTSTAMP:20260423T153824Z
UID:9357e26e-d3b9-4261-984b-60b54da818ff
DTSTART:20260427T170000
DTEND:20260427T180000
DESCRIPTION:
LOCATION:
SUMMARY:BASEBALL AND SOFTBALL CONFERENCE TOURNAMENT @ MOREHEAD
END:VEVENT
BEGIN:VEVENT
DTSTAMP:20260423T153824Z
UID:2accec59-b588-4435-8d85-d488faae4e04
DTSTART:20260427T180000
DTEND:20260427T193000
DESCRIPTION:
LOCATION:McMichael
SUMMARY:SOCCER Dalton L. McMichael High Schoolvs Rockingham County High Sch
 ool
END:VEVENT
BEGIN:VEVENT
DTSTAMP:20260423T153824Z
UID:7b6b8719-8b03-4d7d-8c33-b68e6ddbcb1e
DTSTART:20260428T170000
DTEND:20260428T180000
DESCRIPTION:
LOCATION:
SUMMARY:BASEBALL AND SOFTBALL CONFERENCE TOURNAMENT @ MOREHEAD
END:VEVENT
BEGIN:VEVENT
DTSTAMP:20260423T153824Z
UID:c0286072-a6ce-4b87-9b13-21afbe7857a4
DTSTART:20260429T170000
DTEND:20260429T180000
DESCRIPTION:
LOCATION:
SUMMARY:BASEBALL AND SOFTBALL CONFERENCE TOURNAMENT @ MOREHEAD
END:VEVENT
BEGIN:VEVENT
DTSTAMP:20260423T153824Z
UID:1222c370-ba20-4a20-a6ed-b830a6fae464
DTSTART:20260430T183000
DTEND:20260430T193000
DESCRIPTION:
LOCATION:
SUMMARY:Stem awards
END:VEVENT
BEGIN:VEVENT
DTSTAMP:20260423T153824Z
UID:1bcb083d-e5e7-46c3-b8e8-74653aa8ec3c
DTSTART:20260502T190000
DTEND:20260502T230000
DESCRIPTION:
LOCATION:
SUMMARY:Prom 
END:VEVENT
BEGIN:VEVENT
DTSTAMP:20260423T153824Z
UID:96e21113-89fd-491a-b3c3-20ef57f9728f
DTSTART;VALUE=DATE:20260504
DTEND;VALUE=DATE:20260505
DESCRIPTION:
LOCATION:
SUMMARY:English 2 Check-In
END:VEVENT
BEGIN:VEVENT
DTSTAMP:20260423T153824Z
UID:4cb4c894-8f6d-44f8-9889-d83cdbf138c2
DTSTART:20260504T180000
DTEND:20260504T190000
DESCRIPTION:
LOCATION:
SUMMARY:SOCCER  @ MOREHEAD
END:VEVENT
BEGIN:VEVENT
DTSTAMP:20260423T153824Z
UID:78a24f03-f976-40cc-8167-d35744d80886
DTSTART:20260505T081500
DTEND:20260505T090000
DESCRIPTION:
LOCATION:
SUMMARY:Phoenix Choice Awards 
END:VEVENT
BEGIN:VEVENT
DTSTAMP:20260423T153824Z
UID:f570012e-c763-44be-9c61-f8c266a0396c
DTSTART;VALUE=DATE:20260506
DTEND;VALUE=DATE:20260507
DESCRIPTION:
LOCATION:
SUMMARY:Math 1 Check-In (Semester)
END:VEVENT
BEGIN:VEVENT
DTSTAMP:20260423T153824Z
UID:f9fce061-4f3e-4d5f-9db9-b84be72e9f3e
DTSTART;VALUE=DATE:20260507
DTEND;VALUE=DATE:20260508
DESCRIPTION:
LOCATION:
SUMMARY:Math 3 Check-In 
END:VEVENT
BEGIN:VEVENT
DTSTAMP:20260423T153824Z
UID:5b17a6ce-afe5-49ed-a1b1-862e88575954
DTSTART:20260507T090000
DTEND:20260507T100000
DESCRIPTION:
LOCATION:
SUMMARY:Senior Awards
END:VEVENT
BEGIN:VEVENT
DTSTAMP:20260423T153824Z
UID:6fa1f3c2-32a9-4ee0-b209-4f4fb8590715
DTSTART:20260507T180000
DTEND:20260507T193000
DESCRIPTION:
LOCATION:McMichael
SUMMARY:Dalton L. McMichael High Schoolvs The North Carolina Leadership Aca
 demy
END:VEVENT
BEGIN:VEVENT
DTSTAMP:20260423T153824Z
UID:28f89545-361a-43e3-8dab-67527b5e6660
DTSTART:20260508T183000
DTEND:20260508T203000
DESCRIPTION:
LOCATION:
SUMMARY:Senior Sunset 
END:VEVENT
END:VCALENDAR
