BEGIN:VCALENDAR
VERSION:2.0
PRODID:icalendar-ruby
CALSCALE:GREGORIAN
BEGIN:VTIMEZONE
TZID:America/New_York
BEGIN:DAYLIGHT
DTSTART:20260308T030000
TZOFFSETFROM:-0500
TZOFFSETTO:-0400
RRULE:FREQ=YEARLY;BYDAY=2SU;BYMONTH=3
TZNAME:EDT
END:DAYLIGHT
BEGIN:STANDARD
DTSTART:20261101T010000
TZOFFSETFROM:-0400
TZOFFSETTO:-0500
RRULE:FREQ=YEARLY;BYDAY=1SU;BYMONTH=11
TZNAME:EST
END:STANDARD
END:VTIMEZONE
BEGIN:VEVENT
DTSTAMP:20260423T130044Z
UID:2a0c823b-3848-418d-a49b-52363630317b
DTSTART:20260427T190000
DTEND:20260427T210000
DESCRIPTION:<p style="text-align: center"><strong>LEGAL NOTICE</strong></p>
 <p style="text-align: center"><strong>WOOD-RIDGE BOARD OF EDUCATION</stron
 g></p><p style="text-align: center"><strong>2026 SCHEDULE OF BOARD OF EDUC
 ATION MEETINGS</strong></p><p>Please take notice that at the January 5\, 2
 026 Reorganization Meeting\, the Wood-Ridge Board</p><p>of Education\, loc
 ated at 540 Windsor Road\, Wood-Ridge\, NJ 07075\, approved the following<
 /p><p>schedule of meetings for 2026. The Executive Session Meetings (close
 d to the public) will</p><p>begin at 6:00 pm and will be held in the Wood-
 Ridge High School Auditorium\, located at 258</p><p>Hackensack Street\, Wo
 od-Ridge\, NJ 07075. The Regular Session Meetings will reconvene at</p><p>
 7:00 pm. Action may be taken at all Work Sessions or Regular Public Sessio
 ns held throughout</p><p>the year.</p>
LOCATION:540 Windsor Rd\, Wood-Ridge\, NJ 07075\, USA
SUMMARY:Board of Education Meeting
END:VEVENT
BEGIN:VEVENT
DTSTAMP:20260423T130044Z
UID:55a43c4c-021a-449f-82f7-21719a3aba45
DTSTART:20260511T190000
DTEND:20260511T210000
DESCRIPTION:<p style="text-align: center"><strong>LEGAL NOTICE</strong></p>
 <p style="text-align: center"><strong>WOOD-RIDGE BOARD OF EDUCATION</stron
 g></p><p style="text-align: center"><strong>2026 SCHEDULE OF BOARD OF EDUC
 ATION MEETINGS</strong></p><p>Please take notice that at the January 5\, 2
 026 Reorganization Meeting\, the Wood-Ridge Board</p><p>of Education\, loc
 ated at 540 Windsor Road\, Wood-Ridge\, NJ 07075\, approved the following<
 /p><p>schedule of meetings for 2026. The Executive Session Meetings (close
 d to the public) will</p><p>begin at 6:00 pm and will be held in the Wood-
 Ridge High School Auditorium\, located at 258</p><p>Hackensack Street\, Wo
 od-Ridge\, NJ 07075. The Regular Session Meetings will reconvene at</p><p>
 7:00 pm. Action may be taken at all Work Sessions or Regular Public Sessio
 ns held throughout</p><p>the year.</p>
LOCATION:540 Windsor Rd\, Wood-Ridge\, NJ 07075\, USA
SUMMARY:Board of Education Meeting
END:VEVENT
BEGIN:VEVENT
DTSTAMP:20260423T130044Z
UID:85c9c7ab-aed7-4ec3-b451-d5155ddebcd5
DTSTART:20260522T080000
DTEND:20260522T123000
DESCRIPTION:
LOCATION:
SUMMARY:Early Dismissal - Students & Staff
END:VEVENT
BEGIN:VEVENT
DTSTAMP:20260423T130044Z
UID:fa021cdd-3a30-440b-bfa9-e9920d5094f8
DTSTART:20260522T083000
DTEND:20260522T123000
DESCRIPTION:
LOCATION:
SUMMARY:Field Day @ HS Field
END:VEVENT
BEGIN:VEVENT
DTSTAMP:20260423T130044Z
UID:0b5747b8-1023-4a3a-b94d-5757fc358fb5
DTSTART;VALUE=DATE:20260525
DTEND;VALUE=DATE:20260526
DESCRIPTION:
LOCATION:
SUMMARY:District Closed
END:VEVENT
BEGIN:VEVENT
DTSTAMP:20260423T130044Z
UID:83e6b592-7b6c-4977-8a59-77c5a8369323
DTSTART:20260529T083000
DTEND:20260529T123000
DESCRIPTION:
LOCATION:
SUMMARY:Field Day (Rain Date)
END:VEVENT
BEGIN:VEVENT
DTSTAMP:20260423T130044Z
UID:c7f9bfe8-9313-4bc1-992c-2b87405df785
DTSTART;VALUE=DATE:20260602
DTEND;VALUE=DATE:20260603
DESCRIPTION:
LOCATION:
SUMMARY:6th Grade Field Trip
END:VEVENT
BEGIN:VEVENT
DTSTAMP:20260423T130044Z
UID:0c08465b-009d-4b26-9699-49d683f3dc4d
DTSTART;VALUE=DATE:20260605
DTEND;VALUE=DATE:20260606
DESCRIPTION:
LOCATION:
SUMMARY:Torch Run
END:VEVENT
BEGIN:VEVENT
DTSTAMP:20260423T130044Z
UID:05c252f1-7c02-4c2e-a2df-843babe69084
DTSTART:20260615T080000
DTEND:20260619T123000
DESCRIPTION:
LOCATION:
SUMMARY:Early Dismissal
END:VEVENT
BEGIN:VEVENT
DTSTAMP:20260423T130044Z
UID:14425ba9-9df5-498b-b9cf-36e5d581a0b1
DTSTART:20260615T190000
DTEND:20260615T210000
DESCRIPTION:<p style="text-align: center"><strong>LEGAL NOTICE</strong></p>
 <p style="text-align: center"><strong>WOOD-RIDGE BOARD OF EDUCATION</stron
 g></p><p style="text-align: center"><strong>2026 SCHEDULE OF BOARD OF EDUC
 ATION MEETINGS</strong></p><p>Please take notice that at the January 5\, 2
 026 Reorganization Meeting\, the Wood-Ridge Board</p><p>of Education\, loc
 ated at 540 Windsor Road\, Wood-Ridge\, NJ 07075\, approved the following<
 /p><p>schedule of meetings for 2026. The Executive Session Meetings (close
 d to the public) will</p><p>begin at 6:00 pm and will be held in the Wood-
 Ridge High School Auditorium\, located at 258</p><p>Hackensack Street\, Wo
 od-Ridge\, NJ 07075. The Regular Session Meetings will reconvene at</p><p>
 7:00 pm. Action may be taken at all Work Sessions or Regular Public Sessio
 ns held throughout</p><p>the year.</p>
LOCATION:540 Windsor Rd\, Wood-Ridge\, NJ 07075\, USA
SUMMARY:Board of Education Meeting
END:VEVENT
BEGIN:VEVENT
DTSTAMP:20260423T130044Z
UID:944963a2-b3f4-4746-9fcd-e7149964bbf8
DTSTART:20260618T183000
DTEND:20260618T193000
DESCRIPTION:
LOCATION:
SUMMARY:6th Grade Promotion @ HS Gymnasium
END:VEVENT
BEGIN:VEVENT
DTSTAMP:20260423T130044Z
UID:0e49352d-769e-4a5f-9849-141a1d78d4f7
DTSTART;VALUE=DATE:20260619
DTEND;VALUE=DATE:20260620
DESCRIPTION:
LOCATION:
SUMMARY:Last Day of School 
END:VEVENT
BEGIN:VEVENT
DTSTAMP:20260423T130044Z
UID:5fe305ac-4776-49c6-bf99-12faef944fb6
DTSTART:20260720T190000
DTEND:20260720T210000
DESCRIPTION:<p style="text-align: center"><strong>LEGAL NOTICE</strong></p>
 <p style="text-align: center"><strong>WOOD-RIDGE BOARD OF EDUCATION</stron
 g></p><p style="text-align: center"><strong>2026 SCHEDULE OF BOARD OF EDUC
 ATION MEETINGS</strong></p><p>Please take notice that at the January 5\, 2
 026 Reorganization Meeting\, the Wood-Ridge Board</p><p>of Education\, loc
 ated at 540 Windsor Road\, Wood-Ridge\, NJ 07075\, approved the following<
 /p><p>schedule of meetings for 2026. The Executive Session Meetings (close
 d to the public) will</p><p>begin at 6:00 pm and will be held in the Wood-
 Ridge High School Auditorium\, located at 258</p><p>Hackensack Street\, Wo
 od-Ridge\, NJ 07075. The Regular Session Meetings will reconvene at</p><p>
 7:00 pm. Action may be taken at all Work Sessions or Regular Public Sessio
 ns held throughout</p><p>the year.</p>
LOCATION:540 Windsor Rd\, Wood-Ridge\, NJ 07075\, USA
SUMMARY:Board of Education Meeting
END:VEVENT
BEGIN:VEVENT
DTSTAMP:20260423T130044Z
UID:b9067751-1d4e-4b9a-a712-fc6e16aa16cc
DTSTART:20260824T190000
DTEND:20260824T210000
DESCRIPTION:<p style="text-align: center"><strong>LEGAL NOTICE</strong></p>
 <p style="text-align: center"><strong>WOOD-RIDGE BOARD OF EDUCATION</stron
 g></p><p style="text-align: center"><strong>2026 SCHEDULE OF BOARD OF EDUC
 ATION MEETINGS</strong></p><p>Please take notice that at the January 5\, 2
 026 Reorganization Meeting\, the Wood-Ridge Board</p><p>of Education\, loc
 ated at 540 Windsor Road\, Wood-Ridge\, NJ 07075\, approved the following<
 /p><p>schedule of meetings for 2026. The Executive Session Meetings (close
 d to the public) will</p><p>begin at 6:00 pm and will be held in the Wood-
 Ridge High School Auditorium\, located at 258</p><p>Hackensack Street\, Wo
 od-Ridge\, NJ 07075. The Regular Session Meetings will reconvene at</p><p>
 7:00 pm. Action may be taken at all Work Sessions or Regular Public Sessio
 ns held throughout</p><p>the year.</p>
LOCATION:540 Windsor Rd\, Wood-Ridge\, NJ 07075\, USA
SUMMARY:Board of Education Meeting
END:VEVENT
BEGIN:VEVENT
DTSTAMP:20260423T130044Z
UID:ba09101a-ee3f-4879-9e2c-7cd0b1c0cf1a
DTSTART:20260914T190000
DTEND:20260914T210000
DESCRIPTION:<p style="text-align: center"><strong>LEGAL NOTICE</strong></p>
 <p style="text-align: center"><strong>WOOD-RIDGE BOARD OF EDUCATION</stron
 g></p><p style="text-align: center"><strong>2026 SCHEDULE OF BOARD OF EDUC
 ATION MEETINGS</strong></p><p>Please take notice that at the January 5\, 2
 026 Reorganization Meeting\, the Wood-Ridge Board</p><p>of Education\, loc
 ated at 540 Windsor Road\, Wood-Ridge\, NJ 07075\, approved the following<
 /p><p>schedule of meetings for 2026. The Executive Session Meetings (close
 d to the public) will</p><p>begin at 6:00 pm and will be held in the Wood-
 Ridge High School Auditorium\, located at 258</p><p>Hackensack Street\, Wo
 od-Ridge\, NJ 07075. The Regular Session Meetings will reconvene at</p><p>
 7:00 pm. Action may be taken at all Work Sessions or Regular Public Sessio
 ns held throughout</p><p>the year.</p>
LOCATION:540 Windsor Rd\, Wood-Ridge\, NJ 07075\, USA
SUMMARY:Board of Education Meeting
END:VEVENT
BEGIN:VEVENT
DTSTAMP:20260423T130044Z
UID:4276bdbd-2e1f-4c91-a42c-fd849693a8cd
DTSTART:20261019T190000
DTEND:20261019T210000
DESCRIPTION:<p style="text-align: center"><strong>LEGAL NOTICE</strong></p>
 <p style="text-align: center"><strong>WOOD-RIDGE BOARD OF EDUCATION</stron
 g></p><p style="text-align: center"><strong>2026 SCHEDULE OF BOARD OF EDUC
 ATION MEETINGS</strong></p><p>Please take notice that at the January 5\, 2
 026 Reorganization Meeting\, the Wood-Ridge Board</p><p>of Education\, loc
 ated at 540 Windsor Road\, Wood-Ridge\, NJ 07075\, approved the following<
 /p><p>schedule of meetings for 2026. The Executive Session Meetings (close
 d to the public) will</p><p>begin at 6:00 pm and will be held in the Wood-
 Ridge High School Auditorium\, located at 258</p><p>Hackensack Street\, Wo
 od-Ridge\, NJ 07075. The Regular Session Meetings will reconvene at</p><p>
 7:00 pm. Action may be taken at all Work Sessions or Regular Public Sessio
 ns held throughout</p><p>the year.</p>
LOCATION:540 Windsor Rd\, Wood-Ridge\, NJ 07075\, USA
SUMMARY:Board of Education Meeting
END:VEVENT
BEGIN:VEVENT
DTSTAMP:20260423T130044Z
UID:51b60a5d-5cb1-434c-9782-0f9f48cf13b6
DTSTART:20261116T190000
DTEND:20261116T210000
DESCRIPTION:<p style="text-align: center"><strong>LEGAL NOTICE</strong></p>
 <p style="text-align: center"><strong>WOOD-RIDGE BOARD OF EDUCATION</stron
 g></p><p style="text-align: center"><strong>2026 SCHEDULE OF BOARD OF EDUC
 ATION MEETINGS</strong></p><p>Please take notice that at the January 5\, 2
 026 Reorganization Meeting\, the Wood-Ridge Board</p><p>of Education\, loc
 ated at 540 Windsor Road\, Wood-Ridge\, NJ 07075\, approved the following<
 /p><p>schedule of meetings for 2026. The Executive Session Meetings (close
 d to the public) will</p><p>begin at 6:00 pm and will be held in the Wood-
 Ridge High School Auditorium\, located at 258</p><p>Hackensack Street\, Wo
 od-Ridge\, NJ 07075. The Regular Session Meetings will reconvene at</p><p>
 7:00 pm. Action may be taken at all Work Sessions or Regular Public Sessio
 ns held throughout</p><p>the year.</p>
LOCATION:540 Windsor Rd\, Wood-Ridge\, NJ 07075\, USA
SUMMARY:Board of Education Meeting
END:VEVENT
BEGIN:VEVENT
DTSTAMP:20260423T130044Z
UID:df63affa-3145-4e8e-98bc-9e437e8f7740
DTSTART:20261214T190000
DTEND:20261214T210000
DESCRIPTION:<p style="text-align: center"><strong>LEGAL NOTICE</strong></p>
 <p style="text-align: center"><strong>WOOD-RIDGE BOARD OF EDUCATION</stron
 g></p><p style="text-align: center"><strong>2026 SCHEDULE OF BOARD OF EDUC
 ATION MEETINGS</strong></p><p>Please take notice that at the January 5\, 2
 026 Reorganization Meeting\, the Wood-Ridge Board</p><p>of Education\, loc
 ated at 540 Windsor Road\, Wood-Ridge\, NJ 07075\, approved the following<
 /p><p>schedule of meetings for 2026. The Executive Session Meetings (close
 d to the public) will</p><p>begin at 6:00 pm and will be held in the Wood-
 Ridge High School Auditorium\, located at 258</p><p>Hackensack Street\, Wo
 od-Ridge\, NJ 07075. The Regular Session Meetings will reconvene at</p><p>
 7:00 pm. Action may be taken at all Work Sessions or Regular Public Sessio
 ns held throughout</p><p>the year.</p>
LOCATION:540 Windsor Rd\, Wood-Ridge\, NJ 07075\, USA
SUMMARY:Board of Education Meeting
END:VEVENT
BEGIN:VEVENT
DTSTAMP:20260423T130044Z
UID:a5a19743-98e5-4281-ac6a-54c558730487
DTSTART:20270104T190000
DTEND:20270104T210000
DESCRIPTION:<p style="text-align: center"><strong>LEGAL NOTICE</strong></p>
 <p style="text-align: center"><strong>WOOD-RIDGE BOARD OF EDUCATION</stron
 g></p><p style="text-align: center"><strong>2026 SCHEDULE OF BOARD OF EDUC
 ATION MEETINGS</strong></p><p>Please take notice that at the January 5\, 2
 026 Reorganization Meeting\, the Wood-Ridge Board</p><p>of Education\, loc
 ated at 540 Windsor Road\, Wood-Ridge\, NJ 07075\, approved the following<
 /p><p>schedule of meetings for 2026. The Executive Session Meetings (close
 d to the public) will</p><p>begin at 6:00 pm and will be held in the Wood-
 Ridge High School Auditorium\, located at 258</p><p>Hackensack Street\, Wo
 od-Ridge\, NJ 07075. The Regular Session Meetings will reconvene at</p><p>
 7:00 pm. Action may be taken at all Work Sessions or Regular Public Sessio
 ns held throughout</p><p>the year.</p>
LOCATION:540 Windsor Rd\, Wood-Ridge\, NJ 07075\, USA
SUMMARY:Board of Education Meeting
END:VEVENT
END:VCALENDAR
