BEGIN:VCALENDAR
VERSION:2.0
PRODID:icalendar-ruby
CALSCALE:GREGORIAN
BEGIN:VTIMEZONE
TZID:America/New_York
BEGIN:DAYLIGHT
DTSTART:20260308T030000
TZOFFSETFROM:-0500
TZOFFSETTO:-0400
RRULE:FREQ=YEARLY;BYDAY=2SU;BYMONTH=3
TZNAME:EDT
END:DAYLIGHT
BEGIN:STANDARD
DTSTART:20261101T010000
TZOFFSETFROM:-0400
TZOFFSETTO:-0500
RRULE:FREQ=YEARLY;BYDAY=1SU;BYMONTH=11
TZNAME:EST
END:STANDARD
END:VTIMEZONE
BEGIN:VEVENT
DTSTAMP:20260426T002449Z
UID:e678442a-28b7-47ce-a2ee-92dc0c16276b
DTSTART;VALUE=DATE:20260430
DTEND;VALUE=DATE:20260501
DESCRIPTION:
LOCATION:
SUMMARY:Spring Program
END:VEVENT
BEGIN:VEVENT
DTSTAMP:20260426T002449Z
UID:8eccae58-7ce5-46ce-97bd-e4bfce160be1
DTSTART:20260430T100000
DTEND:20260430T113000
DESCRIPTION:
LOCATION:
SUMMARY:Foam party for fundraiser 
END:VEVENT
BEGIN:VEVENT
DTSTAMP:20260426T002449Z
UID:4e3cb643-c1d5-4549-8782-acfcc0394836
DTSTART;VALUE=DATE:20260501
DTEND;VALUE=DATE:20260502
DESCRIPTION:
LOCATION:
SUMMARY:Early Release
END:VEVENT
BEGIN:VEVENT
DTSTAMP:20260426T002449Z
UID:3c1d0736-471a-439f-a57b-401e07c49fa4
DTSTART;VALUE=DATE:20260510
DTEND;VALUE=DATE:20260511
DESCRIPTION:
LOCATION:
SUMMARY:Mother's Day
END:VEVENT
BEGIN:VEVENT
DTSTAMP:20260426T002449Z
UID:7a04f7a5-2341-422d-9adf-e17478dc5537
DTSTART;VALUE=DATE:20260522
DTEND;VALUE=DATE:20260523
DESCRIPTION:
LOCATION:
SUMMARY:Field Day
END:VEVENT
BEGIN:VEVENT
DTSTAMP:20260426T002449Z
UID:4eef82de-17c8-4481-9e87-72d76c403e9b
DTSTART;VALUE=DATE:20260525
DTEND;VALUE=DATE:20260526
DESCRIPTION:
LOCATION:
SUMMARY:Memorial Day Holiday - No School
END:VEVENT
BEGIN:VEVENT
DTSTAMP:20260426T002449Z
UID:e2d2f260-d17e-4788-9f60-3b80bf5f0a43
DTSTART;VALUE=DATE:20260527
DTEND;VALUE=DATE:20260528
DESCRIPTION:
LOCATION:
SUMMARY:ELA EOG 3-5
END:VEVENT
BEGIN:VEVENT
DTSTAMP:20260426T002449Z
UID:32b90289-ba2f-4eb3-a636-a620a21718bd
DTSTART;VALUE=DATE:20260528
DTEND;VALUE=DATE:20260529
DESCRIPTION:
LOCATION:
SUMMARY:Math EOG 3-5
END:VEVENT
BEGIN:VEVENT
DTSTAMP:20260426T002449Z
UID:0672571a-9f9e-4f51-98dd-286d1d3dfe99
DTSTART;VALUE=DATE:20260529
DTEND;VALUE=DATE:20260530
DESCRIPTION:
LOCATION:
SUMMARY:Science EOG 5th
END:VEVENT
BEGIN:VEVENT
DTSTAMP:20260426T002449Z
UID:2e50bcc6-0400-4ecd-bde2-b67e2fd03c40
DTSTART:20260602T100000
DTEND:20260602T101500
DESCRIPTION:
LOCATION:
SUMMARY:K- Awards Day
END:VEVENT
BEGIN:VEVENT
DTSTAMP:20260426T002449Z
UID:463d6827-1243-427c-b53d-1ff04c27dbc5
DTSTART:20260603T121500
DTEND:20260603T131500
DESCRIPTION:
LOCATION:
SUMMARY:1st grade awards
END:VEVENT
BEGIN:VEVENT
DTSTAMP:20260426T002449Z
UID:751f84fc-7a0f-4455-a7ef-b0ed6d5f22e5
DTSTART:20260604T123000
DTEND:20260604T133000
DESCRIPTION:
LOCATION:
SUMMARY:4th grade Awards
END:VEVENT
BEGIN:VEVENT
DTSTAMP:20260426T002449Z
UID:b5df3113-faea-43aa-9862-47e7cbd2e3a6
DTSTART:20260604T133000
DTEND:20260604T143000
DESCRIPTION:
LOCATION:
SUMMARY:3rd grade Awards
END:VEVENT
BEGIN:VEVENT
DTSTAMP:20260426T002449Z
UID:990d58c7-23fc-4e00-9592-74db8c923594
DTSTART;VALUE=DATE:20260605
DTEND;VALUE=DATE:20260606
DESCRIPTION:
LOCATION:
SUMMARY:Last Day of School - Early Release
END:VEVENT
END:VCALENDAR
