BEGIN:VCALENDAR
VERSION:2.0
PRODID:icalendar-ruby
CALSCALE:GREGORIAN
BEGIN:VTIMEZONE
TZID:America/New_York
BEGIN:DAYLIGHT
DTSTART:20260308T030000
TZOFFSETFROM:-0500
TZOFFSETTO:-0400
RRULE:FREQ=YEARLY;BYDAY=2SU;BYMONTH=3
TZNAME:EDT
END:DAYLIGHT
BEGIN:STANDARD
DTSTART:20261101T010000
TZOFFSETFROM:-0400
TZOFFSETTO:-0500
RRULE:FREQ=YEARLY;BYDAY=1SU;BYMONTH=11
TZNAME:EST
END:STANDARD
END:VTIMEZONE
BEGIN:VEVENT
DTSTAMP:20260422T080256Z
UID:1ade8bb3-94ba-4113-96f6-3391103a2b38
DTSTART;VALUE=DATE:20260427
DTEND;VALUE=DATE:20260429
DESCRIPTION:
LOCATION:
SUMMARY:3-5 MATH STATE TESTING
END:VEVENT
BEGIN:VEVENT
DTSTAMP:20260422T080256Z
UID:1c8f1362-f449-4860-9884-b25c88da0d58
DTSTART;VALUE=DATE:20260429
DTEND;VALUE=DATE:20260501
DESCRIPTION:
LOCATION:
SUMMARY:6-8 MATH STATE TESTING
END:VEVENT
BEGIN:VEVENT
DTSTAMP:20260422T080256Z
UID:f2d26f49-bd8b-4f39-a9ed-203b3d6f6429
DTSTART:20260429T140000
DTEND:20260429T144500
DESCRIPTION:
LOCATION:
SUMMARY:CHARACTER ED ASSEMBLY-PERSEVERANCE 2PM
END:VEVENT
BEGIN:VEVENT
DTSTAMP:20260422T080256Z
UID:f6e864b8-208e-4bcd-8970-329c43caec3f
DTSTART;VALUE=DATE:20260504
DTEND;VALUE=DATE:20260516
DESCRIPTION:
LOCATION:
SUMMARY:RESCUE PUPS SUPPLY DRIVE 
END:VEVENT
BEGIN:VEVENT
DTSTAMP:20260422T080256Z
UID:e3649d3b-4a4a-419d-9068-ef61d7a69eaf
DTSTART:20260505T180000
DTEND:20260505T190000
DESCRIPTION:
LOCATION:
SUMMARY:COFFEE HOUSE NIGHT/ART SHOW 6PM
END:VEVENT
BEGIN:VEVENT
DTSTAMP:20260422T080256Z
UID:e4c80ad1-9995-4bd7-9a43-3f361cb6fcab
DTSTART;VALUE=DATE:20260506
DTEND;VALUE=DATE:20260507
DESCRIPTION:
LOCATION:
SUMMARY:5TH GRADE SCIENCE STATE TESTING
END:VEVENT
BEGIN:VEVENT
DTSTAMP:20260422T080256Z
UID:5b68d75d-9399-4a10-9682-536ac20cacca
DTSTART;VALUE=DATE:20260507
DTEND;VALUE=DATE:20260508
DESCRIPTION:
LOCATION:
SUMMARY:8TH GRADE SCIENCE STATE TESTING
END:VEVENT
BEGIN:VEVENT
DTSTAMP:20260422T080256Z
UID:ee80fe31-6bcc-4903-8467-9d8b167b9c71
DTSTART:20260507T190000
DTEND:20260507T200000
DESCRIPTION:
LOCATION:
SUMMARY:MS SPRING CONCERT
END:VEVENT
BEGIN:VEVENT
DTSTAMP:20260422T080256Z
UID:fafe667f-e426-4c87-ae87-e4c47bc501fa
DTSTART;VALUE=DATE:20260508
DTEND;VALUE=DATE:20260510
DESCRIPTION:
LOCATION:
SUMMARY:NYSSMA SOLO FEST @ FILLMORE CSD
END:VEVENT
BEGIN:VEVENT
DTSTAMP:20260422T080256Z
UID:c2d06ffa-24cb-44d2-9a5b-6de9d90a4bff
DTSTART;VALUE=DATE:20260512
DTEND;VALUE=DATE:20260515
DESCRIPTION:
LOCATION:
SUMMARY:UPK SCREENING
END:VEVENT
BEGIN:VEVENT
DTSTAMP:20260422T080256Z
UID:0e753af0-a758-4aff-b425-dcba82f17e34
DTSTART:20260512T180000
DTEND:20260512T200000
DESCRIPTION:
LOCATION:Elementary Library
SUMMARY:Board of Education Meeting
END:VEVENT
BEGIN:VEVENT
DTSTAMP:20260422T080256Z
UID:352da00c-0f5c-494b-ba82-d19bd54c0da7
DTSTART:20260512T180000
DTEND:20260512T200000
DESCRIPTION:
LOCATION:
SUMMARY:BOE MEETING 6PM
END:VEVENT
BEGIN:VEVENT
DTSTAMP:20260422T080256Z
UID:ef196586-368a-4e3d-a5b0-71d5b18ba085
DTSTART:20260512T190000
DTEND:20260512T200000
DESCRIPTION:
LOCATION:
SUMMARY:HS SPRING CONCERT
END:VEVENT
BEGIN:VEVENT
DTSTAMP:20260422T080256Z
UID:e930cb73-fe97-4f53-91b6-7a15300c8e17
DTSTART;VALUE=DATE:20260514
DTEND;VALUE=DATE:20260517
DESCRIPTION:
LOCATION:
SUMMARY:STATE FFA CONVENTION
END:VEVENT
BEGIN:VEVENT
DTSTAMP:20260422T080256Z
UID:e96efd17-8570-417a-a8a5-8dfe723cdb02
DTSTART:20260515T180000
DTEND:20260515T200000
DESCRIPTION:
LOCATION:
SUMMARY:Steam Night @ the CR MHS
END:VEVENT
BEGIN:VEVENT
DTSTAMP:20260422T080256Z
UID:824a830f-9486-4251-95dc-e27cbbcfcde1
DTSTART:20260518T151500
DTEND:20260518T161500
DESCRIPTION:
LOCATION:
SUMMARY:PTO MEETING 3:15PM
END:VEVENT
BEGIN:VEVENT
DTSTAMP:20260422T080256Z
UID:9769b133-80c5-4a5e-b419-7ea41f5adf7f
DTSTART;VALUE=DATE:20260519
DTEND;VALUE=DATE:20260520
DESCRIPTION:
LOCATION:
SUMMARY:ART AND CURRICULUM SHOWCASE
END:VEVENT
BEGIN:VEVENT
DTSTAMP:20260422T080256Z
UID:7204a6ef-a637-4977-9262-a3ee2815da59
DTSTART;VALUE=DATE:20260519
DTEND;VALUE=DATE:20260522
DESCRIPTION:
LOCATION:
SUMMARY:ECOLOGY CAMP
END:VEVENT
BEGIN:VEVENT
DTSTAMP:20260422T080256Z
UID:b69ff7e5-58bc-4386-9b4c-5e73215d0de0
DTSTART;VALUE=DATE:20260519
DTEND;VALUE=DATE:20260520
DESCRIPTION:
LOCATION:
SUMMARY:PTO ICE CREAM SOCIAL
END:VEVENT
BEGIN:VEVENT
DTSTAMP:20260422T080256Z
UID:be6773af-1f75-4d0c-b0e0-e89da3f1d48b
DTSTART:20260519T180000
DTEND:20260519T190000
DESCRIPTION:
LOCATION:
SUMMARY:CRE K & 1ST GRADE SPRING CONCERT 6PM
END:VEVENT
BEGIN:VEVENT
DTSTAMP:20260422T080256Z
UID:2959ca19-56e9-48a3-8b17-c4fba6ad37a9
DTSTART;VALUE=DATE:20260525
DTEND;VALUE=DATE:20260526
DESCRIPTION:
LOCATION:
SUMMARY:MEMORIAL DAY - NO SCHOOL & ALL OFFICES CLOSED
END:VEVENT
BEGIN:VEVENT
DTSTAMP:20260422T080256Z
UID:e036a5c1-0f04-493d-a58e-e7899e2f9c97
DTSTART:20260526T180000
DTEND:20260526T200000
DESCRIPTION:
LOCATION:MHS Library
SUMMARY:Board of Education Meeting
END:VEVENT
BEGIN:VEVENT
DTSTAMP:20260422T080256Z
UID:f0931fde-c909-42d0-b138-d3075cd009b1
DTSTART:20260526T180000
DTEND:20260526T200000
DESCRIPTION:<html><head><meta http-equiv="Content-Type" content="text/html\
 ; charset=utf-8"></head><body><div></div></body></html>
LOCATION:
SUMMARY:BOE MEETING 6PM
END:VEVENT
BEGIN:VEVENT
DTSTAMP:20260422T080256Z
UID:8e1ef3a0-ce33-4d22-a2e4-68de02a5a73a
DTSTART:20260527T140000
DTEND:20260527T150000
DESCRIPTION:
LOCATION:
SUMMARY:CHARACTER ED ASSEMBLY-FAIRNESS 2PM
END:VEVENT
BEGIN:VEVENT
DTSTAMP:20260422T080256Z
UID:e0a6a45c-3e3c-4523-8ca2-c4d92de4fc39
DTSTART:20260527T180000
DTEND:20260527T190000
DESCRIPTION:
LOCATION:
SUMMARY:CRE-K INFORMATION NIGHT 6PM
END:VEVENT
BEGIN:VEVENT
DTSTAMP:20260422T080256Z
UID:a1a51a3b-4736-422c-8523-c51828ffd483
DTSTART:20260528T180000
DTEND:20260528T183000
DESCRIPTION:
LOCATION:
SUMMARY:CRE-4TH & 5TH GRADE SPRING CONCERT 6PM
END:VEVENT
BEGIN:VEVENT
DTSTAMP:20260422T080256Z
UID:04d97171-1cab-4f73-b8d8-c6471472a9b0
DTSTART:20260530T190000
DTEND:20260530T220000
DESCRIPTION:
LOCATION:
SUMMARY:PROM 
END:VEVENT
BEGIN:VEVENT
DTSTAMP:20260422T080256Z
UID:470f77c0-71ad-43e0-a7b7-d22e4ce8967c
DTSTART;VALUE=DATE:20260603
DTEND;VALUE=DATE:20260607
DESCRIPTION:
LOCATION:
SUMMARY:SENIOR CLASS TRIP
END:VEVENT
BEGIN:VEVENT
DTSTAMP:20260422T080256Z
UID:e8dc9ca6-38a5-415e-a09d-c1636b6ae712
DTSTART:20260609T180000
DTEND:20260609T200000
DESCRIPTION:
LOCATION:MHS Library
SUMMARY:Board of Education Meeting
END:VEVENT
BEGIN:VEVENT
DTSTAMP:20260422T080256Z
UID:c7f3d280-1973-4636-a9df-432674503041
DTSTART;VALUE=DATE:20260610
DTEND;VALUE=DATE:20260613
DESCRIPTION:
LOCATION:
SUMMARY:DC TRIP
END:VEVENT
BEGIN:VEVENT
DTSTAMP:20260422T080256Z
UID:89cfa926-951f-4a98-9be3-9ed3550f4dc6
DTSTART:20260620T100000
DTEND:20260620T120000
DESCRIPTION:
LOCATION:
SUMMARY:CRCS Graduation
END:VEVENT
BEGIN:VEVENT
DTSTAMP:20260422T080256Z
UID:8b6cfa5c-d08b-477d-a954-91c277a0d2fd
DTSTART:20260623T180000
DTEND:20260623T200000
DESCRIPTION:
LOCATION:MHS Library
SUMMARY:Board of Education Meeting - If Necessary
END:VEVENT
END:VCALENDAR
