BEGIN:VCALENDAR
VERSION:2.0
PRODID:icalendar-ruby
CALSCALE:GREGORIAN
BEGIN:VTIMEZONE
TZID:America/Denver
BEGIN:DAYLIGHT
DTSTART:20260308T030000
TZOFFSETFROM:-0700
TZOFFSETTO:-0600
RRULE:FREQ=YEARLY;BYDAY=2SU;BYMONTH=3
TZNAME:MDT
END:DAYLIGHT
BEGIN:STANDARD
DTSTART:20261101T010000
TZOFFSETFROM:-0600
TZOFFSETTO:-0700
RRULE:FREQ=YEARLY;BYDAY=1SU;BYMONTH=11
TZNAME:MST
END:STANDARD
END:VTIMEZONE
BEGIN:VEVENT
DTSTAMP:20260421T135842Z
UID:0e0dab3e-ed45-42cf-b031-80bb4ee32ddd
DTSTART;VALUE=DATE:20260421
DTEND;VALUE=DATE:20260424
DESCRIPTION:3<sup>rd</sup> - 8<sup>th</sup> grade ELA CAT
LOCATION:
SUMMARY:3rd-8th Grade State Assessment
END:VEVENT
BEGIN:VEVENT
DTSTAMP:20260421T135842Z
UID:a3fe8397-9d16-48aa-a35f-37d8e7956062
DTSTART:20260421T090000
DTEND:20260421T100000
DESCRIPTION:
LOCATION:Custer
SUMMARY:MS Track
END:VEVENT
BEGIN:VEVENT
DTSTAMP:20260421T135842Z
UID:5826dcac-b02d-4248-878b-419a25da4d33
DTSTART;VALUE=DATE:20260424
DTEND;VALUE=DATE:20260425
DESCRIPTION:Snow Make-up Day\, if needed
LOCATION:
SUMMARY:Snow Make Up Day if needed
END:VEVENT
BEGIN:VEVENT
DTSTAMP:20260421T135842Z
UID:a72904b3-94f3-45ed-9885-0f7a558a263f
DTSTART:20260424T090000
DTEND:20260424T100000
DESCRIPTION:
LOCATION:Lead
SUMMARY:MS Track 
END:VEVENT
BEGIN:VEVENT
DTSTAMP:20260421T135842Z
UID:b8d2764d-f42c-466f-b14e-3490769a609f
DTSTART;VALUE=DATE:20260428
DTEND;VALUE=DATE:20260501
DESCRIPTION:3<sup>rd</sup> - 8<sup>th</sup> grade ELA PT
LOCATION:
SUMMARY:3rd-8th Grade State Assessment
END:VEVENT
BEGIN:VEVENT
DTSTAMP:20260421T135842Z
UID:9c00aacd-e01d-4bc3-bd2d-9edaaaa79364
DTSTART:20260428T090000
DTEND:20260428T100000
DESCRIPTION:
LOCATION:Edgemont
SUMMARY:MS Track
END:VEVENT
BEGIN:VEVENT
DTSTAMP:20260421T135842Z
UID:c464c008-4384-4dfa-8fc8-8202d805ef5d
DTSTART:20260502T080000
DTEND:20260502T090000
DESCRIPTION:
LOCATION:Sturgis
SUMMARY:MS Track - Jeff Smit
END:VEVENT
BEGIN:VEVENT
DTSTAMP:20260421T135842Z
UID:4c30ce77-665a-4cbe-90ad-ae18adad73dd
DTSTART;VALUE=DATE:20260504
DTEND;VALUE=DATE:20260508
DESCRIPTION:
LOCATION:
SUMMARY:State Assessment Makeup Testing
END:VEVENT
BEGIN:VEVENT
DTSTAMP:20260421T135842Z
UID:871bb0dc-b05b-4dd9-a159-9ee43cb5303f
DTSTART:20260505T080000
DTEND:20260505T090000
DESCRIPTION:
LOCATION:Sioux Park
SUMMARY:MS Track - West River (7th/8th Only)
END:VEVENT
BEGIN:VEVENT
DTSTAMP:20260421T135842Z
UID:3cda47e1-6abe-432f-ab17-7156cf7a3b91
DTSTART;VALUE=DATE:20260508
DTEND;VALUE=DATE:20260509
DESCRIPTION:Snow Make-up Day\, if needed
LOCATION:
SUMMARY:Snow Make Up Day if needed
END:VEVENT
BEGIN:VEVENT
DTSTAMP:20260421T135842Z
UID:389dcf80-182e-48c7-8037-63aaf04176b5
DTSTART:20260508T090000
DTEND:20260508T100000
DESCRIPTION:
LOCATION:Spearfish
SUMMARY:MS Track - BHC
END:VEVENT
BEGIN:VEVENT
DTSTAMP:20260421T135842Z
UID:dd90f66c-5aff-45e6-a30f-03d628b80ce3
DTSTART:20260511T173000
DTEND:20260511T180000
DESCRIPTION:Budget Hearing/Regular
LOCATION:Custer
SUMMARY:School Board Meeting
END:VEVENT
BEGIN:VEVENT
DTSTAMP:20260421T135842Z
UID:ac8d93d2-512e-459b-a926-3af602c77d86
DTSTART:20260511T180000
DTEND:20260511T210000
DESCRIPTION:Regular
LOCATION:Custer
SUMMARY:School Board Meeting
END:VEVENT
BEGIN:VEVENT
DTSTAMP:20260421T135842Z
UID:4890d4e6-97b2-4797-afa6-aea9db79182f
DTSTART:20260512T190000
DTEND:20260512T200000
DESCRIPTION:
LOCATION:1645 Wildcat Ln\, Custer\, SD 57730\, USA
SUMMARY:Sr. Awards Night - CHS Theatre
END:VEVENT
BEGIN:VEVENT
DTSTAMP:20260421T135842Z
UID:c8181056-38c9-484e-9027-f1cffedea316
DTSTART:20260512T190000
DTEND:20260512T200000
DESCRIPTION:
LOCATION:
SUMMARY:Sr. Awards Night - CHS Theatre
END:VEVENT
BEGIN:VEVENT
DTSTAMP:20260421T135842Z
UID:a545d766-e36e-4815-a5d4-062689f55136
DTSTART:20260516T000000
DTEND:20260516T140000
DESCRIPTION:2026 Graduation
LOCATION:
SUMMARY:Graduation
END:VEVENT
BEGIN:VEVENT
DTSTAMP:20260421T135842Z
UID:861c06e4-394d-4099-8240-c125dc3b59b7
DTSTART;VALUE=DATE:20260521
DTEND;VALUE=DATE:20260522
DESCRIPTION:End of 2nd Semester
LOCATION:
SUMMARY:End of 4th Quarter
END:VEVENT
BEGIN:VEVENT
DTSTAMP:20260421T135842Z
UID:70a4dc14-f90f-4e03-9c34-580d5c28bb0c
DTSTART:20260521T074500
DTEND:20260521T120000
DESCRIPTION:Last day of school
LOCATION:
SUMMARY:Last Day of School
END:VEVENT
BEGIN:VEVENT
DTSTAMP:20260421T135842Z
UID:e6bf7c7f-98b8-428e-a588-187f34a4cbe5
DTSTART:20260608T180000
DTEND:20260608T210000
DESCRIPTION:Regular
LOCATION:Hermosa
SUMMARY:School Board Meeting
END:VEVENT
BEGIN:VEVENT
DTSTAMP:20260421T135842Z
UID:36c394cc-9b21-4315-8085-cecc7d2e6104
DTSTART:20260713T180000
DTEND:20260713T210000
DESCRIPTION:Regular
LOCATION:Custer
SUMMARY:School Board Meeting
END:VEVENT
END:VCALENDAR
