BEGIN:VCALENDAR
VERSION:2.0
PRODID:icalendar-ruby
CALSCALE:GREGORIAN
BEGIN:VTIMEZONE
TZID:America/New_York
BEGIN:DAYLIGHT
DTSTART:20260308T030000
TZOFFSETFROM:-0500
TZOFFSETTO:-0400
RRULE:FREQ=YEARLY;BYDAY=2SU;BYMONTH=3
TZNAME:EDT
END:DAYLIGHT
BEGIN:STANDARD
DTSTART:20261101T010000
TZOFFSETFROM:-0400
TZOFFSETTO:-0500
RRULE:FREQ=YEARLY;BYDAY=1SU;BYMONTH=11
TZNAME:EST
END:STANDARD
END:VTIMEZONE
BEGIN:VEVENT
DTSTAMP:20260420T141515Z
UID:a7e9571d-4a96-4408-ae54-46290a573359
DTSTART:20260430T154000
DTEND:20260430T160000
DESCRIPTION:
LOCATION:
SUMMARY:Annual Title I Input Meeting
END:VEVENT
BEGIN:VEVENT
DTSTAMP:20260420T141515Z
UID:3ff04667-0b45-44d2-9da4-e5f9d5075ae6
DTSTART;VALUE=DATE:20260512
DTEND;VALUE=DATE:20260513
DESCRIPTION:
LOCATION:
SUMMARY:Band and Chorus Day Trip to Jacksonville
END:VEVENT
BEGIN:VEVENT
DTSTAMP:20260420T141515Z
UID:7a802c8b-32a6-46b4-b43f-8e7475c35b20
DTSTART:20260513T143000
DTEND:20260513T153000
DESCRIPTION:
LOCATION:
SUMMARY:Senior Walk
END:VEVENT
BEGIN:VEVENT
DTSTAMP:20260420T141515Z
UID:ce455d2c-3ab0-42a0-9cb9-3cc4c2dfdf05
DTSTART:20260513T160000
DTEND:20260513T180000
DESCRIPTION:
LOCATION:
SUMMARY:Volleyball Try-Outs
END:VEVENT
BEGIN:VEVENT
DTSTAMP:20260420T141515Z
UID:03f46ff1-a6a9-4a8a-b94e-6153d2e362a6
DTSTART:20260514T160000
DTEND:20260514T180000
DESCRIPTION:
LOCATION:
SUMMARY:Volleyball Try-Outs
END:VEVENT
BEGIN:VEVENT
DTSTAMP:20260420T141515Z
UID:cb2120d9-3562-4e27-8fc5-a4854670c175
DTSTART:20260515T090000
DTEND:20260515T100000
DESCRIPTION:
LOCATION:
SUMMARY:6/7 Grade Honors
END:VEVENT
BEGIN:VEVENT
DTSTAMP:20260420T141515Z
UID:a68031f2-15af-416f-832f-7922bb3b314b
DTSTART:20260515T103000
DTEND:20260515T113000
DESCRIPTION:
LOCATION:
SUMMARY:8th Grade Honors
END:VEVENT
BEGIN:VEVENT
DTSTAMP:20260420T141515Z
UID:2ce43b5c-1f24-44d7-96bc-e1c55dfb6b60
DTSTART;VALUE=DATE:20260520
DTEND;VALUE=DATE:20260521
DESCRIPTION:
LOCATION:
SUMMARY:Last Day of School
END:VEVENT
BEGIN:VEVENT
DTSTAMP:20260420T141515Z
UID:41842d3f-de8c-444f-835f-58af005ee77a
DTSTART:20260908T070000
DTEND:20260908T080000
DESCRIPTION:
LOCATION:
SUMMARY:Chamber Rise and Shine Breakfast
END:VEVENT
END:VCALENDAR
