BEGIN:VCALENDAR
VERSION:2.0
PRODID:icalendar-ruby
CALSCALE:GREGORIAN
BEGIN:VTIMEZONE
TZID:America/Denver
BEGIN:DAYLIGHT
DTSTART:20260308T030000
TZOFFSETFROM:-0700
TZOFFSETTO:-0600
RRULE:FREQ=YEARLY;BYDAY=2SU;BYMONTH=3
TZNAME:MDT
END:DAYLIGHT
BEGIN:STANDARD
DTSTART:20261101T010000
TZOFFSETFROM:-0600
TZOFFSETTO:-0700
RRULE:FREQ=YEARLY;BYDAY=1SU;BYMONTH=11
TZNAME:MST
END:STANDARD
END:VTIMEZONE
BEGIN:VEVENT
DTSTAMP:20260424T163408Z
UID:12d5f943-0299-405c-90f1-5823f610a29e
DTSTART:20260504T090000
DTEND:20260504T100000
DESCRIPTION:<p>REAL Texas Driver's License or ID REQUIRED</p><p>Social Secu
 rity Card REQUIRED</p><p>OTHER ELIGIBILITY REQUIREMENTS DO APPLY</p>
LOCATION:121 Padres Dr\, El Paso\, TX 79907\, USA
SUMMARY:GED Registration
END:VEVENT
BEGIN:VEVENT
DTSTAMP:20260424T163408Z
UID:a5197b0e-1f55-4b27-a727-d36e9bd622c0
DTSTART:20260504T170000
DTEND:20260504T180000
DESCRIPTION:<p>REAL Texas Driver's License or ID REQUIRED</p><p>Social Secu
 rity Card REQUIRED</p><p>OTHER ELIGIBILITY REQUIREMENTS DO APPLY</p>
LOCATION:121 Padres Dr\, El Paso\, TX 79907\, USA
SUMMARY:GED Registration
END:VEVENT
END:VCALENDAR
