BEGIN:VCALENDAR
VERSION:2.0
PRODID:icalendar-ruby
CALSCALE:GREGORIAN
BEGIN:VTIMEZONE
TZID:America/New_York
BEGIN:DAYLIGHT
DTSTART:20260308T030000
TZOFFSETFROM:-0500
TZOFFSETTO:-0400
RRULE:FREQ=YEARLY;BYDAY=2SU;BYMONTH=3
TZNAME:EDT
END:DAYLIGHT
BEGIN:STANDARD
DTSTART:20261101T010000
TZOFFSETFROM:-0400
TZOFFSETTO:-0500
RRULE:FREQ=YEARLY;BYDAY=1SU;BYMONTH=11
TZNAME:EST
END:STANDARD
END:VTIMEZONE
BEGIN:VEVENT
DTSTAMP:20260423T034751Z
UID:7bb02145-d4f6-4024-9f42-61bb208b38b4
DTSTART;VALUE=DATE:20260422
DTEND;VALUE=DATE:20260423
DESCRIPTION:
LOCATION:
SUMMARY:GMAS Math Section 2 (Grades 3-5)
END:VEVENT
BEGIN:VEVENT
DTSTAMP:20260423T034751Z
UID:ad9a681c-25d1-4cfd-b90f-a50cbced1ffa
DTSTART;VALUE=DATE:20260423
DTEND;VALUE=DATE:20260424
DESCRIPTION:
LOCATION:
SUMMARY:GMAS Science (Grade 5)
END:VEVENT
BEGIN:VEVENT
DTSTAMP:20260423T034751Z
UID:ac8f428b-3ce1-4229-870b-d0eeb7e1f20a
DTSTART;VALUE=DATE:20260428
DTEND;VALUE=DATE:20260429
DESCRIPTION:
LOCATION:
SUMMARY:GMAS ELA Section 1 (Grades 3-5)
END:VEVENT
BEGIN:VEVENT
DTSTAMP:20260423T034751Z
UID:028986ac-363e-4236-8acb-25b71cb41d66
DTSTART;VALUE=DATE:20260429
DTEND;VALUE=DATE:20260430
DESCRIPTION:
LOCATION:
SUMMARY:GMAS ELA Section 2 (Grades 3-5)
END:VEVENT
BEGIN:VEVENT
DTSTAMP:20260423T034751Z
UID:94ba9e94-012a-43dd-84db-1d62e009065b
DTSTART;VALUE=DATE:20260430
DTEND;VALUE=DATE:20260501
DESCRIPTION:
LOCATION:
SUMMARY:GMAS ELA Section 3 (Grades 3-5)
END:VEVENT
BEGIN:VEVENT
DTSTAMP:20260423T034751Z
UID:6ced9f8f-2424-4385-9617-89f5dfdb169a
DTSTART;VALUE=DATE:20260501
DTEND;VALUE=DATE:20260502
DESCRIPTION:
LOCATION:
SUMMARY:Spirit Day
END:VEVENT
BEGIN:VEVENT
DTSTAMP:20260423T034751Z
UID:7f1fba61-7295-4795-8753-7946316f2a29
DTSTART:20260501T134500
DTEND:20260501T140000
DESCRIPTION:
LOCATION:
SUMMARY:Golden Hornet Parade
END:VEVENT
BEGIN:VEVENT
DTSTAMP:20260423T034751Z
UID:7b256f79-8413-40d9-9269-a443cf271768
DTSTART;VALUE=DATE:20260507
DTEND;VALUE=DATE:20260508
DESCRIPTION:
LOCATION:
SUMMARY:3rd Grade Field Trip
END:VEVENT
BEGIN:VEVENT
DTSTAMP:20260423T034751Z
UID:24776f3d-04c6-4dc6-8522-198a266ea398
DTSTART;VALUE=DATE:20260507
DTEND;VALUE=DATE:20260508
DESCRIPTION:
LOCATION:
SUMMARY:4th Grade Field Trip
END:VEVENT
BEGIN:VEVENT
DTSTAMP:20260423T034751Z
UID:330217ea-4764-452f-97b3-2022d6c86cbc
DTSTART;VALUE=DATE:20260507
DTEND;VALUE=DATE:20260508
DESCRIPTION:
LOCATION:
SUMMARY:5th Grade Field Trip
END:VEVENT
BEGIN:VEVENT
DTSTAMP:20260423T034751Z
UID:2b0c7942-a3ea-4843-b42c-72f34810cbeb
DTSTART;VALUE=DATE:20260508
DTEND;VALUE=DATE:20260509
DESCRIPTION:
LOCATION:
SUMMARY:4th Grade Field Trip
END:VEVENT
BEGIN:VEVENT
DTSTAMP:20260423T034751Z
UID:4b536936-3030-421e-b84a-1223f6ce21e0
DTSTART;VALUE=DATE:20260512
DTEND;VALUE=DATE:20260513
DESCRIPTION:
LOCATION:
SUMMARY:Beach Day- 5th Grade & K
END:VEVENT
BEGIN:VEVENT
DTSTAMP:20260423T034751Z
UID:98e10efc-d191-4b58-8960-967b6c727873
DTSTART;VALUE=DATE:20260513
DTEND;VALUE=DATE:20260514
DESCRIPTION:
LOCATION:
SUMMARY:Beach Day- 4th Grade\, 1st Grade\, & SC
END:VEVENT
BEGIN:VEVENT
DTSTAMP:20260423T034751Z
UID:eccf8a29-6162-4a09-a903-09f0ec853e22
DTSTART;VALUE=DATE:20260514
DTEND;VALUE=DATE:20260515
DESCRIPTION:
LOCATION:
SUMMARY:Beach Day- 3rd & 2nd Grade
END:VEVENT
BEGIN:VEVENT
DTSTAMP:20260423T034751Z
UID:494318ce-9c39-423f-a992-8ba497eac0eb
DTSTART:20260515T090000
DTEND:20260515T100000
DESCRIPTION:
LOCATION:
SUMMARY:K Graduation
END:VEVENT
BEGIN:VEVENT
DTSTAMP:20260423T034751Z
UID:e4cbffe5-3c2f-477e-bc75-552e9ad7c304
DTSTART:20260518T083000
DTEND:20260518T093000
DESCRIPTION:
LOCATION:
SUMMARY:1st Grade Honor's Day Program
END:VEVENT
BEGIN:VEVENT
DTSTAMP:20260423T034751Z
UID:f88df93a-d18a-4470-a8b2-de7b06a7b170
DTSTART:20260518T103000
DTEND:20260518T113000
DESCRIPTION:
LOCATION:
SUMMARY:2nd Grade Honor's Day Program
END:VEVENT
BEGIN:VEVENT
DTSTAMP:20260423T034751Z
UID:66e8abab-9052-4520-aa27-0926cd1fbfb1
DTSTART:20260519T083000
DTEND:20260519T093000
DESCRIPTION:
LOCATION:
SUMMARY:3rd Grade Honor's Day Program
END:VEVENT
BEGIN:VEVENT
DTSTAMP:20260423T034751Z
UID:d283e811-d0ac-414f-9b98-d5e46c33df4a
DTSTART:20260519T103000
DTEND:20260519T113000
DESCRIPTION:
LOCATION:
SUMMARY:4th Grade Honor's Day Program
END:VEVENT
BEGIN:VEVENT
DTSTAMP:20260423T034751Z
UID:aba028d7-664f-46e3-bd64-99045cfbe518
DTSTART;VALUE=DATE:20260520
DTEND;VALUE=DATE:20260521
DESCRIPTION:
LOCATION:
SUMMARY:Last day of school
END:VEVENT
BEGIN:VEVENT
DTSTAMP:20260423T034751Z
UID:7b5dce3e-9491-4df3-b906-99dabda18797
DTSTART:20260520T090000
DTEND:20260520T100000
DESCRIPTION:
LOCATION:
SUMMARY:5th Grade Graduation
END:VEVENT
END:VCALENDAR
