BEGIN:VCALENDAR
VERSION:2.0
PRODID:icalendar-ruby
CALSCALE:GREGORIAN
BEGIN:VTIMEZONE
TZID:America/Denver
BEGIN:DAYLIGHT
DTSTART:20260308T030000
TZOFFSETFROM:-0700
TZOFFSETTO:-0600
RRULE:FREQ=YEARLY;BYDAY=2SU;BYMONTH=3
TZNAME:MDT
END:DAYLIGHT
BEGIN:STANDARD
DTSTART:20261101T010000
TZOFFSETFROM:-0600
TZOFFSETTO:-0700
RRULE:FREQ=YEARLY;BYDAY=1SU;BYMONTH=11
TZNAME:MST
END:STANDARD
END:VTIMEZONE
BEGIN:VEVENT
DTSTAMP:20260421T182608Z
UID:b8ac1044-acd0-4032-a9bd-280e868ba618
DTSTART;VALUE=DATE:20260421
DTEND;VALUE=DATE:20260422
DESCRIPTION:
LOCATION:
SUMMARY:STAAR Testing (thru 24)
END:VEVENT
BEGIN:VEVENT
DTSTAMP:20260421T182608Z
UID:324eab18-9a34-498e-820d-910ded5d12a1
DTSTART;VALUE=DATE:20260421
DTEND;VALUE=DATE:20260422
DESCRIPTION:<p>The Math STAAR test  is today. Families have your child go t
 o bed early and have a good breakfast! We will continue STAAR testing toda
 y\, so it is important for them to be rested and fresh. We know our studen
 ts will do their best! Thank you!</p>
LOCATION:
SUMMARY:Math STAAR Test 
END:VEVENT
BEGIN:VEVENT
DTSTAMP:20260421T182608Z
UID:58d5ee8c-6fe4-470b-80ac-4ddf2fef134d
DTSTART:20260422T180000
DTEND:20260422T190000
DESCRIPTION:
LOCATION:
SUMMARY:BOT: Board Meeting
END:VEVENT
BEGIN:VEVENT
DTSTAMP:20260421T182608Z
UID:6e0cef68-52d8-43e5-a2c6-001e7302f2b9
DTSTART;VALUE=DATE:20260423
DTEND;VALUE=DATE:20260424
DESCRIPTION:<p>Be sure to wear your favorite team jersey to kick off NFL dr
 aft night. Let's see how many different teams we can come up with on campu
 s.</p>
LOCATION:
SUMMARY:Team Jersey
END:VEVENT
BEGIN:VEVENT
DTSTAMP:20260421T182608Z
UID:5bfc37b0-50fc-4856-833a-ddd9c306b31b
DTSTART;VALUE=DATE:20260424
DTEND;VALUE=DATE:20260425
DESCRIPTION:<p>Wildcat families join us today for our Kite Flying! We hope 
 the weather proves to be great in supporting our annual event! This event 
 will take place when your child attends PE in their schedule.</p>
LOCATION:
SUMMARY:Kite Day at PE
END:VEVENT
BEGIN:VEVENT
DTSTAMP:20260421T182608Z
UID:ca691f68-ba65-4f83-9c3f-5498d82a9f49
DTSTART;VALUE=DATE:20260424
DTEND;VALUE=DATE:20260425
DESCRIPTION:<p>Let's promote higher education and wear our favorite college
  shirts! We want to support all of our students and let them know it is po
 ssible to achieve their dreams!</p>
LOCATION:
SUMMARY:College T-shirt w/ Uniform Bottoms
END:VEVENT
BEGIN:VEVENT
DTSTAMP:20260421T182608Z
UID:e33c2edf-50f5-4377-a2d3-0aa34d8b11a9
DTSTART:20260424T080000
DTEND:20260424T170000
DESCRIPTION:
LOCATION:UTEP
SUMMARY:Del Valle High School Wind Festival: High School Invitational 
END:VEVENT
BEGIN:VEVENT
DTSTAMP:20260421T182608Z
UID:aa3a0caa-44fe-4ca2-bfd5-0b0a30a28671
DTSTART:20260424T080000
DTEND:20260424T090000
DESCRIPTION:<p>This is the end of the grading period. We hope all of our st
 udents were able to utilize all of Presa's resources to achieve success.</
 p>
LOCATION:
SUMMARY:End of Grading Period
END:VEVENT
BEGIN:VEVENT
DTSTAMP:20260421T182608Z
UID:f0de6500-0561-4ccd-9122-de70d9e11474
DTSTART:20260425T080000
DTEND:20260425T170000
DESCRIPTION:
LOCATION:UTEP
SUMMARY:Del Valle High School Wind Festival: High School Invitational
END:VEVENT
BEGIN:VEVENT
DTSTAMP:20260421T182608Z
UID:7556cc66-3f5e-480f-a9b8-405c02b49260
DTSTART:20260428T080000
DTEND:20260428T170000
DESCRIPTION:
LOCATION:Pebble Hills H S\, 14400 Pebble Hills Blvd\, El Paso\, TX\, 79938
SUMMARY:UIL Middle School Band Evaluation 
END:VEVENT
BEGIN:VEVENT
DTSTAMP:20260421T182608Z
UID:d52ace99-8977-4631-bbb7-a9cb4ae658fe
DTSTART;VALUE=DATE:20260429
DTEND;VALUE=DATE:20260430
DESCRIPTION:<p>Congratulations to our amazing students who qualified for th
 e Math Bee at Presa! Your dedication and math skills have truly paid off\,
  and we are so proud of you.</p><p>This competition celebrates the effort 
 you’ve shown throughout the year. After the Presa Math Bee\, students wi
 ll advance to represent our school at the District Math Bee — what an ex
 citing opportunity!</p><p>We will "Bee" cheering you on every calculation 
 of the way! 🎉📘</p>
LOCATION:
SUMMARY:Math BEE
END:VEVENT
BEGIN:VEVENT
DTSTAMP:20260421T182608Z
UID:5032a6c2-687a-45c4-b33e-01e7b8f0fb62
DTSTART:20260429T080000
DTEND:20260429T170000
DESCRIPTION:
LOCATION:Pebble Hills H S\, 14400 Pebble Hills Blvd\, El Paso\, TX\, 79938
SUMMARY:UIL Middle School Band Evaluation
END:VEVENT
BEGIN:VEVENT
DTSTAMP:20260421T182608Z
UID:aa3c2dad-f3e1-42ac-bda9-aff2862151a6
DTSTART:20260429T113000
DTEND:20260429T130000
DESCRIPTION:
LOCATION:ESC Region 19 Head Start\, 11670 Chito Samaniego Dr\, El Paso\, TX
 \, 79936
SUMMARY:Volunteer Recognition Luncheon
END:VEVENT
BEGIN:VEVENT
DTSTAMP:20260421T182608Z
UID:34c5738d-fd90-4e0e-9d06-e6e7a9e4cec7
DTSTART:20260430T080000
DTEND:20260430T170000
DESCRIPTION:
LOCATION:Pebble Hills H S\, 14400 Pebble Hills Blvd\, El Paso\, TX\, 79938
SUMMARY:UIL Middle School Band Evaluation
END:VEVENT
BEGIN:VEVENT
DTSTAMP:20260421T182608Z
UID:ca06590c-acde-43bc-bf4f-4b5b6acadd29
DTSTART:20260430T090000
DTEND:20260430T140000
DESCRIPTION:
LOCATION:
SUMMARY:Vitalant Blood Drive
END:VEVENT
BEGIN:VEVENT
DTSTAMP:20260421T182608Z
UID:eab94513-3b9f-49e2-9a2c-8ac15c6990c7
DTSTART:20260430T180000
DTEND:20260430T200000
DESCRIPTION:
LOCATION:YISD Central Office
SUMMARY:YISD 25th Annual Ysleta Student Art Awards\, Awards Ceremony 
END:VEVENT
BEGIN:VEVENT
DTSTAMP:20260421T182608Z
UID:530bbe33-12b0-4411-9212-5078786893fc
DTSTART:20260501T080000
DTEND:20260501T170000
DESCRIPTION:
LOCATION:Pebble Hills H S\, 14400 Pebble Hills Blvd\, El Paso\, TX\, 79938
SUMMARY:UIL Middle School Band Evaluation
END:VEVENT
BEGIN:VEVENT
DTSTAMP:20260421T182608Z
UID:a9af2c74-26f3-4bd1-975d-0d0c6449b735
DTSTART:20260502T080000
DTEND:20260502T170000
DESCRIPTION:
LOCATION:Montwood High School\, 12000 Montwood Dr\, El Paso\, TX\, 79936
SUMMARY:Junior VASE Contest 
END:VEVENT
BEGIN:VEVENT
DTSTAMP:20260421T182608Z
UID:10941a1d-5879-461d-a0c3-9188a89c2a5d
DTSTART;VALUE=DATE:20260504
DTEND;VALUE=DATE:20260505
DESCRIPTION:<p>Teacher Appreciation Week begins today! Thank you to all of 
 our teachers that have dedicated their time\, energy and knowledge to our 
 children. You are truly amazing and make Presa the awesome campus that it 
 is!!</p>
LOCATION:
SUMMARY:Teacher Appreciation Week
END:VEVENT
BEGIN:VEVENT
DTSTAMP:20260421T182608Z
UID:aaab37fc-e151-4100-a7d9-960e202964d9
DTSTART:20260505T080000
DTEND:20260505T170000
DESCRIPTION:
LOCATION:Coronado High School\, 100 Champions Pl\, El Paso\, TX\, 79912
SUMMARY:UIL High School Band Evaluation 
END:VEVENT
BEGIN:VEVENT
DTSTAMP:20260421T182608Z
UID:ab8b3f44-362b-4ec9-9900-3a1e3d5bdccf
DTSTART:20260506T080000
DTEND:20260506T170000
DESCRIPTION:
LOCATION:Coronado High School\, 100 Champions Pl\, El Paso\, TX\, 79912
SUMMARY:UIL High School Band Evaluation
END:VEVENT
BEGIN:VEVENT
DTSTAMP:20260421T182608Z
UID:89ba9b95-cada-4c2c-9952-40db8d518312
DTSTART:20260507T080000
DTEND:20260507T170000
DESCRIPTION:
LOCATION:Coronado High School\, 100 Champions Pl\, El Paso\, TX\, 79912
SUMMARY:UIL High School Band Evaluation
END:VEVENT
BEGIN:VEVENT
DTSTAMP:20260421T182608Z
UID:f05e07a9-a63a-4603-9a96-a3a0a1656bd4
DTSTART:20260508T080000
DTEND:20260508T170000
DESCRIPTION:
LOCATION:YISD Central Office
SUMMARY:Riverside High School Beginning Band Festival 
END:VEVENT
BEGIN:VEVENT
DTSTAMP:20260421T182608Z
UID:9a095db7-a756-49a1-82e0-ba8c7cf313aa
DTSTART:20260508T080000
DTEND:20260508T170000
DESCRIPTION:
LOCATION:Del Valle Middle School\, 8674 N Loop Dr\, El Paso\, TX\, 79907
SUMMARY:YISD UIL Middle School Academic District Contest 
END:VEVENT
BEGIN:VEVENT
DTSTAMP:20260421T182608Z
UID:a7b78343-ff6c-401e-a9c2-1cb62da7bf39
DTSTART:20260509T080000
DTEND:20260509T170000
DESCRIPTION:
LOCATION:YISD Central Office
SUMMARY:Riverside High School Beginning Band Festival 
END:VEVENT
BEGIN:VEVENT
DTSTAMP:20260421T182608Z
UID:216b44be-19be-4447-98ea-650f86d73c43
DTSTART:20260509T080000
DTEND:20260509T170000
DESCRIPTION:
LOCATION:Del Valle Middle School\, 8674 N Loop Dr\, El Paso\, TX\, 79907
SUMMARY:YISD UIL Middle School Academic District Contest 
END:VEVENT
BEGIN:VEVENT
DTSTAMP:20260421T182608Z
UID:ec065503-b7e3-4f50-8d09-999b3c27c04d
DTSTART:20260511T170000
DTEND:20260511T190000
DESCRIPTION:
LOCATION:UTEP
SUMMARY:UIL/ TMEA Spring Region Meeting 
END:VEVENT
BEGIN:VEVENT
DTSTAMP:20260421T182608Z
UID:42ba7a91-0f49-444e-bafe-52c9ba034217
DTSTART:20260512T113000
DTEND:20260512T130000
DESCRIPTION:<html><head><meta http-equiv="Content-Type" content="text/html\
 ; charset=utf-8"></head><body><div class="elementToProof" style="font-fami
 ly:Aptos\,Aptos_EmbeddedFont\,Aptos_MSFontService\,Calibri\,Helvetica\,san
 s-serif\; font-size:12pt\; color:rgb(0\,0\,0)"><br></div></body></html>
LOCATION:YISD Atrium
SUMMARY:Partners in Education Luncheon
END:VEVENT
BEGIN:VEVENT
DTSTAMP:20260421T182608Z
UID:f0d79773-3ab4-4553-9361-a05e42f932a2
DTSTART:20260513T173000
DTEND:20260513T183000
DESCRIPTION:
LOCATION:9600 Sims Dr\, El Paso\, Capitan Room
SUMMARY:School Health Advisory Council (SHAC) Meeting
END:VEVENT
BEGIN:VEVENT
DTSTAMP:20260421T182608Z
UID:5761bbbb-7720-4ff2-8a4b-311959c82192
DTSTART:20260513T180000
DTEND:20260513T190000
DESCRIPTION:
LOCATION:
SUMMARY:BOT: Board Workshop
END:VEVENT
BEGIN:VEVENT
DTSTAMP:20260421T182608Z
UID:1077f3ac-9074-49d2-a451-1ab127ee9c08
DTSTART;VALUE=DATE:20260514
DTEND;VALUE=DATE:20260515
DESCRIPTION:<p>For those that qualified earlier in the semester we will be 
 cheering them on at the District Math Bee!! We know they will represent Pr
 esa well!</p>
LOCATION:
SUMMARY:District Math Bee
END:VEVENT
BEGIN:VEVENT
DTSTAMP:20260421T182608Z
UID:b0d6f0dc-49e4-44b4-9360-5448a547341e
DTSTART:20260514T080000
DTEND:20260514T143000
DESCRIPTION:
LOCATION:YISD Atrium
SUMMARY:3rd Annual District Math Bee (Elementary )
END:VEVENT
BEGIN:VEVENT
DTSTAMP:20260421T182608Z
UID:b05c3308-f4fa-4faa-85d2-aa99302fe1dc
DTSTART:20260514T180000
DTEND:20260514T190000
DESCRIPTION:<html><head><meta http-equiv="Content-Type" content="text/html\
 ; charset=utf-8"></head><body><div style="font-family:&quot\;Franklin Goth
 ic Book&quot\;\,&quot\;Avenir Next Condensed&quot\;\,sans-serif\; font-siz
 e:12pt\; color:rgb(0\,0\,0)"><b>Senior</b> <b>Military Recognition Night</
 b>&nbsp\;honors graduating YISD seniors from the Class of 2026&nbsp\;who h
 ave enlisted in the military.</div></body></html>
LOCATION:Ysleta Room at Central Office
SUMMARY:Senior Military Recognition Night
END:VEVENT
BEGIN:VEVENT
DTSTAMP:20260421T182608Z
UID:876975c0-c0e7-4107-a0d5-583744b048dc
DTSTART:20260514T180000
DTEND:20260514T200000
DESCRIPTION:
LOCATION:YISD Central Office
SUMMARY:YISD Middle School Honor Dance
END:VEVENT
BEGIN:VEVENT
DTSTAMP:20260421T182608Z
UID:c9afdf05-ba47-4a17-8dcc-270b513f42a3
DTSTART:20260516T080000
DTEND:20260516T170000
DESCRIPTION:
LOCATION:Del Valle High School\, 950 Bordeaux Dr\, El Paso\, TX\, 79907
SUMMARY:YISD Elementary and Middle School Solo & Ensemble Contest 
END:VEVENT
BEGIN:VEVENT
DTSTAMP:20260421T182608Z
UID:a7efb4e5-08ea-4255-8a48-4d1fe1ffdbb9
DTSTART:20260516T170000
DTEND:20260516T190000
DESCRIPTION:
LOCATION:YISD Central Office
SUMMARY:YISD District Academic Events Awards Ceremonies\, (ES\,MS\,UIL/Span
 ish & Creative Writing)  
END:VEVENT
BEGIN:VEVENT
DTSTAMP:20260421T182608Z
UID:8ed80cd5-e76d-4e09-a97d-e6ae4378c9f0
DTSTART;VALUE=DATE:20260518
DTEND;VALUE=DATE:20260519
DESCRIPTION:
LOCATION:YISD Central Office
SUMMARY:YISD 3rd Annual Employee Art Exhibition Opens
END:VEVENT
BEGIN:VEVENT
DTSTAMP:20260421T182608Z
UID:5510fb08-6dc4-4bfe-a297-b231cf57b03e
DTSTART:20260521T180000
DTEND:20260521T200000
DESCRIPTION:
LOCATION:YISD Central Office
SUMMARY:YISD 3rd Annual Employee Art Exhibition Awards Ceremony 
END:VEVENT
BEGIN:VEVENT
DTSTAMP:20260421T182608Z
UID:0c943049-b061-4ae6-8342-efaae523a32d
DTSTART;VALUE=DATE:20260525
DTEND;VALUE=DATE:20260526
DESCRIPTION:
LOCATION:
SUMMARY:Memorial Day/ District Holiday/ Inclement Weather Make-Up Day
END:VEVENT
BEGIN:VEVENT
DTSTAMP:20260421T182608Z
UID:fb52c8f1-9918-45c5-9e29-05cd95ba89df
DTSTART;VALUE=DATE:20260525
DTEND;VALUE=DATE:20260526
DESCRIPTION:<p>No school today in honor of Memorial Day.</p>
LOCATION:
SUMMARY:Memorial Day District Holiday
END:VEVENT
BEGIN:VEVENT
DTSTAMP:20260421T182608Z
UID:68abc68e-cce0-4892-b2e9-7c010a9ac8e7
DTSTART;VALUE=DATE:20260528
DTEND;VALUE=DATE:20260529
DESCRIPTION:<p>Today is Field Day for our Presa Students. It will be a fun 
 filled day outside with teachers and students. Be ready for the sun and we
 ar hats\, sunscreen and drink plenty of water today. We are ecstatic to ce
 lebrate end of this amazing year!</p>
LOCATION:
SUMMARY:Field Day for Students
END:VEVENT
BEGIN:VEVENT
DTSTAMP:20260421T182608Z
UID:e2d702fb-39ca-41ed-beba-4944d5b2718f
DTSTART;VALUE=DATE:20260529
DTEND;VALUE=DATE:20260530
DESCRIPTION:
LOCATION:
SUMMARY:Early Release/Students Half-Day (4 Hours) Last Instructional Day
END:VEVENT
BEGIN:VEVENT
DTSTAMP:20260421T182608Z
UID:8843baaf-497c-4494-ba6f-cb13543d2ea6
DTSTART:20260529T080000
DTEND:20260529T233000
DESCRIPTION:<p>Early Release for Students. Please\, be sure to pick up your
  child early today at 11:30 for early release. Teachers and staff will hav
 e meetings in the afternoon.</p>
LOCATION:
SUMMARY:Early Release for Students
END:VEVENT
BEGIN:VEVENT
DTSTAMP:20260421T182608Z
UID:a50ce30a-095d-49cb-9319-d7d86667f745
DTSTART:20260529T090000
DTEND:20260529T100000
DESCRIPTION:
LOCATION:
SUMMARY:Young Women's Leadership Academy Graduation (9 AM)
END:VEVENT
BEGIN:VEVENT
DTSTAMP:20260421T182608Z
UID:7ec2330d-194e-4c25-811f-85b002ec7b0f
DTSTART:20260529T200000
DTEND:20260529T220000
DESCRIPTION:
LOCATION:
SUMMARY:Ysleta High School Graduation (8 PM)
END:VEVENT
BEGIN:VEVENT
DTSTAMP:20260421T182608Z
UID:e9912d0f-9b8b-4979-9f17-1bb2989bd3b6
DTSTART:20260530T080000
DTEND:20260530T090000
DESCRIPTION:
LOCATION:
SUMMARY:Valle Verde Early College HS Graduation (8 AM)
END:VEVENT
BEGIN:VEVENT
DTSTAMP:20260421T182608Z
UID:77559088-2f86-4572-8692-47db14fce608
DTSTART:20260530T110000
DTEND:20260530T110000
DESCRIPTION:
LOCATION:
SUMMARY:J.M. Hanks High School Graduation (11 am)
END:VEVENT
BEGIN:VEVENT
DTSTAMP:20260421T182608Z
UID:7b9aa5c8-2ca4-455e-a00d-e5d3c4ff893d
DTSTART:20260530T150000
DTEND:20260530T150000
DESCRIPTION:
LOCATION:
SUMMARY:Riverside High School Graduation (3 AM)
END:VEVENT
BEGIN:VEVENT
DTSTAMP:20260421T182608Z
UID:9475392b-5efb-4704-9443-cfa74b5abe86
DTSTART:20260530T190000
DTEND:20260530T190000
DESCRIPTION:
LOCATION:
SUMMARY:Parkland High School Graduation (7 PM)
END:VEVENT
BEGIN:VEVENT
DTSTAMP:20260421T182608Z
UID:8b7f639f-a87a-4d12-80d7-cf33c0fc3bbf
DTSTART:20260531T090000
DTEND:20260531T090000
DESCRIPTION:
LOCATION:
SUMMARY:Eastwood High School Graduation (9 AM)
END:VEVENT
BEGIN:VEVENT
DTSTAMP:20260421T182608Z
UID:f87e737c-1d6b-47b3-93c5-4b85c606e0aa
DTSTART:20260531T130000
DTEND:20260531T130000
DESCRIPTION:
LOCATION:
SUMMARY:Bel Air High School Graduation (1 PM)
END:VEVENT
BEGIN:VEVENT
DTSTAMP:20260421T182608Z
UID:211561c8-a357-4f75-b8cf-2cbe824c0c2b
DTSTART:20260531T170000
DTEND:20260531T170000
DESCRIPTION:
LOCATION:
SUMMARY:Del Valle High School Graduation (5PM)
END:VEVENT
BEGIN:VEVENT
DTSTAMP:20260421T182608Z
UID:afaffa95-b4e3-4908-b85e-b618e9e9f57a
DTSTART;VALUE=DATE:20260616
DTEND;VALUE=DATE:20260617
DESCRIPTION:
LOCATION:
SUMMARY:English l EOC
END:VEVENT
BEGIN:VEVENT
DTSTAMP:20260421T182608Z
UID:a6cf3d54-362c-4605-a26d-a1a435d3d9c1
DTSTART;VALUE=DATE:20260617
DTEND;VALUE=DATE:20260618
DESCRIPTION:
LOCATION:
SUMMARY:Biology and US History EOC
END:VEVENT
BEGIN:VEVENT
DTSTAMP:20260421T182608Z
UID:5e83b717-c51c-41b5-a9cf-e44a1ecfe094
DTSTART;VALUE=DATE:20260618
DTEND;VALUE=DATE:20260619
DESCRIPTION:
LOCATION:
SUMMARY:English ll EOC and Algebra l EOC
END:VEVENT
BEGIN:VEVENT
DTSTAMP:20260421T182608Z
UID:de71f9a8-d757-4a5e-b0cd-205efe85cdf0
DTSTART:20260624T180000
DTEND:20260624T183000
DESCRIPTION:
LOCATION:Ysleta Room
SUMMARY:Board Meeting
END:VEVENT
BEGIN:VEVENT
DTSTAMP:20260421T182608Z
UID:5b3c1d02-551c-4d89-8b06-976e89e0873c
DTSTART;VALUE=DATE:20260629
DTEND;VALUE=DATE:20260704
DESCRIPTION:
LOCATION:
SUMMARY:District Holiday
END:VEVENT
BEGIN:VEVENT
DTSTAMP:20260421T182608Z
UID:8b48e350-d92f-451e-9f98-1214751233e3
DTSTART:20260819T180000
DTEND:20260819T183000
DESCRIPTION:
LOCATION:Ysleta Room
SUMMARY:Board Meeting
END:VEVENT
BEGIN:VEVENT
DTSTAMP:20260421T182608Z
UID:5dab27e3-d803-4711-90cf-5f31f19656eb
DTSTART:20260824T160000
DTEND:20260824T180000
DESCRIPTION:
LOCATION:
SUMMARY:Parent Conference-High School/Full Day Instruction
END:VEVENT
BEGIN:VEVENT
DTSTAMP:20260421T182608Z
UID:550a2f95-759f-4c39-8e94-da990db46dca
DTSTART:20260825T160000
DTEND:20260825T180000
DESCRIPTION:
LOCATION:
SUMMARY:Parent Conference-Middle School/Full Day Instruction
END:VEVENT
BEGIN:VEVENT
DTSTAMP:20260421T182608Z
UID:14407b1e-7660-47ef-afcd-224f7f382ac8
DTSTART;VALUE=DATE:20260907
DTEND;VALUE=DATE:20260908
DESCRIPTION:
LOCATION:
SUMMARY:Labor Day/District Holiday
END:VEVENT
BEGIN:VEVENT
DTSTAMP:20260421T182608Z
UID:23259aef-0f99-4eeb-b858-44ac53220f8d
DTSTART:20260916T160000
DTEND:20260916T180000
DESCRIPTION:
LOCATION:
SUMMARY:Parent Conference-Elementary School/Full Day Instruction
END:VEVENT
BEGIN:VEVENT
DTSTAMP:20260421T182608Z
UID:69d0c9c2-3d0e-4617-a88e-7a48d31d8665
DTSTART:20260916T180000
DTEND:20260916T183000
DESCRIPTION:
LOCATION:Ysleta Room
SUMMARY:Board Meeting
END:VEVENT
BEGIN:VEVENT
DTSTAMP:20260421T182608Z
UID:3cbe7d3d-9efa-4cc5-b132-f4856879deea
DTSTART;VALUE=DATE:20260928
DTEND;VALUE=DATE:20261003
DESCRIPTION:
LOCATION:
SUMMARY:Intersession
END:VEVENT
BEGIN:VEVENT
DTSTAMP:20260421T182608Z
UID:b31cd2cc-697f-42d7-962f-19c1e9ef0dce
DTSTART;VALUE=DATE:20261005
DTEND;VALUE=DATE:20261010
DESCRIPTION:
LOCATION:
SUMMARY:Fall Break
END:VEVENT
BEGIN:VEVENT
DTSTAMP:20260421T182608Z
UID:a7098ec8-196d-4dd6-943d-04348455d7c8
DTSTART:20261021T180000
DTEND:20261021T183000
DESCRIPTION:
LOCATION:Ysleta Room
SUMMARY:Board Meeting
END:VEVENT
BEGIN:VEVENT
DTSTAMP:20260421T182608Z
UID:32419b88-fff9-420b-b1e8-52eed7333926
DTSTART:20261110T180000
DTEND:20261110T183000
DESCRIPTION:
LOCATION:Ysleta Room
SUMMARY:Board Meeting
END:VEVENT
BEGIN:VEVENT
DTSTAMP:20260421T182608Z
UID:a4c779ce-197f-4c16-ad7b-7266eb636ef2
DTSTART;VALUE=DATE:20261111
DTEND;VALUE=DATE:20261112
DESCRIPTION:
LOCATION:
SUMMARY:Veteran's Day/District Holiday
END:VEVENT
BEGIN:VEVENT
DTSTAMP:20260421T182608Z
UID:bc4c80f3-bae8-484d-b584-f664373fdf53
DTSTART;VALUE=DATE:20261123
DTEND;VALUE=DATE:20261128
DESCRIPTION:
LOCATION:
SUMMARY:Thanksgiving Break
END:VEVENT
BEGIN:VEVENT
DTSTAMP:20260421T182608Z
UID:c4e173f8-ef4a-4eca-9d55-f4495591c8dc
DTSTART:20261216T180000
DTEND:20261216T183000
DESCRIPTION:
LOCATION:Ysleta Room
SUMMARY:Board Meeting
END:VEVENT
BEGIN:VEVENT
DTSTAMP:20260421T182608Z
UID:43d922b1-b059-4a4f-87ff-028ebbba6a2d
DTSTART;VALUE=DATE:20261218
DTEND;VALUE=DATE:20261219
DESCRIPTION:
LOCATION:
SUMMARY:End of Semester/Early Release
END:VEVENT
BEGIN:VEVENT
DTSTAMP:20260421T182608Z
UID:c18e2613-5b0e-48af-8861-c673938384f4
DTSTART;VALUE=DATE:20261221
DTEND;VALUE=DATE:20261226
DESCRIPTION:
LOCATION:
SUMMARY:Winter Break District Holiday
END:VEVENT
BEGIN:VEVENT
DTSTAMP:20260421T182608Z
UID:a1a05176-7a58-4de9-b239-88f871614a19
DTSTART;VALUE=DATE:20261228
DTEND;VALUE=DATE:20270102
DESCRIPTION:
LOCATION:
SUMMARY:Winter Break District Holiday
END:VEVENT
END:VCALENDAR
