BEGIN:VCALENDAR
VERSION:2.0
PRODID:icalendar-ruby
CALSCALE:GREGORIAN
BEGIN:VTIMEZONE
TZID:America/New_York
BEGIN:DAYLIGHT
DTSTART:20260308T030000
TZOFFSETFROM:-0500
TZOFFSETTO:-0400
RRULE:FREQ=YEARLY;BYDAY=2SU;BYMONTH=3
TZNAME:EDT
END:DAYLIGHT
BEGIN:STANDARD
DTSTART:20261101T010000
TZOFFSETFROM:-0400
TZOFFSETTO:-0500
RRULE:FREQ=YEARLY;BYDAY=1SU;BYMONTH=11
TZNAME:EST
END:STANDARD
END:VTIMEZONE
BEGIN:VEVENT
DTSTAMP:20260425T034351Z
UID:e79a7516-9459-4a99-bb1b-8f6651fb3bb5
DTSTART;VALUE=DATE:20260428
DTEND;VALUE=DATE:20260429
DESCRIPTION:
LOCATION:
SUMMARY:Interim Reports (Quarter 4)
END:VEVENT
BEGIN:VEVENT
DTSTAMP:20260425T034351Z
UID:56b77c39-63f9-47be-992c-fb51ebf64820
DTSTART;VALUE=DATE:20260428
DTEND;VALUE=DATE:20260429
DESCRIPTION:<html><head><meta http-equiv="Content-Type" content="text/html\
 ; charset=utf-8"></head><body><p><strong>School Bus Driver Appreciation Da
 y</strong></p><p>April 28 is School Bus Driver Appreciation Day! #ACPSDcel
 ebrates</p><p><em>Our district notes a number of dates for appreciation\, 
 celebration\, and awareness on our calendar. The dates tagged Appreciation
 /Celebration/Awareness represent those groups\, events\, causes that are m
 ost widely recognized in our public schools\, offices\, and community\, bu
 t are not an exhaustive list.</em></p></body></html>
LOCATION:
SUMMARY:School Bus Driver Appreciation Day
END:VEVENT
BEGIN:VEVENT
DTSTAMP:20260425T034351Z
UID:5e378a3b-8904-4b4d-9017-e71697e2196b
DTSTART;VALUE=DATE:20260501
DTEND;VALUE=DATE:20260502
DESCRIPTION:<html><head><meta http-equiv="Content-Type" content="text/html\
 ; charset=utf-8"></head><body><p><strong>Asian American and Pacific Island
 er Heritage Month</strong></p><p>May is Asian American and Pacific Islande
 r Heritage Month! #ACPSDcelebrates</p><p><em>Our district notes a number o
 f dates for appreciation\, celebration\, and awareness on our calendar. Th
 e dates tagged Appreciation/Celebration/Awareness represent those groups\,
  events\, causes that are most widely recognized in our public schools\, o
 ffices\, and community\, but are not an exhaustive list.</em></p></body></
 html>
LOCATION:
SUMMARY:Asian American and Pacific Islander Heritage Month
END:VEVENT
BEGIN:VEVENT
DTSTAMP:20260425T034351Z
UID:80664c8a-668d-403a-b226-05d14664cc09
DTSTART;VALUE=DATE:20260501
DTEND;VALUE=DATE:20260502
DESCRIPTION:<html><head><meta http-equiv="Content-Type" content="text/html\
 ; charset=utf-8"></head><body><p><strong>National School Principals' Day</
 strong></p><p>May 1 is National School Principals' Day! #ACPSDcelebrates</
 p><p><em>Our district notes a number of dates for appreciation\, celebrati
 on\, and awareness on our calendar. The dates tagged Appreciation/Celebrat
 ion/Awareness represent those groups\, events\, causes that are most widel
 y recognized in our public schools\, offices\, and community\, but are not
  an exhaustive list.</em></p></body></html>
LOCATION:
SUMMARY:National School Principals' Day
END:VEVENT
BEGIN:VEVENT
DTSTAMP:20260425T034351Z
UID:2e9a0fa2-da86-4e0e-b2f3-a0ff0484e383
DTSTART;VALUE=DATE:20260501
DTEND;VALUE=DATE:20260502
DESCRIPTION:<html><head><meta http-equiv="Content-Type" content="text/html\
 ; charset=utf-8"></head><body><p><strong>School Lunch Hero Day</strong></p
 ><p>May 1 is School Lunch Hero Day! #ACPSDcelebrates</p><p><em>Our distric
 t notes a number of dates for appreciation\, celebration\, and awareness o
 n our calendar. The dates tagged Appreciation/Celebration/Awareness repres
 ent those groups\, events\, causes that are most widely recognized in our 
 public schools\, offices\, and community\, but are not an exhaustive list.
 </em></p></body></html>
LOCATION:
SUMMARY:School Lunch Hero Day
END:VEVENT
BEGIN:VEVENT
DTSTAMP:20260425T034351Z
UID:5f337837-9d68-4ed0-aa43-0402f8e55032
DTSTART;VALUE=DATE:20260504
DTEND;VALUE=DATE:20260505
DESCRIPTION:<html><head><meta http-equiv="Content-Type" content="text/html\
 ; charset=utf-8"></head><body><p><strong>Teacher Appreciation Week</strong
 ></p><p>May 4-8 is Teacher Appreciation Week! #ACPSDcelebrates</p><p><em>O
 ur district notes a number of dates for appreciation\, celebration\, and a
 wareness on our calendar. The dates tagged Appreciation/Celebration/Awaren
 ess represent those groups\, events\, causes that are most widely recogniz
 ed in our public schools\, offices\, and community\, but are not an exhaus
 tive list.</em></p></body></html>
LOCATION:
SUMMARY:Teacher Appreciation Week
END:VEVENT
BEGIN:VEVENT
DTSTAMP:20260425T034351Z
UID:737632e5-7e1f-43d5-b646-55ceacbe29ae
DTSTART;VALUE=DATE:20260506
DTEND;VALUE=DATE:20260507
DESCRIPTION:<html><head><meta http-equiv="Content-Type" content="text/html\
 ; charset=utf-8"></head><body><p><strong>National Interpreter Appreciation
  Day</strong></p><p>May 6 is National Interpreter Appreciation Day! #ACPSD
 celebrates</p><p><em>Our district notes a number of dates for appreciation
 \, celebration\, and awareness on our calendar. The dates tagged Appreciat
 ion/Celebration/Awareness represent those groups\, events\, causes that ar
 e most widely recognized in our public schools\, offices\, and community\,
  but are not an exhaustive list.</em></p></body></html>
LOCATION:
SUMMARY:National Interpreter Appreciation Day
END:VEVENT
BEGIN:VEVENT
DTSTAMP:20260425T034351Z
UID:e9ee1f8a-c073-418f-a22f-02bb7bf90475
DTSTART;VALUE=DATE:20260506
DTEND;VALUE=DATE:20260507
DESCRIPTION:<html><head><meta http-equiv="Content-Type" content="text/html\
 ; charset=utf-8"></head><body><p><strong>National School Nurse Day</strong
 ></p><p>May 6 is National School Nurse Day! #ACPSDcelebrates</p><p><em>Our
  district notes a number of dates for appreciation\, celebration\, and awa
 reness on our calendar. The dates tagged Appreciation/Celebration/Awarenes
 s represent those groups\, events\, causes that are most widely recognized
  in our public schools\, offices\, and community\, but are not an exhausti
 ve list.</em></p></body></html>
LOCATION:
SUMMARY:National School Nurse Day
END:VEVENT
BEGIN:VEVENT
DTSTAMP:20260425T034351Z
UID:caba8812-4ef8-4c6a-a34f-c8300fa7cbdc
DTSTART;VALUE=DATE:20260508
DTEND;VALUE=DATE:20260509
DESCRIPTION:<html><head><meta http-equiv="Content-Type" content="text/html\
 ; charset=utf-8"></head><body><p><strong>National School Communicators Day
 </strong></p><p>May 8 is National School Communicators Day! #ACPSDcelebrat
 es</p><p><em>Our district notes a number of dates for appreciation\, celeb
 ration\, and awareness on our calendar. The dates tagged Appreciation/Cele
 bration/Awareness represent those groups\, events\, causes that are most w
 idely recognized in our public schools\, offices\, and community\, but are
  not an exhaustive list.</em></p></body></html>
LOCATION:
SUMMARY:National School Communicators Day
END:VEVENT
BEGIN:VEVENT
DTSTAMP:20260425T034351Z
UID:bb597cda-1a13-4a1c-a9ee-be93a28582d0
DTSTART:20260512T180000
DTEND:20260512T180000
DESCRIPTION:<html><head><meta http-equiv="Content-Type" content="text/html\
 ; charset=utf-8"></head><body><p>The Aiken County Board of Education will 
 hold its regular meeting on Tuesday\, May 12\, 2026\, at the District Offi
 ce\, 1000 Brookhaven Drive\, Aiken\, beginning at 6:00 p.m. The meeting ma
 y also be livestreamed from the district's website.</p></body></html>
LOCATION:1000 Brookhaven Dr\, Aiken\, SC 29803\, USA
SUMMARY:Board of Education Meeting
END:VEVENT
BEGIN:VEVENT
DTSTAMP:20260425T034351Z
UID:4e41b141-ae12-4f33-b6db-c41c530c634a
DTSTART;VALUE=DATE:20260518
DTEND;VALUE=DATE:20260519
DESCRIPTION:<html><head><meta http-equiv="Content-Type" content="text/html\
 ; charset=utf-8"></head><body><p><strong>Classified School Employee Apprec
 iation Week</strong></p><p>May 18-22 is Classified School Employee Appreci
 ation Week! #ACPSDcelebrates</p><p><em>Our district notes a number of date
 s for appreciation\, celebration\, and awareness on our calendar. The date
 s tagged Appreciation/Celebration/Awareness represent those groups\, event
 s\, causes that are most widely recognized in our public schools\, offices
 \, and community\, but are not an exhaustive list.</em></p></body></html>
LOCATION:
SUMMARY:Classified School Employee Appreciation Week
END:VEVENT
BEGIN:VEVENT
DTSTAMP:20260425T034351Z
UID:3dd7500d-acc4-4dc7-b8f9-ca4485259fa0
DTSTART;VALUE=DATE:20260518
DTEND;VALUE=DATE:20260519
DESCRIPTION:<html><head><meta http-equiv="Content-Type" content="text/html\
 ; charset=utf-8"></head><body><p><strong>National Speech-Language Patholog
 ist Appreciation Day</strong></p><p>May 18 is National Speech-Language Pat
 hologist Appreciation Day! #ACPSDcelebrates</p><p><em>Our district notes a
  number of dates for appreciation\, celebration\, and awareness on our cal
 endar. The dates tagged Appreciation/Celebration/Awareness represent those
  groups\, events\, causes that are most widely recognized in our public sc
 hools\, offices\, and community\, but are not an exhaustive list.</em></p>
 </body></html>
LOCATION:
SUMMARY:National Speech-Language Pathologist Appreciation Day
END:VEVENT
BEGIN:VEVENT
DTSTAMP:20260425T034351Z
UID:1ea42d31-697b-48e8-8672-7722ea573c7f
DTSTART;VALUE=DATE:20260525
DTEND;VALUE=DATE:20260526
DESCRIPTION:<html><head><meta http-equiv="Content-Type" content="text/html\
 ; charset=utf-8"></head><body><p><span>All ACPSD schools and offices will 
 be closed in observance of the Memorial Day Holiday.</span></p></body></ht
 ml>
LOCATION:
SUMMARY:Memorial Day Holiday
END:VEVENT
BEGIN:VEVENT
DTSTAMP:20260425T034351Z
UID:4218b821-c1f3-441c-a2dc-de062f4fab98
DTSTART:20260526T180000
DTEND:20260526T180000
DESCRIPTION:<html><head><meta http-equiv="Content-Type" content="text/html\
 ; charset=utf-8"></head><body><p>The Aiken County Board of Education will 
 hold its regular meeting on Tuesday\, May 26\, 2026\, at the District Offi
 ce\, 1000 Brookhaven Drive\, Aiken\, beginning at 6:00 p.m. The meeting ma
 y also be livestreamed from the district's website.</p></body></html>
LOCATION:1000 Brookhaven Dr\, Aiken\, SC 29803\, USA
SUMMARY:Board of Education Meeting
END:VEVENT
BEGIN:VEVENT
DTSTAMP:20260425T034351Z
UID:e47a433d-fde4-4b67-a96a-16327f19e1e9
DTSTART;VALUE=DATE:20260527
DTEND;VALUE=DATE:20260528
DESCRIPTION:<html><head><meta http-equiv="Content-Type" content="text/html\
 ; charset=utf-8"></head><body><p><strong>Half Day Dismissal Schedule (Exce
 pt Area 4):</strong><br>Elementary - 11:00 a.m.<br>Middle - 11:30 a.m.<br>
 High - 11:50 a.m.</p><p><strong>Area 4 (Ridge Spring-Monetta/Wagener) Half
  Day Dismissal Schedule:</strong><br>Elementary - 11:30 a.m.<br>Middle - 1
 1:40 a.m.<br>High - 11:50 a.m.</p></body></html>
LOCATION:
SUMMARY:Half Day for Students
END:VEVENT
BEGIN:VEVENT
DTSTAMP:20260425T034351Z
UID:52a524b8-008e-4dc5-baaf-9ceca385e3a0
DTSTART:20260527T170000
DTEND:20260527T170000
DESCRIPTION:<html><head><meta http-equiv="Content-Type" content="text/html\
 ; charset=utf-8"></head><body><p>Aiken County Public School District CTE S
 enior Completer Ceremony<br>Wednesday\, May 27\, 2026\; 5 p.m.&nbsp\;<br>U
 SC Aiken Convocation Center<br><br>Join us in honoring the Class of 2026 b
 y watching their commencement ceremony online and downloading a copy of th
 e official graduation program. To view the livestream and access materials
 \, visit<a href="http://www.acpsd.net/graduation">www.acpsd.net/graduation
 </a> and select your high school.</p><p>Hats off to this year's graduates!
 &nbsp\;</p><p><strong>Media Partners:</strong> Press passes are required t
 o cover graduation ceremonies. Please contact the Communications Departmen
 t to request a pass by emailing Communications@acpsd.net.</p><p>2049 Champ
 ion Way\, Graniteville\, SC 29829\, USA</p></body></html>
LOCATION:2049 Champion Way\, Graniteville\, SC 29829\, USA
SUMMARY:Aiken County Public School District CTE Senior Completer Ceremony
END:VEVENT
BEGIN:VEVENT
DTSTAMP:20260425T034351Z
UID:aceb14e0-98c4-43b6-906d-a91d7154d5df
DTSTART:20260527T190000
DTEND:20260527T190000
DESCRIPTION:<html><head><meta http-equiv="Content-Type" content="text/html\
 ; charset=utf-8"></head><body><p>Wagener-Salley High School Graduation Cer
 emony<br>Wednesday\, May 27\, 2026\; 7 p.m.&nbsp\;<br>USC Aiken Convocatio
 n Center<br><br>Join us in honoring the Class of 2026 by watching their co
 mmencement ceremony online and downloading a copy of the official graduati
 on program. To view the livestream and access materials\, visit<a href="ht
 tp://www.acpsd.net/graduation">www.acpsd.net/graduation</a> and select you
 r high school.</p><p>Hats off to this year's graduates!&nbsp\;</p><p><stro
 ng>Media Partners:</strong> Press passes are required to cover graduation 
 ceremonies. Please contact the Communications Department to request a pass
  by emailing Communications@acpsd.net.</p><p>2049 Champion Way\, Granitevi
 lle\, SC 29829\, USA</p></body></html>
LOCATION:2049 Champion Way\, Graniteville\, SC 29829\, USA
SUMMARY:Wagener-Salley High School Graduation Ceremony
END:VEVENT
BEGIN:VEVENT
DTSTAMP:20260425T034351Z
UID:0dbfa141-fc33-4222-a71a-c99da75f7d71
DTSTART;VALUE=DATE:20260528
DTEND;VALUE=DATE:20260529
DESCRIPTION:<html><head><meta http-equiv="Content-Type" content="text/html\
 ; charset=utf-8"></head><body><p><strong>Half Day Dismissal Schedule (Exce
 pt Area 4):</strong><br>Elementary - 11:00 a.m.<br>Middle - 11:30 a.m.<br>
 High - 11:50 a.m.</p><p><strong>Area 4 (Ridge Spring-Monetta/Wagener) Half
  Day Dismissal Schedule:</strong><br>Elementary - 11:30 a.m.<br>Middle - 1
 1:40 a.m.<br>High - 11:50 a.m.</p></body></html>
LOCATION:
SUMMARY:Half Day for Students
END:VEVENT
BEGIN:VEVENT
DTSTAMP:20260425T034351Z
UID:be395e8f-0e64-482e-9128-63f7af3025d8
DTSTART;VALUE=DATE:20260528
DTEND;VALUE=DATE:20260529
DESCRIPTION:
LOCATION:
SUMMARY:Last Day of School for Students
END:VEVENT
BEGIN:VEVENT
DTSTAMP:20260425T034351Z
UID:3454ef50-941a-4de2-b81a-39d76acbb211
DTSTART;VALUE=DATE:20260528
DTEND;VALUE=DATE:20260529
DESCRIPTION:<html><head><meta http-equiv="Content-Type" content="text/html\
 ; charset=utf-8"></head><body><p><span>Quarter 4 Report Cards Issued for E
 lementary School Students</span></p></body></html>
LOCATION:
SUMMARY:Report Cards (Quarter 4) - Elementary
END:VEVENT
BEGIN:VEVENT
DTSTAMP:20260425T034351Z
UID:1a8ea354-9107-450c-b6e2-c5c5311cb3b6
DTSTART:20260528T140000
DTEND:20260528T140000
DESCRIPTION:<html><head><meta http-equiv="Content-Type" content="text/html\
 ; charset=utf-8"></head><body><p>North Augusta High School Graduation Cere
 mony<br>Thursday\, May 28\, 2026\; 2 p.m.<br>USC Aiken Convocation Center<
 br><br>Join us in honoring the Class of 2026 by watching their commencemen
 t ceremony online and downloading a copy of the official graduation progra
 m. To view the livestream and access materials\, visit<a href="http://www.
 acpsd.net/graduation">www.acpsd.net/graduation</a> and select your high sc
 hool.</p><p>Hats off to this year's graduates!&nbsp\;</p><p><strong>Media 
 Partners:</strong> Press passes are required to cover graduation ceremonie
 s. Please contact the Communications Department to request a pass by email
 ing communications@acpsd.net.</p><p>2049 Champion Way\, Graniteville\, SC 
 29829\, USA</p></body></html>
LOCATION:2049 Champion Way\, Graniteville\, SC 29829\, USA
SUMMARY:North Augusta High School Graduation Ceremony
END:VEVENT
BEGIN:VEVENT
DTSTAMP:20260425T034351Z
UID:283c9a68-0903-4274-b2bc-541608ca3dc8
DTSTART:20260528T170000
DTEND:20260528T170000
DESCRIPTION:<html><head><meta http-equiv="Content-Type" content="text/html\
 ; charset=utf-8"></head><body><p>Aiken Scholars Academy Graduation Ceremon
 y<br>Thursday\, May 28\, 2026\; 5 p.m.&nbsp\;<br>USC Aiken Convocation Cen
 ter<br><br>Join us in honoring the Class of 2026 by watching their commenc
 ement ceremony online and downloading a copy of the official graduation pr
 ogram. To view the livestream and access materials\, visit<a href="http://
 www.acpsd.net/graduation">www.acpsd.net/graduation</a> and select your hig
 h school.</p><p>Hats off to this year's graduates!&nbsp\;</p><p><strong>Me
 dia Partners:</strong> Press passes are required to cover graduation cerem
 onies. Please contact the Communications Department to request a pass by e
 mailing<a href="mailto:Communications@acpsd.net">Communications@acpsd.net<
 /a>.</p><p>2049 Champion Way\, Graniteville\, SC 29829\, USA</p><p></p></b
 ody></html>
LOCATION:2049 Champion Way\, Graniteville\, SC 29829\, USA
SUMMARY:Aiken Scholars Academy Graduation Ceremony
END:VEVENT
BEGIN:VEVENT
DTSTAMP:20260425T034351Z
UID:0e45d0da-632d-4274-b574-aeac95fb2a7c
DTSTART:20260528T200000
DTEND:20260528T200000
DESCRIPTION:<html><head><meta http-equiv="Content-Type" content="text/html\
 ; charset=utf-8"></head><body><p>Aiken High School Graduation Ceremony<br>
 Thursday\, May 28\, 2026\; 8 p.m.&nbsp\;<br>USC Aiken Convocation Center<b
 r><br>Join us in honoring the Class of 2026 by watching their commencement
  ceremony online and downloading a copy of the official graduation program
 . To view the livestream and access materials\, visit<a href="http://www.a
 cpsd.net/graduation">www.acpsd.net/graduation</a> and select your high sch
 ool.</p><p>Hats off to this year's graduates!&nbsp\;</p><p><strong>Media P
 artners:</strong> Press passes are required to cover graduation ceremonies
 . Please contact the Communications Department to request a pass by emaili
 ng<a href="mailto:Communications@acpsd.net">Communications@acpsd.net</a>.<
 /p><p>2049 Champion Way\, Graniteville\, SC 29829\, USA</p><p></p></body><
 /html>
LOCATION:2049 Champion Way\, Graniteville\, SC 29829\, USA
SUMMARY:Aiken High School Graduation Ceremony
END:VEVENT
BEGIN:VEVENT
DTSTAMP:20260425T034351Z
UID:7131d7b0-2825-4463-bd6c-82489dcaf9c1
DTSTART;VALUE=DATE:20260529
DTEND;VALUE=DATE:20260530
DESCRIPTION:<html><head><meta http-equiv="Content-Type" content="text/html\
 ; charset=utf-8"></head><body><p>Workday for teachers. No school for stude
 nts unless Weather Make-Up Day is needed.</p></body></html>
LOCATION:
SUMMARY:Teacher Workday
END:VEVENT
BEGIN:VEVENT
DTSTAMP:20260425T034351Z
UID:7b2011e4-d6a4-4acf-83d9-5e06527bcc77
DTSTART;VALUE=DATE:20260529
DTEND;VALUE=DATE:20260530
DESCRIPTION:<html><head><meta http-equiv="Content-Type" content="text/html\
 ; charset=utf-8"></head><body><p>Weather Make-Up Day - No School for stude
 nts unless Weather Make-Up Day is needed.</p></body></html>
LOCATION:
SUMMARY:Weather Make-Up Day
END:VEVENT
BEGIN:VEVENT
DTSTAMP:20260425T034351Z
UID:b2d00fb9-c6a0-4e61-9142-d6cbd39a76c5
DTSTART:20260529T080000
DTEND:20260529T090000
DESCRIPTION:<html><head><meta http-equiv="Content-Type" content="text/html\
 ; charset=utf-8"></head><body><p>South Aiken High School Graduation Ceremo
 ny<br>Friday\, May 29\, 2026\; 3 p.m.<br>USC Aiken Convocation Center<br><
 br>Join us in honoring the Class of 2026 by watching their commencement ce
 remony online and downloading a copy of the official graduation program. T
 o view the livestream and access materials\, visit<a href="http://www.acps
 d.net/graduation">www.acpsd.net/graduation</a> and select your high school
 .</p><p>Hats off to this year's graduates!&nbsp\;</p><p><strong>Media Part
 ners:</strong> Press passes are required to cover graduation ceremonies. P
 lease contact the Communications Department to request a pass by emailing<
 a href="mailto:communications@acpsd.net">communications@acpsd.net</a>.</p>
 <p>2049 Champion Way\, Graniteville\, SC 29829\, USA</p></body></html>
LOCATION:2049 Champion Way\, Graniteville\, SC 29829\, USA
SUMMARY:South Aiken High School Graduation Ceremony
END:VEVENT
BEGIN:VEVENT
DTSTAMP:20260425T034351Z
UID:35bbd2e7-3dda-4513-9c38-98c414a00923
DTSTART:20260529T090000
DTEND:20260529T090000
DESCRIPTION:<html><head><meta http-equiv="Content-Type" content="text/html\
 ; charset=utf-8"></head><body><p>Silver Bluff High School Graduation Cerem
 ony<br>Friday\, May 29\, 2026\; 9 a.m.<br>USC Aiken Convocation Center<br>
 <br>Join us in honoring the Class of 2026 by watching their commencement c
 eremony online and downloading a copy of the official graduation program. 
 To view the livestream and access materials\, visit<a href="http://www.acp
 sd.net/graduation">www.acpsd.net/graduation</a> and select your high schoo
 l.</p><p>Hats off to this year's graduates!&nbsp\;</p><p><strong>Media Par
 tners:</strong> Press passes are required to cover graduation ceremonies. 
 Please contact the Communications Department to request a pass by emailing
 <a href="mailto:communications@acpsd.net">communications@acpsd.net</a>.</p
 ><p>2049 Champion Way\, Graniteville\, SC 29829\, USA</p></body></html>
LOCATION:2049 Champion Way\, Graniteville\, SC 29829\, USA
SUMMARY:Silver Bluff High School Graduation Ceremony
END:VEVENT
BEGIN:VEVENT
DTSTAMP:20260425T034351Z
UID:bd426465-4253-45bd-94f7-5975798d4de1
DTSTART:20260529T120000
DTEND:20260529T120000
DESCRIPTION:<html><head><meta http-equiv="Content-Type" content="text/html\
 ; charset=utf-8"></head><body><p>Ridge Spring-Monetta High School Graduati
 on Ceremony<br>Friday\, May 29\, 2026\; 12 p.m.<br>USC Aiken Convocation C
 enter<br><br>Join us in honoring the Class of 2026 by watching their comme
 ncement ceremony online and downloading a copy of the official graduation 
 program. To view the livestream and access materials\, visit<a href="http:
 //www.acpsd.net/graduation">www.acpsd.net/graduation</a> and select your h
 igh school.</p><p>Hats off to this year's graduates!&nbsp\;</p><p><strong>
 Media Partners:</strong> Press passes are required to cover graduation cer
 emonies. Please contact the Communications Department to request a pass by
  emailing<a href="mailto:communications@acpsd.net">communications@acpsd.ne
 t</a>.</p><p>2049 Champion Way\, Graniteville\, SC 29829\, USA</p></body><
 /html>
LOCATION:2049 Champion Way\, Graniteville\, SC 29829\, USA
SUMMARY:Ridge Spring-Monetta High School Graduation Ceremony
END:VEVENT
BEGIN:VEVENT
DTSTAMP:20260425T034351Z
UID:eb39e949-5b01-4266-ab44-c0702c88b3e2
DTSTART:20260529T190000
DTEND:20260529T190000
DESCRIPTION:<html><head><meta http-equiv="Content-Type" content="text/html\
 ; charset=utf-8"></head><body><p>Midland Valley High School Graduation Cer
 emony<br>Friday\, May 29\, 2026\; 7 p.m.<br>USC Aiken Convocation Center<b
 r><br>Join us in honoring the Class of 2026 by watching their commencement
  ceremony online and downloading a copy of the official graduation program
 . To view the livestream and access materials\, visit<a href="http://www.a
 cpsd.net/graduation">www.acpsd.net/graduation</a> and select your high sch
 ool.</p><p>Hats off to this year's graduates!&nbsp\;</p><p><strong>Media P
 artners:</strong> Press passes are required to cover graduation ceremonies
 . Please contact the Communications Department to request a pass by emaili
 ng<a href="mailto:communications@acpsd.net">communications@acpsd.net</a>.<
 /p><p>2049 Champion Way\, Graniteville\, SC 29829\, USA</p></body></html>
LOCATION:2049 Champion Way\, Graniteville\, SC 29829\, USA
SUMMARY:Midland Valley High School Graduation Ceremony
END:VEVENT
BEGIN:VEVENT
DTSTAMP:20260425T034351Z
UID:2fe682be-c2d5-4490-bb5a-c8f29f425177
DTSTART;VALUE=DATE:20260604
DTEND;VALUE=DATE:20260605
DESCRIPTION:<html><head><meta http-equiv="Content-Type" content="text/html\
 ; charset=utf-8"></head><body><p><span>Quarter 4 Report Cards Issued for M
 iddle and High School Students</span></p></body></html>
LOCATION:
SUMMARY:Report Cards (Quarter 4) - Middle/High
END:VEVENT
BEGIN:VEVENT
DTSTAMP:20260425T034351Z
UID:69231d88-23fb-4aa3-8620-0c9c3d43daf7
DTSTART;VALUE=DATE:20260604
DTEND;VALUE=DATE:20260605
DESCRIPTION:<html><head><meta http-equiv="Content-Type" content="text/html\
 ; charset=utf-8"></head><body><p>Quarter 4 Report Card Issued for Middle a
 nd High School Students</p></body></html>
LOCATION:
SUMMARY:Report Cards (Quarter 4) - Middle/High
END:VEVENT
BEGIN:VEVENT
DTSTAMP:20260425T034351Z
UID:5384c308-0cd6-400a-bcd6-30581f0281ed
DTSTART:20260609T180000
DTEND:20260609T180000
DESCRIPTION:<html><head><meta http-equiv="Content-Type" content="text/html\
 ; charset=utf-8"></head><body><p>The Aiken County Board of Education will 
 hold its regular meeting on Tuesday\, June 9\, 2026\, at the District Offi
 ce\, 1000 Brookhaven Drive\, Aiken\, beginning at 6:00 p.m. The meeting ma
 y also be livestreamed from the district's website.</p></body></html>
LOCATION:1000 Brookhaven Dr\, Aiken\, SC 29803\, USA
SUMMARY:Board of Education Meeting
END:VEVENT
BEGIN:VEVENT
DTSTAMP:20260425T034351Z
UID:71c16ca3-3121-4172-bbb7-33aceebd0944
DTSTART:20260609T180000
DTEND:20260609T180000
DESCRIPTION:<html><head><meta http-equiv="Content-Type" content="text/html\
 ; charset=utf-8"></head><body><p>The Aiken County Board of Education will 
 hold its regular meeting on Tuesday\, June 9\, 2026\, at the District Offi
 ce\, 1000 Brookhaven Drive\, Aiken\, beginning at 6:00 p.m. The meeting ma
 y also be livestreamed from the district's website.</p></body></html>
LOCATION:1000 Brookhaven Dr\, Aiken\, SC 29803\, USA
SUMMARY:Board of Education Meeting
END:VEVENT
BEGIN:VEVENT
DTSTAMP:20260425T034351Z
UID:de3cd890-cb68-4075-ba80-0cb254fd9435
DTSTART;VALUE=DATE:20260619
DTEND;VALUE=DATE:20260620
DESCRIPTION:<html><head><meta http-equiv="Content-Type" content="text/html\
 ; charset=utf-8"></head><body><p>June 19 is Juneteenth! #ACPSDcelebrates</
 p><p><em>Our district notes a number of dates for appreciation\, celebrati
 on\, and awareness on our calendar. The dates tagged Appreciation/Celebrat
 ion/Awareness represent those groups\, events\, causes that are most widel
 y recognized in our public schools\, offices\, and community\, but are not
  an exhaustive list.</em></p></body></html>
LOCATION:
SUMMARY:Juneteenth
END:VEVENT
END:VCALENDAR
