BEGIN:VCALENDAR
VERSION:2.0
PRODID:icalendar-ruby
CALSCALE:GREGORIAN
BEGIN:VTIMEZONE
TZID:America/Chicago
BEGIN:DAYLIGHT
DTSTART:20260308T030000
TZOFFSETFROM:-0600
TZOFFSETTO:-0500
RRULE:FREQ=YEARLY;BYDAY=2SU;BYMONTH=3
TZNAME:CDT
END:DAYLIGHT
BEGIN:STANDARD
DTSTART:20261101T010000
TZOFFSETFROM:-0500
TZOFFSETTO:-0600
RRULE:FREQ=YEARLY;BYDAY=1SU;BYMONTH=11
TZNAME:CST
END:STANDARD
END:VTIMEZONE
BEGIN:VEVENT
DTSTAMP:20260423T194807Z
UID:9661850d-f512-4b98-99e4-a403e8139364
DTSTART:20260423T170000
DTEND:20260423T193000
DESCRIPTION:
LOCATION:
SUMMARY:Boys Soccer Jones vs Reynolds @ Reynolds
END:VEVENT
BEGIN:VEVENT
DTSTAMP:20260423T194807Z
UID:bca677a4-6a9c-4044-8e06-1b3c3ba6929a
DTSTART:20260423T170000
DTEND:20260423T193000
DESCRIPTION:
LOCATION:
SUMMARY:Girls Soccer Jones vs Reynolds @ Jones
END:VEVENT
BEGIN:VEVENT
DTSTAMP:20260423T194807Z
UID:5a438762-10a1-4639-b9ff-e93c074ad7df
DTSTART:20260428T183000
DTEND:20260428T193000
DESCRIPTION:
LOCATION:
SUMMARY:5th Grade Band Meeting @ Jones 
END:VEVENT
BEGIN:VEVENT
DTSTAMP:20260423T194807Z
UID:8874af84-5659-45d4-ad4e-9fc30321bf6e
DTSTART:20260430T170000
DTEND:20260430T193000
DESCRIPTION:
LOCATION:
SUMMARY:Boys Soccer Jones vs Rogers @ Jones 
END:VEVENT
BEGIN:VEVENT
DTSTAMP:20260423T194807Z
UID:33b37f00-29f5-4e46-863f-c7cab55c3630
DTSTART:20260430T170000
DTEND:20260430T193000
DESCRIPTION:
LOCATION:
SUMMARY:Girls Soccer Jones vs Rogers @ Rogers
END:VEVENT
BEGIN:VEVENT
DTSTAMP:20260423T194807Z
UID:8411cdd6-9ff2-4cc2-a6f7-4c7471d5c0e1
DTSTART:20260501T094000
DTEND:20260501T130000
DESCRIPTION:
LOCATION:Daniel L. Jones Middle School\, 12201 Prestwick Holw Dr\, Frisco\,
  TX 75035\, USA
SUMMARY:Unstoppable Athletes (Special Olympics) - Track & Field Competition
END:VEVENT
BEGIN:VEVENT
DTSTAMP:20260423T194807Z
UID:fb024eb5-a1a1-4b33-8cba-36ed8714421f
DTSTART:20260507T170000
DTEND:20260507T193000
DESCRIPTION:
LOCATION:
SUMMARY:Boys Soccer Hays vs Jones @ Hays 
END:VEVENT
BEGIN:VEVENT
DTSTAMP:20260423T194807Z
UID:94ea6bf5-890c-4afa-a961-a1ecd36402b8
DTSTART:20260507T170000
DTEND:20260507T193000
DESCRIPTION:
LOCATION:
SUMMARY:Girls Soccer Jones vs Hays @ Jones 
END:VEVENT
BEGIN:VEVENT
DTSTAMP:20260423T194807Z
UID:cba9daea-f394-4670-a3db-a6140da11bca
DTSTART:20260508T183000
DTEND:20260508T193000
DESCRIPTION:
LOCATION:
SUMMARY:Productions Spring Show
END:VEVENT
BEGIN:VEVENT
DTSTAMP:20260423T194807Z
UID:e2d4a087-c153-4f10-bf5f-11c527718401
DTSTART:20260512T173000
DTEND:20260512T183000
DESCRIPTION:
LOCATION:
SUMMARY:Orchestra Concert @ Jones Cafeteria 
END:VEVENT
BEGIN:VEVENT
DTSTAMP:20260423T194807Z
UID:bf39e947-5ee7-40d1-b0a9-d28089d22e59
DTSTART:20260513T173000
DTEND:20260513T183000
DESCRIPTION:
LOCATION:
SUMMARY:Choir Concert @ RHHS
END:VEVENT
BEGIN:VEVENT
DTSTAMP:20260423T194807Z
UID:456b5d55-24be-4a75-9bb5-e253e2ba8a51
DTSTART:20260514T170000
DTEND:20260514T193000
DESCRIPTION:
LOCATION:
SUMMARY:Boys Soccer Rushing vs Jones @ Jones 
END:VEVENT
BEGIN:VEVENT
DTSTAMP:20260423T194807Z
UID:991d07f2-c433-4fbd-b2e0-6646d2369bdf
DTSTART:20260514T170000
DTEND:20260514T193000
DESCRIPTION:
LOCATION:
SUMMARY:Girls Soccer Rushing vs Jones @ Rushing 
END:VEVENT
BEGIN:VEVENT
DTSTAMP:20260423T194807Z
UID:e28835aa-4c75-4ba6-97e2-2225c294baa8
DTSTART:20260518T190000
DTEND:20260518T200000
DESCRIPTION:<a href="https://live.myvrspot.com/player?udi=cHJvc3Blcg%3D%3D&
 c=cHJvc3BlcjE%3D">https://www.google.com/url?q=https://live.myvrspot.com/p
 layer?udi%3DcHJvc3Blcg%253D%253D%26c%3DcHJvc3BlcjE%253D&amp\;sa=D&amp\;sou
 rce=calendar&amp\;ust=1757790949607209&amp\;usg=AOvVaw2YBiomI3uqMCSyYP6Lh8
 3o</a>
LOCATION:Prosper ISD Administration\, 605 E 7th St\, Prosper\, TX 75078\, U
 SA
SUMMARY:School Board Meeting
END:VEVENT
BEGIN:VEVENT
DTSTAMP:20260423T194807Z
UID:db1593a0-9bf5-4dd7-9305-6a2e1587aa2c
DTSTART;VALUE=DATE:20260520
DTEND;VALUE=DATE:20260521
DESCRIPTION:
LOCATION:
SUMMARY:End of 4th 9 Weeks / Last Day of School
END:VEVENT
BEGIN:VEVENT
DTSTAMP:20260423T194807Z
UID:9511d5a3-a177-4711-9135-bee84230198f
DTSTART:20260520T131500
DTEND:20260520T140000
DESCRIPTION:
LOCATION:
SUMMARY:8th Grade Jag Walk 
END:VEVENT
BEGIN:VEVENT
DTSTAMP:20260423T194807Z
UID:a3bb674a-60b6-4e5f-9442-b90c28800c9e
DTSTART;VALUE=DATE:20260521
DTEND;VALUE=DATE:20260523
DESCRIPTION:<a href="https://prosperisdtx.sites.thrillshare.com/o/pisd/page
 /graduation">Graduation Information</a>
LOCATION:
SUMMARY:Prosper ISD Graduations
END:VEVENT
BEGIN:VEVENT
DTSTAMP:20260423T194807Z
UID:2d002281-00f0-40f1-9c7f-33b7363953e2
DTSTART;VALUE=DATE:20260521
DTEND;VALUE=DATE:20260523
DESCRIPTION:
LOCATION:
SUMMARY:Staff Professional Learning
END:VEVENT
BEGIN:VEVENT
DTSTAMP:20260423T194807Z
UID:6386c12a-619f-457a-a992-d62e3a04c1e9
DTSTART:20260521T090000
DTEND:20260521T110000
DESCRIPTION:<a href="https://prosperisdtx.sites.thrillshare.com/o/pisd/page
 /phs-graduation">PHS Graduation Information</a>
LOCATION:Prosper ISD Children's Health Stadium\, 2000 Stadium Dr\, Prosper\
 , TX 75078\, USA
SUMMARY:Prosper High School Graduation 
END:VEVENT
BEGIN:VEVENT
DTSTAMP:20260423T194807Z
UID:20e9c7cc-87b7-4a74-90d5-4354d40347ef
DTSTART:20260521T193000
DTEND:20260521T213000
DESCRIPTION:<a href="https://prosperisdtx.sites.thrillshare.com/o/pisd/page
 /rhhs-graduation">RHHS Graduation Information</a>
LOCATION:Prosper ISD Children's Health Stadium\, 2000 Stadium Dr\, Prosper\
 , TX 75078\, USA
SUMMARY:Rock Hill High School Graduation
END:VEVENT
BEGIN:VEVENT
DTSTAMP:20260423T194807Z
UID:1707e3fa-a9dc-452e-a0a0-216bd2f3ef05
DTSTART:20260522T090000
DTEND:20260522T110000
DESCRIPTION:<a href="https://prosperisdtx.sites.thrillshare.com/o/pisd/page
 /rhs-graduation">RHS Graduation Information</a>
LOCATION:Prosper ISD Children's Health Stadium\, 2000 Stadium Dr\, Prosper\
 , TX 75078\, USA
SUMMARY:Richland High School Graduation
END:VEVENT
BEGIN:VEVENT
DTSTAMP:20260423T194807Z
UID:007e3252-c348-45f4-aeb4-c4c73e0b30ae
DTSTART:20260522T193000
DTEND:20260522T213000
DESCRIPTION:<a href="https://prosperisdtx.sites.thrillshare.com/o/pisd/page
 /wghs-graduation-update">WGHS Graduation Information</a>
LOCATION:Prosper ISD Children's Health Stadium\, 2000 Stadium Dr\, Prosper\
 , TX 75078\, USA
SUMMARY:Walnut Grove High School Graduation
END:VEVENT
BEGIN:VEVENT
DTSTAMP:20260423T194807Z
UID:089e4cef-c411-41d6-bed9-621007ea7e71
DTSTART:20260615T190000
DTEND:20260615T200000
DESCRIPTION:<a href="https://live.myvrspot.com/player?udi=cHJvc3Blcg%3D%3D&
 c=cHJvc3BlcjE%3D">https://www.google.com/url?q=https://live.myvrspot.com/p
 layer?udi%3DcHJvc3Blcg%253D%253D%26c%3DcHJvc3BlcjE%253D&amp\;sa=D&amp\;sou
 rce=calendar&amp\;ust=1757790949607209&amp\;usg=AOvVaw2YBiomI3uqMCSyYP6Lh8
 3o</a>
LOCATION:Prosper ISD Administration\, 605 E 7th St\, Prosper\, TX 75078\, U
 SA
SUMMARY:School Board Meeting
END:VEVENT
END:VCALENDAR
