BEGIN:VCALENDAR
VERSION:2.0
PRODID:icalendar-ruby
CALSCALE:GREGORIAN
BEGIN:VTIMEZONE
TZID:America/Chicago
BEGIN:DAYLIGHT
DTSTART:20260308T030000
TZOFFSETFROM:-0600
TZOFFSETTO:-0500
RRULE:FREQ=YEARLY;BYDAY=2SU;BYMONTH=3
TZNAME:CDT
END:DAYLIGHT
BEGIN:STANDARD
DTSTART:20261101T010000
TZOFFSETFROM:-0500
TZOFFSETTO:-0600
RRULE:FREQ=YEARLY;BYDAY=1SU;BYMONTH=11
TZNAME:CST
END:STANDARD
END:VTIMEZONE
BEGIN:VEVENT
DTSTAMP:20260420T000225Z
UID:2f715b5b-d5a3-46b6-ba36-388d58fda9e3
DTSTART:20260420T090000
DTEND:20260420T140000
DESCRIPTION:This session offers professional learning in early literacy\, a
 long with state-level updates and opportunities for regional networking an
 d collaboration.
LOCATION:CESA 8 - Aspen Room
SUMMARY:Elementary Reading Teacher Network
END:VEVENT
BEGIN:VEVENT
DTSTAMP:20260420T000225Z
UID:bdfd54ea-2556-41ad-b565-792db06c2082
DTSTART:20260421T090000
DTEND:20260421T140000
DESCRIPTION:Principals and learning leaders\, this network event provides t
 he just-in-time updates you need from the DPI and CESA. Join us to collabo
 rate on optimizing teacher support via your educator effectiveness models\
 , discover practical strategies that directly boost teachers' instructiona
 l practices\, and connect with colleagues to exchange best practices and c
 ollectively elevate leadership throughout our schools.
LOCATION:CESA 8 - Maple Room
SUMMARY:Principal / Learning Leaders Network: Empowering School Leaders Day
END:VEVENT
BEGIN:VEVENT
DTSTAMP:20260420T000225Z
UID:33481b6a-a388-4bf8-ad29-ed986e00640d
DTSTART:20260422T083000
DTEND:20260422T150000
DESCRIPTION:Speech Networking will be an opportunity for speech professiona
 ls to come together to network\, share resources\, engage in DPI updates a
 nd review of new guidance\, and professional learning.This year we will ex
 plore a few AI tools at every session to build resources.We will also have
  the opportunity to engage in video learning specific to topics of need/in
 terest as in previous years.In the Spring of 2026\, Diversity training wil
 l be offered for ASHA licensing requirements.CESA 8 looks forward to suppo
 rting your professional needs and we are excited to serve you in 25-26.
LOCATION:CESA 8 - Aspen Room
SUMMARY:Speech Networking
END:VEVENT
BEGIN:VEVENT
DTSTAMP:20260420T000225Z
UID:5854a41e-5316-40cc-ba3e-eca2016bf46e
DTSTART:20260424T090000
DTEND:20260424T150000
DESCRIPTION:This training is designed for educators working with students a
 ged 14-21 to enhance their skills in transition planning and writing Posts
 econdary Transition Plans (PTPs).This hands-on training will equip you wit
 h the tools you need to better support your students’ future success and
  post-graduation plans.
LOCATION:CESA 8 - Aspen Room
SUMMARY:Transition Training for Educators
END:VEVENT
BEGIN:VEVENT
DTSTAMP:20260420T000225Z
UID:8db5e1b6-1e64-4bf6-93d7-93c404bd952b
DTSTART:20260427T093000
DTEND:20260427T143000
DESCRIPTION:AI Guideline Workshop supporting districts in developing data i
 nformed AI guidelines\, communication plans\, and roadmap for what AI look
 s like in their schools.
LOCATION:CESA 8 - Aspen Room
SUMMARY:AI Guideline Workshop
END:VEVENT
BEGIN:VEVENT
DTSTAMP:20260420T000225Z
UID:53438b57-c299-4552-bab8-6da2079d4611
DTSTART:20260428T090000
DTEND:20260428T140000
DESCRIPTION:Join fellow Family and Consumer Sciences educators for a day fo
 cused on Pathways & Partnerships. This engaging event is designed to conne
 ct your curriculum with the evolving needs of the local workforce. Partici
 pants will also hear from guest presenters beyond CESA\, offering diverse 
 perspectives and real-world insights.
LOCATION:CESA 8 - Maple Room
SUMMARY:Family & Consumer Science Networking Event
END:VEVENT
BEGIN:VEVENT
DTSTAMP:20260420T000225Z
UID:8326174a-6387-4f9f-ae6d-32cbb05d2f10
DTSTART:20260429T113000
DTEND:20260429T145000
DESCRIPTION:Fall and Spring Coordinator Meetings provide updates on enrollm
 ent\, recruitment\, DWD updates and the sharing of other supportive resour
 ces to support a successful Youth Apprenticeship Consortium.
LOCATION:CESA 8 - Tamarack Room
SUMMARY:Northwoods Youth Apprenticeship Coordinator Meeting
END:VEVENT
BEGIN:VEVENT
DTSTAMP:20260420T000225Z
UID:74c30780-1067-40c0-ad4e-93042a301313
DTSTART:20260505T090000
DTEND:20260505T120000
DESCRIPTION:Connect with fellow Superintendents’ Administrative Assistant
 s for a professional networking session focused on collaboration and share
 d learning. This meeting offers a chance to exchange ideas\, discuss chall
 enges\, and explore effective practices that support district leadership. 
 Come ready to learn from your peers and gain insights to enhance your work
  within your district.
LOCATION:CESA 8 - Maple Room
SUMMARY:Superintendent Assistant's Networking
END:VEVENT
BEGIN:VEVENT
DTSTAMP:20260420T000225Z
UID:00a40aad-b15b-492f-91db-f033d588345d
DTSTART:20260506T150000
DTEND:20260506T160000
DESCRIPTION:Academic Career Planning (ACP) updates\, resources and DPI cont
 ent shared with districts to support ACP/E4E legislative requirements
LOCATION:CESA 8 - Maple Room
SUMMARY:Academic Career Planning (ACP) Community of Practice Day 3
END:VEVENT
BEGIN:VEVENT
DTSTAMP:20260420T000225Z
UID:70408c5f-d4a4-4785-aff9-c5b5de5e63f3
DTSTART:20260512T113000
DTEND:20260512T150000
DESCRIPTION:K-12 Technology Leaders are invited to join us at CESA 8 for th
 e 2025-26 Technology Network.Each meeting will be Future Ready Technology 
 Leader - focused\, with Community partnerships and Curriculum\, Instructio
 n\, and Assessment being core gears for the year.
LOCATION:CESA 8 - Maple Room
SUMMARY:Technology Leader Network Day 2
END:VEVENT
BEGIN:VEVENT
DTSTAMP:20260420T000225Z
UID:4b833fa4-978e-40ab-b73f-666152745749
DTSTART:20260520T080000
DTEND:20260520T150000
DESCRIPTION:CESA 8 and CESA 9 are partnering with WASBO to help district le
 adersnavigate the challenges of declining enrollment.
LOCATION:CESA 8 - Aspen Room
SUMMARY:Declining Enrollment: Strategic Planning for School Districts
END:VEVENT
BEGIN:VEVENT
DTSTAMP:20260420T000225Z
UID:ae6f01c0-dc5c-4156-b868-7f792b20d975
DTSTART:20260521T083000
DTEND:20260521T123000
DESCRIPTION:Join fellow business and HR professionals for a dynamic network
 ing meeting where ideas are exchanged\, challenges are discussed\, and val
 uable connections are made. Don’t miss the opportunity to expand your pr
 ofessional circle and gain fresh perspectives.
LOCATION:CESA 8 - Aspen Room
SUMMARY:Business/Human Resources Networking Meeting
END:VEVENT
BEGIN:VEVENT
DTSTAMP:20260420T000225Z
UID:d7cbb9b4-ff48-4461-be33-3d4e82686dec
DTSTART:20260528T083000
DTEND:20260528T153000
DESCRIPTION:DHH and Audiology teams will meet to collaborate and network.
LOCATION:CESA 8 - Tamarack Room
SUMMARY:DHH & Audiology Network Meeting
END:VEVENT
BEGIN:VEVENT
DTSTAMP:20260420T000225Z
UID:681f96a1-9677-44f5-a532-b02eaa1925d5
DTSTART:20260528T090000
DTEND:20260528T153000
DESCRIPTION:VI and O&Mteams will meet to collaborate and network.
LOCATION:CESA 8 - Maple Room
SUMMARY:VI/O&M Meetings
END:VEVENT
BEGIN:VEVENT
DTSTAMP:20260420T000225Z
UID:d1d65e76-b14e-4cc1-82f9-6cf61367738e
DTSTART:20260611T083000
DTEND:20260611T153000
DESCRIPTION:Empower your school team with a unified\, compassionate\, and s
 ystematic approach to suicide prevention.In the high-stakes environment of
  school mental health\, having a clear\, shared framework isn’t just hel
 pful—it’s essential for student safety and staff confidence. This inte
 ractive\, two-part virtual training is designed specifically for school-ba
 sed mental health professionals and the administrators who support them.Ad
 ditionally\, Community Mental Health Professionals working in or collabora
 ting closely with school systems can attend!
LOCATION:CESA 8 - Aspen Room
SUMMARY:Safeside Care Suicide Prevention Training
END:VEVENT
BEGIN:VEVENT
DTSTAMP:20260420T000225Z
UID:22a5572d-aa73-4890-bf5f-2eb2c5d011e4
DTSTART:20260616T100000
DTEND:20260616T150000
DESCRIPTION:The Youth Mental Health First Aid (YMHFA) course teaches partic
 ipants how to identify\, understand\, and respond to signs of mental healt
 h and substance use challenges among children and adolescents ages 12-18. 
 YMHFA is best suited for middle and high school staff.
LOCATION:CESA 8 - Maple Room
SUMMARY:Youth Mental Health First Aid  Day 1
END:VEVENT
BEGIN:VEVENT
DTSTAMP:20260420T000225Z
UID:18466bd5-b3d8-44bf-aa1a-a51c5453334d
DTSTART:20260828T000000
DTEND:20260828T000000
DESCRIPTION:This event is to create an account without actually registering
  for an event.
LOCATION:
SUMMARY:Create an Account
END:VEVENT
END:VCALENDAR
