BEGIN:VCALENDAR
VERSION:2.0
PRODID:icalendar-ruby
CALSCALE:GREGORIAN
BEGIN:VTIMEZONE
TZID:America/Denver
BEGIN:DAYLIGHT
DTSTART:20260308T030000
TZOFFSETFROM:-0700
TZOFFSETTO:-0600
RRULE:FREQ=YEARLY;BYDAY=2SU;BYMONTH=3
TZNAME:MDT
END:DAYLIGHT
BEGIN:STANDARD
DTSTART:20261101T010000
TZOFFSETFROM:-0600
TZOFFSETTO:-0700
RRULE:FREQ=YEARLY;BYDAY=1SU;BYMONTH=11
TZNAME:MST
END:STANDARD
END:VTIMEZONE
BEGIN:VEVENT
DTSTAMP:20260421T161554Z
UID:2db70027-9fdc-4704-81ff-88c61d0c79fb
DTSTART;VALUE=DATE:20260424
DTEND;VALUE=DATE:20260425
DESCRIPTION:
LOCATION:Sidney\, MT
SUMMARY:Baseball - TBA
END:VEVENT
BEGIN:VEVENT
DTSTAMP:20260421T161554Z
UID:c6db048e-cdc0-4828-997c-fb1633330522
DTSTART;VALUE=DATE:20260427
DTEND;VALUE=DATE:20260428
DESCRIPTION:
LOCATION:Williston\, ND 58801\, USA
SUMMARY:Baseball - TBA
END:VEVENT
BEGIN:VEVENT
DTSTAMP:20260421T161554Z
UID:b341a965-405f-4d07-a6a4-a71779f62e88
DTSTART;VALUE=DATE:20260501
DTEND;VALUE=DATE:20260503
DESCRIPTION:
LOCATION:
SUMMARY:State Music Festival @ Billings
END:VEVENT
BEGIN:VEVENT
DTSTAMP:20260421T161554Z
UID:98679411-eef2-49f5-9e5c-18c5e42c64fa
DTSTART;VALUE=DATE:20260502
DTEND;VALUE=DATE:20260503
DESCRIPTION:
LOCATION:Billings\, MT\, USA
SUMMARY:Baseball - TBA
END:VEVENT
BEGIN:VEVENT
DTSTAMP:20260421T161554Z
UID:f89f096f-3896-4ea8-b87f-784037c87364
DTSTART;VALUE=DATE:20260508
DTEND;VALUE=DATE:20260509
DESCRIPTION:
LOCATION:Huntley\, MT\, USA
SUMMARY:Baseball - 1:00/3:00 pm
END:VEVENT
BEGIN:VEVENT
DTSTAMP:20260421T161554Z
UID:827620b7-8273-4f09-ad22-a013815e7c73
DTSTART;VALUE=DATE:20260509
DTEND;VALUE=DATE:20260510
DESCRIPTION:
LOCATION:
SUMMARY:Band Day @ Williston\, ND
END:VEVENT
BEGIN:VEVENT
DTSTAMP:20260421T161554Z
UID:cd10429f-8d30-40c5-b777-377f46be48cd
DTSTART;VALUE=DATE:20260509
DTEND;VALUE=DATE:20260510
DESCRIPTION:
LOCATION:Columbus\, MT 59019\, USA
SUMMARY:Baseball - 1:00/3:00 pm
END:VEVENT
BEGIN:VEVENT
DTSTAMP:20260421T161554Z
UID:36ca14a0-9690-4908-b566-6c73025e6f61
DTSTART;VALUE=DATE:20260511
DTEND;VALUE=DATE:20260512
DESCRIPTION:
LOCATION:
SUMMARY:5:30 Board Meeting
END:VEVENT
BEGIN:VEVENT
DTSTAMP:20260421T161554Z
UID:27468ad7-e86c-40cf-8d0c-437449660632
DTSTART;VALUE=DATE:20260515
DTEND;VALUE=DATE:20260516
DESCRIPTION:
LOCATION:Sidney\, MT 59270\, USA
SUMMARY:Baseball - 4:00/6:00 pm
END:VEVENT
BEGIN:VEVENT
DTSTAMP:20260421T161554Z
UID:d01a82dd-d9a5-474b-90fb-a73750f25850
DTSTART;VALUE=DATE:20260516
DTEND;VALUE=DATE:20260517
DESCRIPTION:
LOCATION:Sidney\, MT 59270\, USA
SUMMARY:Baseball - 4:00/6:00 pm
END:VEVENT
BEGIN:VEVENT
DTSTAMP:20260421T161554Z
UID:55c0ce94-fd37-41b0-a191-5f03ecfd2e1e
DTSTART:20260517T140000
DTEND:20260517T170000
DESCRIPTION:
LOCATION:
SUMMARY:HS Graduation 
END:VEVENT
BEGIN:VEVENT
DTSTAMP:20260421T161554Z
UID:c1bb914c-4fd5-4f0b-8d9c-7a897c233dcc
DTSTART:20260518T190000
DTEND:20260518T210000
DESCRIPTION:
LOCATION:
SUMMARY:Eagles Jazz Night @ SMS 
END:VEVENT
BEGIN:VEVENT
DTSTAMP:20260421T161554Z
UID:0c5219c8-1aa1-43a7-93a6-ad733c04ee91
DTSTART;VALUE=DATE:20260522
DTEND;VALUE=DATE:20260523
DESCRIPTION:
LOCATION:
SUMMARY:4th Quarter Ends
END:VEVENT
BEGIN:VEVENT
DTSTAMP:20260421T161554Z
UID:76e980f6-af8b-4c36-b126-610dd03ca544
DTSTART;VALUE=DATE:20260522
DTEND;VALUE=DATE:20260523
DESCRIPTION:
LOCATION:
SUMMARY:Last Day of School - Noon Release
END:VEVENT
BEGIN:VEVENT
DTSTAMP:20260421T161554Z
UID:8c9bea9f-7a11-4dfa-baf0-54fd21299a2b
DTSTART;VALUE=DATE:20260528
DTEND;VALUE=DATE:20260531
DESCRIPTION:
LOCATION:TBA
SUMMARY:Baseball State Tournament - TBA
END:VEVENT
END:VCALENDAR
