BEGIN:VCALENDAR
VERSION:2.0
PRODID:icalendar-ruby
CALSCALE:GREGORIAN
BEGIN:VTIMEZONE
TZID:America/Chicago
BEGIN:DAYLIGHT
DTSTART:20260308T030000
TZOFFSETFROM:-0600
TZOFFSETTO:-0500
RRULE:FREQ=YEARLY;BYDAY=2SU;BYMONTH=3
TZNAME:CDT
END:DAYLIGHT
BEGIN:STANDARD
DTSTART:20261101T010000
TZOFFSETFROM:-0500
TZOFFSETTO:-0600
RRULE:FREQ=YEARLY;BYDAY=1SU;BYMONTH=11
TZNAME:CST
END:STANDARD
END:VTIMEZONE
BEGIN:VEVENT
DTSTAMP:20260420T132158Z
UID:dfab5852-f6b5-42d8-a0de-c9a8c200bf45
DTSTART:20260420T170000
DTEND:20260420T200000
DESCRIPTION:Little League & Teacher Appreciation night
LOCATION:Angleton High School Baseball Field\, Campus Dr\, Angleton\, TX 77
 515\, USA
SUMMARY:Varsity Baseball vs Friendswood
END:VEVENT
BEGIN:VEVENT
DTSTAMP:20260420T132158Z
UID:53c86321-e8e7-4e9b-8e33-c09d5dec6429
DTSTART:20260422T110000
DTEND:20260422T123000
DESCRIPTION:
LOCATION:
SUMMARY:SSR Letterman Jacket Fitting
END:VEVENT
BEGIN:VEVENT
DTSTAMP:20260420T132158Z
UID:5c4a6874-0101-46af-9a89-e13bc7c647e0
DTSTART:20260422T163000
DTEND:20260422T203000
DESCRIPTION:
LOCATION:Texas City High School\, 1431 9th Ave N\, Texas City\, TX 77590\, 
 USA
SUMMARY:JV Purple Baseball @ Texas City
END:VEVENT
BEGIN:VEVENT
DTSTAMP:20260420T132158Z
UID:0128869d-7080-4991-81b6-4108d1883649
DTSTART:20260422T170000
DTEND:20260422T200000
DESCRIPTION:
LOCATION:Angleton High School Baseball Field\, Campus Dr\, Angleton\, TX 77
 515\, USA
SUMMARY:JV White Baseball vs Texas City
END:VEVENT
BEGIN:VEVENT
DTSTAMP:20260420T132158Z
UID:7fdbac75-732e-48e3-9142-18d440907bf2
DTSTART;VALUE=DATE:20260423
DTEND;VALUE=DATE:20260424
DESCRIPTION:
LOCATION:
SUMMARY:Biology EOC Testing
END:VEVENT
BEGIN:VEVENT
DTSTAMP:20260420T132158Z
UID:5e984a71-f0e3-4fff-aded-8a0397da2ab5
DTSTART:20260424T180000
DTEND:20260424T210000
DESCRIPTION:
LOCATION:Texas City High School\, 1431 9th Ave N\, Texas City\, TX 77590\, 
 USA
SUMMARY:Varsity Baseball @ Texas City
END:VEVENT
BEGIN:VEVENT
DTSTAMP:20260420T132158Z
UID:117f58c0-23ba-4857-84a4-899af51f4096
DTSTART:20260424T183000
DTEND:20260424T203000
DESCRIPTION:
LOCATION:TBD
SUMMARY:Softball Bi-District Playoff vs Barbers Hill (Game 1)
END:VEVENT
BEGIN:VEVENT
DTSTAMP:20260420T132158Z
UID:1e8c9cc6-422b-4488-a681-ac5cc90ae496
DTSTART;VALUE=DATE:20260425
DTEND;VALUE=DATE:20260426
DESCRIPTION:
LOCATION:TBD
SUMMARY:Softball Bi-District Playoff vs Barbers Hill (Game 2 &3-if needed)
END:VEVENT
BEGIN:VEVENT
DTSTAMP:20260420T132158Z
UID:a49b40d0-aa0a-4f14-88cc-873f3d4df348
DTSTART;VALUE=DATE:20260428
DTEND;VALUE=DATE:20260429
DESCRIPTION:
LOCATION:
SUMMARY:Algebra EOC Testing
END:VEVENT
BEGIN:VEVENT
DTSTAMP:20260420T132158Z
UID:3960ac0c-320e-4a89-a536-bbde71d55742
DTSTART;VALUE=DATE:20260501
DTEND;VALUE=DATE:20260502
DESCRIPTION:
LOCATION:Clear Creek ISD Challenger Columbia Stadium\, 1955 W Nasa Blvd\, W
 ebster\, TX 77598\, USA
SUMMARY:Varsity Track @ Region III Meet Prelims
END:VEVENT
BEGIN:VEVENT
DTSTAMP:20260420T132158Z
UID:36ca63ba-641b-4d5b-8462-4d9cb4e563a9
DTSTART;VALUE=DATE:20260502
DTEND;VALUE=DATE:20260503
DESCRIPTION:
LOCATION:Clear Creek ISD Challenger Columbia Stadium\, 1955 W Nasa Blvd\, W
 ebster\, TX 77598\, USA
SUMMARY:Varsity Track @ Region III Meet Finals
END:VEVENT
BEGIN:VEVENT
DTSTAMP:20260420T132158Z
UID:140eba22-8024-49a6-93ef-c191a9249610
DTSTART;VALUE=DATE:20260504
DTEND;VALUE=DATE:20260505
DESCRIPTION:
LOCATION:
SUMMARY:Angleton ISD Employee Appreciation Week
END:VEVENT
BEGIN:VEVENT
DTSTAMP:20260420T132158Z
UID:ec980840-1897-4eeb-9c6f-648f9347d812
DTSTART;VALUE=DATE:20260505
DTEND;VALUE=DATE:20260506
DESCRIPTION:
LOCATION:
SUMMARY:Angleton ISD Employee Appreciation Week
END:VEVENT
BEGIN:VEVENT
DTSTAMP:20260420T132158Z
UID:23108276-1980-4f4b-b8ec-cedbf97a0018
DTSTART;VALUE=DATE:20260506
DTEND;VALUE=DATE:20260507
DESCRIPTION:
LOCATION:
SUMMARY:Angleton ISD Employee Appreciation Week
END:VEVENT
BEGIN:VEVENT
DTSTAMP:20260420T132158Z
UID:ac598dae-fd74-435c-a692-dabe0229ee95
DTSTART;VALUE=DATE:20260507
DTEND;VALUE=DATE:20260508
DESCRIPTION:
LOCATION:
SUMMARY:Angleton ISD Employee Appreciation Week
END:VEVENT
BEGIN:VEVENT
DTSTAMP:20260420T132158Z
UID:cecd5654-e531-44c8-988b-2f6a542c678f
DTSTART;VALUE=DATE:20260508
DTEND;VALUE=DATE:20260509
DESCRIPTION:
LOCATION:
SUMMARY:Angleton ISD Employee Appreciation Week
END:VEVENT
BEGIN:VEVENT
DTSTAMP:20260420T132158Z
UID:80a32b1e-984d-4492-84b7-c2e16f955434
DTSTART:20260521T070000
DTEND:20260521T110000
DESCRIPTION:
LOCATION:
SUMMARY:Half Day Early Release
END:VEVENT
BEGIN:VEVENT
DTSTAMP:20260420T132158Z
UID:06fa44e9-e998-4983-a7d1-c548c36bbadf
DTSTART:20260521T070000
DTEND:20260521T110000
DESCRIPTION:
LOCATION:
SUMMARY:Half Day Early Release
END:VEVENT
BEGIN:VEVENT
DTSTAMP:20260420T132158Z
UID:4b8e314d-760d-4e81-9dad-c67be405aea5
DTSTART:20260525T070000
DTEND:20260525T150000
DESCRIPTION:
LOCATION:
SUMMARY:Holiday
END:VEVENT
BEGIN:VEVENT
DTSTAMP:20260420T132158Z
UID:2afa6447-f107-4b6a-bd5a-06b0203e5486
DTSTART:20260525T070000
DTEND:20260525T150000
DESCRIPTION:
LOCATION:
SUMMARY:Holiday
END:VEVENT
BEGIN:VEVENT
DTSTAMP:20260420T132158Z
UID:fe4c0811-9c8b-4b3b-8fca-7408c5697c38
DTSTART:20260528T163000
DTEND:20260528T183000
DESCRIPTION:
LOCATION:
SUMMARY:AISD Job Fair
END:VEVENT
BEGIN:VEVENT
DTSTAMP:20260420T132158Z
UID:71dcc9dd-a360-4773-b328-c83faacf3a9a
DTSTART:20260619T070000
DTEND:20260619T150000
DESCRIPTION:
LOCATION:
SUMMARY:Holiday
END:VEVENT
BEGIN:VEVENT
DTSTAMP:20260420T132158Z
UID:dff7a6a8-65b4-4eb5-b42c-5d2110683a2b
DTSTART:20260619T070000
DTEND:20260619T150000
DESCRIPTION:
LOCATION:
SUMMARY:Holiday
END:VEVENT
END:VCALENDAR
