BEGIN:VCALENDAR
VERSION:2.0
PRODID:icalendar-ruby
CALSCALE:GREGORIAN
BEGIN:VTIMEZONE
TZID:America/Los_Angeles
BEGIN:DAYLIGHT
DTSTART:20260308T030000
TZOFFSETFROM:-0800
TZOFFSETTO:-0700
RRULE:FREQ=YEARLY;BYDAY=2SU;BYMONTH=3
TZNAME:PDT
END:DAYLIGHT
BEGIN:STANDARD
DTSTART:20261101T010000
TZOFFSETFROM:-0700
TZOFFSETTO:-0800
RRULE:FREQ=YEARLY;BYDAY=1SU;BYMONTH=11
TZNAME:PST
END:STANDARD
END:VTIMEZONE
BEGIN:VEVENT
DTSTAMP:20260422T085232Z
UID:9a87cd15-dab0-4cc0-b6e3-07d42e6e9770
DTSTART;VALUE=DATE:20260522
DTEND;VALUE=DATE:20260523
DESCRIPTION:
LOCATION:
SUMMARY:Multicultural Day: Love & Lunch Around the World
END:VEVENT
BEGIN:VEVENT
DTSTAMP:20260422T085232Z
UID:4a426b03-808c-4432-b04d-e05351244465
DTSTART;VALUE=DATE:20260525
DTEND;VALUE=DATE:20260526
DESCRIPTION:
LOCATION:
SUMMARY:Memorial Day- No School
END:VEVENT
BEGIN:VEVENT
DTSTAMP:20260422T085232Z
UID:f6a8a010-7e4d-47a1-9453-fe167dfbd126
DTSTART;VALUE=DATE:20260601
DTEND;VALUE=DATE:20260606
DESCRIPTION:
LOCATION:
SUMMARY:Coffee with the Principal
END:VEVENT
BEGIN:VEVENT
DTSTAMP:20260422T085232Z
UID:18cbb189-072e-4887-8019-6768295b750c
DTSTART:20260609T163000
DTEND:20260609T173000
DESCRIPTION:
LOCATION:
SUMMARY:Mariachi Student Performance-Good Hope
END:VEVENT
BEGIN:VEVENT
DTSTAMP:20260422T085232Z
UID:41ed713e-c9ba-42cb-b934-18f5e5e3b250
DTSTART;VALUE=DATE:20260612
DTEND;VALUE=DATE:20260613
DESCRIPTION:
LOCATION:
SUMMARY:Friday Flag Performance: Patriotic
END:VEVENT
BEGIN:VEVENT
DTSTAMP:20260422T085232Z
UID:d6dba443-8cfd-4efd-af22-f49ccaa567e2
DTSTART:20260615T083000
DTEND:20260615T093000
DESCRIPTION:
LOCATION:
SUMMARY:Kindergarten Promotion
END:VEVENT
BEGIN:VEVENT
DTSTAMP:20260422T085232Z
UID:0364da47-0863-40d6-97bc-9796600a7a0d
DTSTART:20260616T083000
DTEND:20260616T093000
DESCRIPTION:
LOCATION:
SUMMARY:6th Grade Promotion
END:VEVENT
END:VCALENDAR
