BEGIN:VCALENDAR
VERSION:2.0
PRODID:icalendar-ruby
CALSCALE:GREGORIAN
BEGIN:VTIMEZONE
TZID:America/Los_Angeles
BEGIN:DAYLIGHT
DTSTART:20260308T030000
TZOFFSETFROM:-0800
TZOFFSETTO:-0700
RRULE:FREQ=YEARLY;BYDAY=2SU;BYMONTH=3
TZNAME:PDT
END:DAYLIGHT
BEGIN:STANDARD
DTSTART:20261101T010000
TZOFFSETFROM:-0700
TZOFFSETTO:-0800
RRULE:FREQ=YEARLY;BYDAY=1SU;BYMONTH=11
TZNAME:PST
END:STANDARD
END:VTIMEZONE
BEGIN:VEVENT
DTSTAMP:20260421T143634Z
UID:92519611-7772-468e-8b07-76fcd5056a46
DTSTART;VALUE=DATE:20260507
DTEND;VALUE=DATE:20260508
DESCRIPTION:
LOCATION:
SUMMARY:Open House
END:VEVENT
BEGIN:VEVENT
DTSTAMP:20260421T143634Z
UID:86f2b047-877f-453d-9b03-aa05a8eddf22
DTSTART:20260508T123000
DTEND:20260508T123000
DESCRIPTION:
LOCATION:
SUMMARY:Minimum Day - 12:30 Dismissal
END:VEVENT
BEGIN:VEVENT
DTSTAMP:20260421T143634Z
UID:4b101ad6-0544-42a6-82bf-a0a81a5c4428
DTSTART:20260522T123000
DTEND:20260522T123000
DESCRIPTION:
LOCATION:
SUMMARY:Minimum Day - 12:30 Dismissal
END:VEVENT
BEGIN:VEVENT
DTSTAMP:20260421T143634Z
UID:055b649e-1745-40e8-9ccc-783cf8b0b46a
DTSTART;VALUE=DATE:20260525
DTEND;VALUE=DATE:20260526
DESCRIPTION:
LOCATION:
SUMMARY:No School - Memorial Day
END:VEVENT
BEGIN:VEVENT
DTSTAMP:20260421T143634Z
UID:0a85e39b-bdd6-4b75-b4ed-1c019133109b
DTSTART:20260605T123000
DTEND:20260605T123000
DESCRIPTION:
LOCATION:
SUMMARY: Minimum Day - 12:30 Dismissal
END:VEVENT
BEGIN:VEVENT
DTSTAMP:20260421T143634Z
UID:8311f6b0-876f-4e86-ba07-f9e91cf313e9
DTSTART;VALUE=DATE:20260610
DTEND;VALUE=DATE:20260611
DESCRIPTION:
LOCATION:
SUMMARY: Last Day of School - 11:15 Dismissal
END:VEVENT
END:VCALENDAR
