BEGIN:VCALENDAR
VERSION:2.0
PRODID:icalendar-ruby
CALSCALE:GREGORIAN
BEGIN:VTIMEZONE
TZID:America/Chicago
BEGIN:DAYLIGHT
DTSTART:20260308T030000
TZOFFSETFROM:-0600
TZOFFSETTO:-0500
RRULE:FREQ=YEARLY;BYDAY=2SU;BYMONTH=3
TZNAME:CDT
END:DAYLIGHT
BEGIN:STANDARD
DTSTART:20261101T010000
TZOFFSETFROM:-0500
TZOFFSETTO:-0600
RRULE:FREQ=YEARLY;BYDAY=1SU;BYMONTH=11
TZNAME:CST
END:STANDARD
END:VTIMEZONE
BEGIN:VEVENT
DTSTAMP:20260420T125028Z
UID:0caee921-ff9b-4a30-be4c-3a96c03017bf
DTSTART;VALUE=DATE:20260401
DTEND;VALUE=DATE:20260501
DESCRIPTION:
LOCATION:
SUMMARY:CHILD ABUSE PREVENTION MONTH
END:VEVENT
BEGIN:VEVENT
DTSTAMP:20260420T125028Z
UID:40f3d5fb-348f-4ca8-8aed-44360d2858e4
DTSTART;VALUE=DATE:20260401
DTEND;VALUE=DATE:20260501
DESCRIPTION:
LOCATION:
SUMMARY:AUTISM ACCEPTANCE MONTH
END:VEVENT
BEGIN:VEVENT
DTSTAMP:20260420T125028Z
UID:23745eee-f0ae-4997-864e-5849dabafac2
DTSTART;VALUE=DATE:20260401
DTEND;VALUE=DATE:20260501
DESCRIPTION:
LOCATION:
SUMMARY:COUNSELING AWARENESS MONTH
END:VEVENT
BEGIN:VEVENT
DTSTAMP:20260420T125028Z
UID:0b8a9ec6-19ac-4c2d-b362-2c5562f54d2b
DTSTART;VALUE=DATE:20260401
DTEND;VALUE=DATE:20260501
DESCRIPTION:
LOCATION:
SUMMARY:NATIONAL OCCUPATIONAL THERAPY MONTH
END:VEVENT
BEGIN:VEVENT
DTSTAMP:20260420T125028Z
UID:c912ff9b-1203-48ae-a73d-9adddfa242c2
DTSTART;VALUE=DATE:20260401
DTEND;VALUE=DATE:20260501
DESCRIPTION:
LOCATION:
SUMMARY:NATIONAL SCHOOL LIBRARY MONTH
END:VEVENT
BEGIN:VEVENT
DTSTAMP:20260420T125028Z
UID:40493d2a-7d3e-4c3e-b6fb-ee3c6ede7b5b
DTSTART;VALUE=DATE:20260401
DTEND;VALUE=DATE:20260501
DESCRIPTION:
LOCATION:
SUMMARY:NATIONAL VOLUNTEER APPRECIATION MONTH
END:VEVENT
BEGIN:VEVENT
DTSTAMP:20260420T125028Z
UID:cb58b89b-57b5-49ba-b751-b1d7360be988
DTSTART;VALUE=DATE:20260419
DTEND;VALUE=DATE:20260426
DESCRIPTION:
LOCATION:
SUMMARY:NATIONAL LIBRARY WEEK BEGINS
END:VEVENT
BEGIN:VEVENT
DTSTAMP:20260420T125028Z
UID:3b20b8d8-2a13-41d1-92d5-75095f60f201
DTSTART;VALUE=DATE:20260419
DTEND;VALUE=DATE:20260426
DESCRIPTION:
LOCATION:
SUMMARY:NATIONAL ROBOTICS WEEK BEGINS
END:VEVENT
BEGIN:VEVENT
DTSTAMP:20260420T125028Z
UID:90043c5e-9bd1-469e-bd15-4afd621dcb70
DTSTART;VALUE=DATE:20260420
DTEND;VALUE=DATE:20260425
DESCRIPTION:
LOCATION:
SUMMARY:NATIONAL PUBLIC SCHOOL VOLUNTEER WEEK
END:VEVENT
BEGIN:VEVENT
DTSTAMP:20260420T125028Z
UID:aabc7c79-3e05-4dc5-9005-ba3adc458a1c
DTSTART;VALUE=DATE:20260422
DTEND;VALUE=DATE:20260423
DESCRIPTION:
LOCATION:
SUMMARY:ADMINISTRATIVE PROFESSIONALS ' DAY
END:VEVENT
BEGIN:VEVENT
DTSTAMP:20260420T125028Z
UID:5c216342-7791-4756-a7c3-af3d04bba40d
DTSTART;VALUE=DATE:20260422
DTEND;VALUE=DATE:20260423
DESCRIPTION:
LOCATION:
SUMMARY:EARTH DAY
END:VEVENT
BEGIN:VEVENT
DTSTAMP:20260420T125028Z
UID:2c7b9405-c233-4f71-9020-bfe357640cbc
DTSTART;VALUE=DATE:20260424
DTEND;VALUE=DATE:20260425
DESCRIPTION:
LOCATION:
SUMMARY:ARBOR DAY
END:VEVENT
BEGIN:VEVENT
DTSTAMP:20260420T125028Z
UID:57b0f4aa-5b2e-4b0c-b8b7-00fbe4d0b913
DTSTART;VALUE=DATE:20260428
DTEND;VALUE=DATE:20260429
DESCRIPTION:
LOCATION:
SUMMARY:NATIONAL SCHOOL BUS DRIVER APPRECIATION DAY
END:VEVENT
BEGIN:VEVENT
DTSTAMP:20260420T125028Z
UID:e387e7d4-0f5d-42b9-a1c2-50c7f3ea67d5
DTSTART;VALUE=DATE:20260501
DTEND;VALUE=DATE:20260601
DESCRIPTION:
LOCATION:
SUMMARY:ASIAN AMERICAN AND PACIFIC ISLANDER HERITAGE MONTH
END:VEVENT
BEGIN:VEVENT
DTSTAMP:20260420T125028Z
UID:4c7ace4d-a58e-4c32-8a45-07c05813348e
DTSTART;VALUE=DATE:20260501
DTEND;VALUE=DATE:20260601
DESCRIPTION:
LOCATION:
SUMMARY:MILITARY APPRECIATION MONTH
END:VEVENT
BEGIN:VEVENT
DTSTAMP:20260420T125028Z
UID:10d41715-cbd6-4bd7-89fe-7dfe27d3a13c
DTSTART;VALUE=DATE:20260501
DTEND;VALUE=DATE:20260601
DESCRIPTION:
LOCATION:
SUMMARY:NATIONAL MENTAL HEALTH AWARENESS MONTH
END:VEVENT
BEGIN:VEVENT
DTSTAMP:20260420T125028Z
UID:a32934ea-3d69-4931-b4fd-5906c8ef1345
DTSTART;VALUE=DATE:20260501
DTEND;VALUE=DATE:20260601
DESCRIPTION:
LOCATION:
SUMMARY:NATIONAL MENTAL HEALTH AWARENESS MONTH
END:VEVENT
BEGIN:VEVENT
DTSTAMP:20260420T125028Z
UID:114d649b-74e5-449a-aca2-f9d28320b873
DTSTART;VALUE=DATE:20260501
DTEND;VALUE=DATE:20260601
DESCRIPTION:
LOCATION:
SUMMARY:NATIONAL PHYSICAL FITNESS AND SPORTS MONTH
END:VEVENT
BEGIN:VEVENT
DTSTAMP:20260420T125028Z
UID:d0867c6a-06e9-41f2-a0b2-25f86953f6f2
DTSTART;VALUE=DATE:20260501
DTEND;VALUE=DATE:20260502
DESCRIPTION:
LOCATION:
SUMMARY:PRINCIPALS' DAY
END:VEVENT
BEGIN:VEVENT
DTSTAMP:20260420T125028Z
UID:780555cb-ca42-4468-9c1d-1af20cae3fb9
DTSTART;VALUE=DATE:20260501
DTEND;VALUE=DATE:20260502
DESCRIPTION:
LOCATION:
SUMMARY:SCHOOL LUNCH HERO DAY
END:VEVENT
BEGIN:VEVENT
DTSTAMP:20260420T125028Z
UID:b77c6257-d2f2-478d-83dd-69a0d2f2ebfd
DTSTART;VALUE=DATE:20260504
DTEND;VALUE=DATE:20260509
DESCRIPTION:
LOCATION:
SUMMARY:TEACHER APPRECIATION WEEK
END:VEVENT
BEGIN:VEVENT
DTSTAMP:20260420T125028Z
UID:7c3dec08-4ad5-484f-85eb-2ad89e196691
DTSTART;VALUE=DATE:20260506
DTEND;VALUE=DATE:20260507
DESCRIPTION:
LOCATION:
SUMMARY:SCHOOL NURSE DAY
END:VEVENT
BEGIN:VEVENT
DTSTAMP:20260420T125028Z
UID:b34e4545-e3d8-4fc7-8969-83c0fa848ffa
DTSTART;VALUE=DATE:20260508
DTEND;VALUE=DATE:20260509
DESCRIPTION:
LOCATION:
SUMMARY:MILITARY SPOUSE APPRECIATION DAY
END:VEVENT
BEGIN:VEVENT
DTSTAMP:20260420T125028Z
UID:c6fc5c02-265a-4c1d-8125-6430a68fd6f5
DTSTART:20260514T080000
DTEND:20260514T100000
DESCRIPTION:
LOCATION:
SUMMARY:Food Pantry
END:VEVENT
BEGIN:VEVENT
DTSTAMP:20260420T125028Z
UID:5076fb7e-5e67-4c47-842b-adf6781c4718
DTSTART:20260515T090000
DTEND:20260515T120000
DESCRIPTION:
LOCATION:Everman Joe C. Bean High School\, 1000 S Race St\, Everman\, TX 76
 140\, USA
SUMMARY:Kindergarten Graduation 
END:VEVENT
BEGIN:VEVENT
DTSTAMP:20260420T125028Z
UID:4b08e10c-1234-4cce-9058-94fd9ea352de
DTSTART;VALUE=DATE:20260520
DTEND;VALUE=DATE:20260521
DESCRIPTION:<p>MIDDLE SCHOOLS 12:45 PM</p><p>HIGH SCHOOL 12:10 PM</p><p>ACA
 DEMY HIGH SCHOOL 11:50 PM</p>
LOCATION:
SUMMARY:EARLY RELEASE DAY FOR SECONDARY STUDENTS ONLY  (SEE DETAILS FOR REL
 EASE TIMES)
END:VEVENT
BEGIN:VEVENT
DTSTAMP:20260420T125028Z
UID:b45770f4-e609-4e7f-8347-1552eaa15b4b
DTSTART;VALUE=DATE:20260521
DTEND;VALUE=DATE:20260522
DESCRIPTION:<p>DAN POWELL 1:15 PM</p><p>ELEMENTARY 1:15 PM</p><p>MIDDLE SCH
 OOLS 12:45 PM</p><p>HIGH SCHOOL 12:10 PM</p><p>ACADEMY HIGH SCHOOL 11:50 P
 M</p>
LOCATION:
SUMMARY:EARLY RELEASE DAY FOR ALL STUDENTS  (SEE DETAILS FOR RELEASE TIMES)
END:VEVENT
BEGIN:VEVENT
DTSTAMP:20260420T125028Z
UID:fa3c03d5-ad49-41c7-9ffa-e9fc4a61bd29
DTSTART;VALUE=DATE:20260521
DTEND;VALUE=DATE:20260522
DESCRIPTION:
LOCATION:
SUMMARY:LAST DAY OF SCHOOL
END:VEVENT
BEGIN:VEVENT
DTSTAMP:20260420T125028Z
UID:abc3478a-565c-4a92-a0b6-a33bb979c9ea
DTSTART:20260521T080000
DTEND:20260521T090000
DESCRIPTION:
LOCATION:
SUMMARY:End of the 6th Six Weeks
END:VEVENT
BEGIN:VEVENT
DTSTAMP:20260420T125028Z
UID:06b749a4-df16-44f6-a0a1-97128f41b053
DTSTART;VALUE=DATE:20260522
DTEND;VALUE=DATE:20260523
DESCRIPTION:
LOCATION:
SUMMARY:TEACHER WORKDAY
END:VEVENT
BEGIN:VEVENT
DTSTAMP:20260420T125028Z
UID:72f9161e-52cd-4ea4-a64f-edfd4496c950
DTSTART;VALUE=DATE:20260525
DTEND;VALUE=DATE:20260526
DESCRIPTION:
LOCATION:
SUMMARY:MEMORIAL DAY HOLIDAY
END:VEVENT
BEGIN:VEVENT
DTSTAMP:20260420T125028Z
UID:8d54fab6-d4b4-4364-9e3b-d9d62c2c3c3d
DTSTART:20260527T190000
DTEND:20260527T220000
DESCRIPTION:<p>🎓 <strong>You’re Invited!</strong> 🎓<br>Join us to c
 elebrate the high school graduation of the Class of 2026!</p><p>📅 <stro
 ng>Date:</strong> Wednesday\, May 27\, 2026<br>🕖 <strong>Time:</strong>
  7:00 PM – 10:00 PM</p><p>📍 <strong>Location:</strong> College Pa
 rk Center\, 600 S. Center St.\, Arlington\, TX  76019</p><p>We are thrille
 d to honor the Class of 2026 —caps on\, tassels poised\, and hearts full
  of pride. </p><p>✨ Let’s make this evening unforgettable—hope to se
 e you there to cheer them on! ✨</p>
LOCATION:600 S Center St\, Arlington\, TX 76019\, USA
SUMMARY:GRADUATION CLASS OF 2026
END:VEVENT
BEGIN:VEVENT
DTSTAMP:20260420T125028Z
UID:9476b8d1-e6bd-4be4-9094-b5d3058bfed2
DTSTART:20260618T080000
DTEND:20260618T100000
DESCRIPTION:
LOCATION:
SUMMARY:Food Pantry
END:VEVENT
BEGIN:VEVENT
DTSTAMP:20260420T125028Z
UID:da05dab0-9670-4fd2-bcae-4da7e697ef73
DTSTART;VALUE=DATE:20260619
DTEND;VALUE=DATE:20260620
DESCRIPTION:
LOCATION:
SUMMARY:JUNTEENTH HOLIDAY
END:VEVENT
BEGIN:VEVENT
DTSTAMP:20260420T125028Z
UID:86246946-7c6f-4f7f-b4d1-45dd7e7a3dcf
DTSTART;VALUE=DATE:20260629
DTEND;VALUE=DATE:20260704
DESCRIPTION:
LOCATION:
SUMMARY:EISD DISTRICT CLOSED (ALL OFFICES)
END:VEVENT
BEGIN:VEVENT
DTSTAMP:20260420T125028Z
UID:0a5d3965-3011-40c4-90e0-e5ca9bef45ee
DTSTART:20260716T080000
DTEND:20260716T100000
DESCRIPTION:
LOCATION:
SUMMARY:Food Pantry
END:VEVENT
END:VCALENDAR
