BEGIN:VCALENDAR
VERSION:2.0
PRODID:icalendar-ruby
CALSCALE:GREGORIAN
BEGIN:VTIMEZONE
TZID:America/New_York
BEGIN:DAYLIGHT
DTSTART:20260308T030000
TZOFFSETFROM:-0500
TZOFFSETTO:-0400
RRULE:FREQ=YEARLY;BYDAY=2SU;BYMONTH=3
TZNAME:EDT
END:DAYLIGHT
BEGIN:STANDARD
DTSTART:20261101T010000
TZOFFSETFROM:-0400
TZOFFSETTO:-0500
RRULE:FREQ=YEARLY;BYDAY=1SU;BYMONTH=11
TZNAME:EST
END:STANDARD
END:VTIMEZONE
BEGIN:VEVENT
DTSTAMP:20260421T115654Z
UID:362c8247-071a-4fd3-a88f-847ac8f03090
DTSTART;VALUE=DATE:20260421
DTEND;VALUE=DATE:20260425
DESCRIPTION:
LOCATION:
SUMMARY:GPR - 8th Grade ILearn Testing
END:VEVENT
BEGIN:VEVENT
DTSTAMP:20260421T115654Z
UID:f344962d-3134-4391-b3f0-2caa3b4b85ff
DTSTART;VALUE=DATE:20260422
DTEND;VALUE=DATE:20260423
DESCRIPTION:
LOCATION:
SUMMARY:Wacky Wednesday wear green in honor of Earth Day
END:VEVENT
BEGIN:VEVENT
DTSTAMP:20260421T115654Z
UID:4d6a1301-d01d-4dc9-94a7-27989df7bbf5
DTSTART;VALUE=DATE:20260424
DTEND;VALUE=DATE:20260425
DESCRIPTION:
LOCATION:
SUMMARY:JH Pajama Pants & Donut Pass Day
END:VEVENT
BEGIN:VEVENT
DTSTAMP:20260421T115654Z
UID:9fe95c64-3fd0-4f28-b9e4-8c0263e49160
DTSTART;VALUE=DATE:20260424
DTEND;VALUE=DATE:20260425
DESCRIPTION:
LOCATION:
SUMMARY:No Prosser
END:VEVENT
BEGIN:VEVENT
DTSTAMP:20260421T115654Z
UID:e3a48a8a-15d7-49d3-b67f-623be14c77ee
DTSTART:20260428T180000
DTEND:20260428T190000
DESCRIPTION:
LOCATION:
SUMMARY:GPR - 8th gr trip to Cincy parent meeting - Barbour
END:VEVENT
BEGIN:VEVENT
DTSTAMP:20260421T115654Z
UID:40ef5003-c8b7-4be7-9782-c90a7d12c5d5
DTSTART;VALUE=DATE:20260429
DTEND;VALUE=DATE:20260430
DESCRIPTION:
LOCATION:
SUMMARY:Wacky Wednesday wear your KY Derby shirt/hat
END:VEVENT
BEGIN:VEVENT
DTSTAMP:20260421T115654Z
UID:ec55a1a2-ab07-4e6d-928f-96da27d3331b
DTSTART:20260429T183000
DTEND:20260429T203000
DESCRIPTION:
LOCATION:
SUMMARY:GPR - NHS Induction Ceremony (tentative) 
END:VEVENT
BEGIN:VEVENT
DTSTAMP:20260421T115654Z
UID:6b843938-b979-432f-909f-2230ff4062a6
DTSTART:20260430T080000
DTEND:20260430T110000
DESCRIPTION:
LOCATION:
SUMMARY:Gymnasium - Cap and Gown Pictures
END:VEVENT
BEGIN:VEVENT
DTSTAMP:20260421T115654Z
UID:cbea93db-0768-43f6-8116-34981330b687
DTSTART:20260501T170000
DTEND:20260501T190000
DESCRIPTION:
LOCATION:
SUMMARY:GPR - Art Show
END:VEVENT
BEGIN:VEVENT
DTSTAMP:20260421T115654Z
UID:df95494e-2825-4d86-9ba2-8e0346e1186a
DTSTART;VALUE=DATE:20260504
DTEND;VALUE=DATE:20260506
DESCRIPTION:Graduation at 7:30 pm May 4/5 Plantation Hall
LOCATION:
SUMMARY:Ivy Tech Graduation @ Hubers
END:VEVENT
BEGIN:VEVENT
DTSTAMP:20260421T115654Z
UID:3ff8eb3d-aa01-4f1f-9844-bbf424f25906
DTSTART;VALUE=DATE:20260505
DTEND;VALUE=DATE:20260506
DESCRIPTION:
LOCATION:
SUMMARY:ELECTION DAY - NO IN PERSON SCHOOL - ASYNCHRONOUS LEARNING
END:VEVENT
BEGIN:VEVENT
DTSTAMP:20260421T115654Z
UID:4648a835-1fe6-4b50-8401-c73dbb872a23
DTSTART;VALUE=DATE:20260506
DTEND;VALUE=DATE:20260507
DESCRIPTION:
LOCATION:
SUMMARY:JH Bats game field trip
END:VEVENT
BEGIN:VEVENT
DTSTAMP:20260421T115654Z
UID:90825214-b91f-4a2d-b55a-4179046c3862
DTSTART;VALUE=DATE:20260506
DTEND;VALUE=DATE:20260507
DESCRIPTION:
LOCATION:
SUMMARY:Wacky Wednesday wear a shirt with your favorite band/singer on it
END:VEVENT
BEGIN:VEVENT
DTSTAMP:20260421T115654Z
UID:ed68bc91-7a64-42a4-bf7d-7c2391fd3f11
DTSTART:20260507T180000
DTEND:20260507T200000
DESCRIPTION:
LOCATION:
SUMMARY:Spurgeon Gym- Spring Chorus Concert
END:VEVENT
BEGIN:VEVENT
DTSTAMP:20260421T115654Z
UID:7aa2e32e-e036-4190-ad99-af19dbe10510
DTSTART:20260509T190000
DTEND:20260509T230000
DESCRIPTION:
LOCATION:
SUMMARY:Prom
END:VEVENT
BEGIN:VEVENT
DTSTAMP:20260421T115654Z
UID:1f66eff4-f891-45f7-992f-71abe7dbc223
DTSTART:20260509T223000
DTEND:20260510T013000
DESCRIPTION:
LOCATION:
SUMMARY:After Prom
END:VEVENT
BEGIN:VEVENT
DTSTAMP:20260421T115654Z
UID:92be3186-a490-4690-b9de-20f7d7bb857d
DTSTART;VALUE=DATE:20260511
DTEND;VALUE=DATE:20260512
DESCRIPTION:
LOCATION:
SUMMARY:LAST DAY IVY TECH CLASSES
END:VEVENT
BEGIN:VEVENT
DTSTAMP:20260421T115654Z
UID:4a5a2049-b44f-495c-bfe6-794ee961a9ed
DTSTART:20260511T180000
DTEND:20260511T200000
DESCRIPTION:
LOCATION:
SUMMARY:Furnish Gym- Spring Band Concert
END:VEVENT
BEGIN:VEVENT
DTSTAMP:20260421T115654Z
UID:d038d254-9230-490e-9e31-80fbf04093ab
DTSTART;VALUE=DATE:20260512
DTEND;VALUE=DATE:20260514
DESCRIPTION:
LOCATION:
SUMMARY:8th Grade Cincinnati Trip 
END:VEVENT
BEGIN:VEVENT
DTSTAMP:20260421T115654Z
UID:7009a01e-7679-415f-9ca7-34abbe2ab40b
DTSTART;VALUE=DATE:20260513
DTEND;VALUE=DATE:20260514
DESCRIPTION:
LOCATION:
SUMMARY:Wacky Wednesday wear a Hawaiian shirt because it is almost summer b
 reak
END:VEVENT
BEGIN:VEVENT
DTSTAMP:20260421T115654Z
UID:cd85c500-a0a3-45d2-934a-b8bb2fa02bd5
DTSTART:20260514T090000
DTEND:20260514T110000
DESCRIPTION:
LOCATION:
SUMMARY:Senior Awards Day - Furnish Gym
END:VEVENT
BEGIN:VEVENT
DTSTAMP:20260421T115654Z
UID:b5d78d3c-b740-4bac-b644-30e56e6c060c
DTSTART:20260515T080000
DTEND:20260515T150000
DESCRIPTION:
LOCATION:
SUMMARY:Spurgeon Gym - NHS Blood Drive
END:VEVENT
BEGIN:VEVENT
DTSTAMP:20260421T115654Z
UID:615a4e75-178c-4a4b-a29b-2ab891117f10
DTSTART:20260518T093000
DTEND:20260518T103000
DESCRIPTION:
LOCATION:
SUMMARY:7th Grade Awards - Furnish Gym
END:VEVENT
BEGIN:VEVENT
DTSTAMP:20260421T115654Z
UID:cddc7508-82d7-4c29-8e62-d14e7b76f898
DTSTART:20260518T110000
DTEND:20260518T120000
DESCRIPTION:
LOCATION:
SUMMARY:8th Grade Awards - Furnish Gym
END:VEVENT
BEGIN:VEVENT
DTSTAMP:20260421T115654Z
UID:b79a0cb2-9e1e-4fc8-aa2b-bc1c83687f5f
DTSTART;VALUE=DATE:20260520
DTEND;VALUE=DATE:20260521
DESCRIPTION:
LOCATION:
SUMMARY:Graduation Practice & Sr. Picnic Seniors last day
END:VEVENT
BEGIN:VEVENT
DTSTAMP:20260421T115654Z
UID:2a9ddfa1-0993-4e6d-a608-207bae175e04
DTSTART;VALUE=DATE:20260520
DTEND;VALUE=DATE:20260521
DESCRIPTION:
LOCATION:
SUMMARY:Prosser Senior Night
END:VEVENT
BEGIN:VEVENT
DTSTAMP:20260421T115654Z
UID:5e126d18-e5c2-4cb8-85f3-ba522005ea8a
DTSTART;VALUE=DATE:20260520
DTEND;VALUE=DATE:20260521
DESCRIPTION:
LOCATION:
SUMMARY:Wacky Wednesday wear your neon because your future looks bright
END:VEVENT
BEGIN:VEVENT
DTSTAMP:20260421T115654Z
UID:beacd767-4c16-4c72-9ce3-c6e2031a9f54
DTSTART;VALUE=DATE:20260521
DTEND;VALUE=DATE:20260522
DESCRIPTION:
LOCATION:
SUMMARY:Last Day of Prosser
END:VEVENT
BEGIN:VEVENT
DTSTAMP:20260421T115654Z
UID:8a0ad2e7-dfea-4011-a120-81d52383062d
DTSTART;VALUE=DATE:20260521
DTEND;VALUE=DATE:20260522
DESCRIPTION:
LOCATION:
SUMMARY:Last Student Day
END:VEVENT
BEGIN:VEVENT
DTSTAMP:20260421T115654Z
UID:eec80652-1cf7-4d35-9978-c32b29535269
DTSTART;VALUE=DATE:20260531
DTEND;VALUE=DATE:20260601
DESCRIPTION:
LOCATION:
SUMMARY:HHS Graduation 4:30
END:VEVENT
BEGIN:VEVENT
DTSTAMP:20260421T115654Z
UID:1e2b6d13-1c1c-418b-a8bf-1a024ed3c58a
DTSTART;VALUE=DATE:20260601
DTEND;VALUE=DATE:20260602
DESCRIPTION:
LOCATION:
SUMMARY:SUMMER SCHOOL BEGINS
END:VEVENT
BEGIN:VEVENT
DTSTAMP:20260421T115654Z
UID:b09629d0-7b95-4cbf-9a34-9664d3b171c0
DTSTART;VALUE=DATE:20260904
DTEND;VALUE=DATE:20260905
DESCRIPTION:
LOCATION:
SUMMARY:26/27 Fall Pictures ISS of Kentuckiana
END:VEVENT
BEGIN:VEVENT
DTSTAMP:20260421T115654Z
UID:d39fdd00-e701-476a-a200-da0a8719e8db
DTSTART;VALUE=DATE:20261014
DTEND;VALUE=DATE:20261015
DESCRIPTION:
LOCATION:
SUMMARY:26/27 picture retakes ISS of Kentuckiana
END:VEVENT
BEGIN:VEVENT
DTSTAMP:20260421T115654Z
UID:696bc625-5dc9-404e-a404-7b78414582a1
DTSTART;VALUE=DATE:20270429
DTEND;VALUE=DATE:20270430
DESCRIPTION:
LOCATION:
SUMMARY:26/27 Cap & Gown Pictures ISS of Kentuckiana
END:VEVENT
END:VCALENDAR
