BEGIN:VCALENDAR
VERSION:2.0
PRODID:icalendar-ruby
CALSCALE:GREGORIAN
BEGIN:VTIMEZONE
TZID:America/New_York
BEGIN:DAYLIGHT
DTSTART:20260308T030000
TZOFFSETFROM:-0500
TZOFFSETTO:-0400
RRULE:FREQ=YEARLY;BYDAY=2SU;BYMONTH=3
TZNAME:EDT
END:DAYLIGHT
BEGIN:STANDARD
DTSTART:20261101T010000
TZOFFSETFROM:-0400
TZOFFSETTO:-0500
RRULE:FREQ=YEARLY;BYDAY=1SU;BYMONTH=11
TZNAME:EST
END:STANDARD
END:VTIMEZONE
BEGIN:VEVENT
DTSTAMP:20260420T111910Z
UID:df3f1a96-2689-496e-9ccc-9b233b2da569
DTSTART;VALUE=DATE:20260422
DTEND;VALUE=DATE:20260423
DESCRIPTION:
LOCATION:
SUMMARY:ADMINISTRATIVE PROFESSIONALS DAY
END:VEVENT
BEGIN:VEVENT
DTSTAMP:20260420T111910Z
UID:59dc9bf4-7fba-40de-a747-bab32e0ce9a3
DTSTART;VALUE=DATE:20260422
DTEND;VALUE=DATE:20260423
DESCRIPTION:
LOCATION:
SUMMARY:EARTH DAY
END:VEVENT
BEGIN:VEVENT
DTSTAMP:20260420T111910Z
UID:a48a087a-2c77-4a4c-bb34-9272be3cf0b9
DTSTART:20260427T180000
DTEND:20260427T210000
DESCRIPTION:
LOCATION:KHS
SUMMARY:District Fine Arts Showcase
END:VEVENT
BEGIN:VEVENT
DTSTAMP:20260420T111910Z
UID:cf3e44b2-54ff-4965-8a00-0907eb038493
DTSTART:20260427T180000
DTEND:20260427T190000
DESCRIPTION:
LOCATION:Robert A. Lee Auditorium
SUMMARY:KMS Treble Choir Concert\, 4th-5th Grade 
END:VEVENT
BEGIN:VEVENT
DTSTAMP:20260420T111910Z
UID:2592652a-06e8-47e4-8262-a7d98ea55744
DTSTART:20260427T190000
DTEND:20260427T200000
DESCRIPTION:
LOCATION:Robert A. Lee Auditorium
SUMMARY:KMS Choir Concert\, Ensemble\, 6th-7th Grade
END:VEVENT
BEGIN:VEVENT
DTSTAMP:20260420T111910Z
UID:9a829baa-55b3-4d0f-bb97-fad264d282a8
DTSTART:20260428T180000
DTEND:20260428T210000
DESCRIPTION:
LOCATION:KHS
SUMMARY:District Fine Arts Showcase
END:VEVENT
BEGIN:VEVENT
DTSTAMP:20260420T111910Z
UID:02faeef6-df4a-4993-82ca-4bd2c6bc426f
DTSTART:20260429T180000
DTEND:20260429T210000
DESCRIPTION:
LOCATION:KHS
SUMMARY:District Fine Arts Showcase
END:VEVENT
BEGIN:VEVENT
DTSTAMP:20260420T111910Z
UID:f3bcf513-3c68-4578-b75e-7319b2ebceda
DTSTART:20260430T170000
DTEND:20260430T180000
DESCRIPTION:
LOCATION:KHS
SUMMARY:S'MORES Fine Arts Showcase Dinner - 5pm\, Show - 6pm (Reservations 
 Required)
END:VEVENT
BEGIN:VEVENT
DTSTAMP:20260420T111910Z
UID:b367a623-47b0-4054-806e-a4573e1ee48f
DTSTART:20260430T180000
DTEND:20260430T210000
DESCRIPTION:
LOCATION:KHS
SUMMARY:District Fine Arts Showcase
END:VEVENT
BEGIN:VEVENT
DTSTAMP:20260420T111910Z
UID:b349ac25-4179-4604-bcfe-1d01cf27cfac
DTSTART;VALUE=DATE:20260504
DTEND;VALUE=DATE:20260505
DESCRIPTION:
LOCATION:
SUMMARY:STAFF APPRECIATION WEEK
END:VEVENT
BEGIN:VEVENT
DTSTAMP:20260420T111910Z
UID:c3cc4b71-b8d1-4d5b-a7ba-7b3d130968ac
DTSTART;VALUE=DATE:20260505
DTEND;VALUE=DATE:20260506
DESCRIPTION:
LOCATION:
SUMMARY:STAFF APPRECIATION WEEK
END:VEVENT
BEGIN:VEVENT
DTSTAMP:20260420T111910Z
UID:874459a4-faaf-4170-8ec6-d1ab961f001c
DTSTART;VALUE=DATE:20260506
DTEND;VALUE=DATE:20260507
DESCRIPTION:
LOCATION:
SUMMARY:STAFF APPRECIATION WEEK
END:VEVENT
BEGIN:VEVENT
DTSTAMP:20260420T111910Z
UID:75933ec2-c25a-4819-8739-d77a9921ed74
DTSTART;VALUE=DATE:20260507
DTEND;VALUE=DATE:20260508
DESCRIPTION:
LOCATION:
SUMMARY:STAFF APPRECIATION WEEK
END:VEVENT
BEGIN:VEVENT
DTSTAMP:20260420T111910Z
UID:ab80baab-0bd0-42ae-b624-28c0d162add9
DTSTART;VALUE=DATE:20260508
DTEND;VALUE=DATE:20260509
DESCRIPTION:
LOCATION:
SUMMARY:STAFF APPRECIATION WEEK
END:VEVENT
BEGIN:VEVENT
DTSTAMP:20260420T111910Z
UID:450cc148-3780-4d58-81af-9b6a0151b258
DTSTART;VALUE=DATE:20260510
DTEND;VALUE=DATE:20260511
DESCRIPTION:
LOCATION:
SUMMARY:MOTHER'S DAY
END:VEVENT
BEGIN:VEVENT
DTSTAMP:20260420T111910Z
UID:b24d8429-d002-41aa-9385-65c8b5a303a6
DTSTART;VALUE=DATE:20260511
DTEND;VALUE=DATE:20260512
DESCRIPTION:
LOCATION:
SUMMARY:4th and 5th Grade Field Days
END:VEVENT
BEGIN:VEVENT
DTSTAMP:20260420T111910Z
UID:4fb69eb1-caa7-4a3f-92d5-665b8dc10159
DTSTART;VALUE=DATE:20260511
DTEND;VALUE=DATE:20260512
DESCRIPTION:
LOCATION:
SUMMARY:KMS 7th Grade Camp
END:VEVENT
BEGIN:VEVENT
DTSTAMP:20260420T111910Z
UID:14da77f3-6ca5-4e10-8f35-c4e465a65884
DTSTART;VALUE=DATE:20260512
DTEND;VALUE=DATE:20260513
DESCRIPTION:
LOCATION:
SUMMARY:4th and 5th Grade Field Days (rain date)
END:VEVENT
BEGIN:VEVENT
DTSTAMP:20260420T111910Z
UID:3ef07951-24d1-407d-a4a0-49a4639263dc
DTSTART;VALUE=DATE:20260512
DTEND;VALUE=DATE:20260513
DESCRIPTION:
LOCATION:
SUMMARY:KMS 7th Grade Camp
END:VEVENT
BEGIN:VEVENT
DTSTAMP:20260420T111910Z
UID:e5432d90-5b31-4e74-97a4-512b8d482293
DTSTART:20260512T190000
DTEND:20260512T200000
DESCRIPTION:
LOCATION:Robert A. Lee Auditorium
SUMMARY:KMS 4th Grade Music Program
END:VEVENT
BEGIN:VEVENT
DTSTAMP:20260420T111910Z
UID:44bbcf06-d5e7-4efb-9761-7a981a4ee5f4
DTSTART;VALUE=DATE:20260513
DTEND;VALUE=DATE:20260514
DESCRIPTION:
LOCATION:
SUMMARY:6th Grade Field Day
END:VEVENT
BEGIN:VEVENT
DTSTAMP:20260420T111910Z
UID:3277ea15-e4f0-466a-9be8-8163d03e11fa
DTSTART;VALUE=DATE:20260513
DTEND;VALUE=DATE:20260514
DESCRIPTION:
LOCATION:
SUMMARY:KMS 7th Grade Camp
END:VEVENT
BEGIN:VEVENT
DTSTAMP:20260420T111910Z
UID:fd186a04-e11f-476d-a094-c351a4704926
DTSTART:20260513T190000
DTEND:20260513T200000
DESCRIPTION:
LOCATION:Robert A. Lee Auditorium
SUMMARY:KMS 5th Grade Music Program
END:VEVENT
BEGIN:VEVENT
DTSTAMP:20260420T111910Z
UID:7bba72e1-9891-4d92-b879-466a592b9924
DTSTART;VALUE=DATE:20260514
DTEND;VALUE=DATE:20260515
DESCRIPTION:
LOCATION:
SUMMARY:6th Grade Field Day (rain date)
END:VEVENT
BEGIN:VEVENT
DTSTAMP:20260420T111910Z
UID:ead3df5d-119d-441c-97ac-8ede7a72a330
DTSTART;VALUE=DATE:20260514
DTEND;VALUE=DATE:20260515
DESCRIPTION:
LOCATION:
SUMMARY:KMS 7th Grade Camp
END:VEVENT
BEGIN:VEVENT
DTSTAMP:20260420T111910Z
UID:24309874-e506-47a0-87b0-f6668528326f
DTSTART:20260514T093000
DTEND:20260514T103000
DESCRIPTION:
LOCATION:Gardiner Center
SUMMARY:KMS PTO Meeting
END:VEVENT
BEGIN:VEVENT
DTSTAMP:20260420T111910Z
UID:ec3aa602-f9d1-4326-a18f-ac0286fe3427
DTSTART;VALUE=DATE:20260515
DTEND;VALUE=DATE:20260516
DESCRIPTION:
LOCATION:
SUMMARY:KMS 7th Grade Camp
END:VEVENT
BEGIN:VEVENT
DTSTAMP:20260420T111910Z
UID:ffd1f368-22f1-464e-b823-a82f9c1cc83e
DTSTART;VALUE=DATE:20260516
DTEND;VALUE=DATE:20260517
DESCRIPTION:
LOCATION:
SUMMARY:ARMED FORCES DAY
END:VEVENT
BEGIN:VEVENT
DTSTAMP:20260420T111910Z
UID:5730e033-8b6a-4a12-afd5-df3135911593
DTSTART:20260522T131500
DTEND:20260522T141500
DESCRIPTION:
LOCATION:KMS Gym
SUMMARY:KMS Awards Day
END:VEVENT
BEGIN:VEVENT
DTSTAMP:20260420T111910Z
UID:86168335-31e7-4540-8f3a-653d5060ea74
DTSTART;VALUE=DATE:20260525
DTEND;VALUE=DATE:20260526
DESCRIPTION:
LOCATION:
SUMMARY:MEMORIAL DAY
END:VEVENT
BEGIN:VEVENT
DTSTAMP:20260420T111910Z
UID:5717527c-3c1c-47b2-b791-6e280f8a6179
DTSTART;VALUE=DATE:20260525
DTEND;VALUE=DATE:20260526
DESCRIPTION:
LOCATION:
SUMMARY:NO SCHOOL
END:VEVENT
BEGIN:VEVENT
DTSTAMP:20260420T111910Z
UID:b57d094b-3bc8-4b38-84b6-7d3bc02976cb
DTSTART;VALUE=DATE:20260528
DTEND;VALUE=DATE:20260529
DESCRIPTION:
LOCATION:
SUMMARY:End of 2nd Semester
END:VEVENT
BEGIN:VEVENT
DTSTAMP:20260420T111910Z
UID:9295bfb6-cb5c-4c5b-b4e0-12123387920d
DTSTART;VALUE=DATE:20260528
DTEND;VALUE=DATE:20260529
DESCRIPTION:
LOCATION:
SUMMARY:End of 4th Quarter
END:VEVENT
BEGIN:VEVENT
DTSTAMP:20260420T111910Z
UID:b2468395-ddfc-451c-aa6e-0cefd2321cdc
DTSTART;VALUE=DATE:20260528
DTEND;VALUE=DATE:20260529
DESCRIPTION:
LOCATION:
SUMMARY:KMS 7th Grade End of Year Party
END:VEVENT
BEGIN:VEVENT
DTSTAMP:20260420T111910Z
UID:7844b965-ce05-43d0-ad87-4a7e086d4f8f
DTSTART;VALUE=DATE:20260528
DTEND;VALUE=DATE:20260529
DESCRIPTION:
LOCATION:KHS\, Robert A. Lee Auditorium
SUMMARY:KMS Talent Show
END:VEVENT
BEGIN:VEVENT
DTSTAMP:20260420T111910Z
UID:6ed3eb49-d386-47fb-a59d-8d6e6da053f9
DTSTART;VALUE=DATE:20260528
DTEND;VALUE=DATE:20260529
DESCRIPTION:
LOCATION:
SUMMARY:LAST DAY FOR STUDENTS
END:VEVENT
BEGIN:VEVENT
DTSTAMP:20260420T111910Z
UID:8e70392e-13b4-4cf7-9085-97bf18e59717
DTSTART;VALUE=DATE:20260529
DTEND;VALUE=DATE:20260530
DESCRIPTION:
LOCATION:
SUMMARY:LAST DAY FOR TEACHERS
END:VEVENT
BEGIN:VEVENT
DTSTAMP:20260420T111910Z
UID:79d4cf46-b341-4f57-ac3d-e3540a028b46
DTSTART;VALUE=DATE:20260606
DTEND;VALUE=DATE:20260607
DESCRIPTION:
LOCATION:
SUMMARY:Report Cards posted to Infinite Campus
END:VEVENT
BEGIN:VEVENT
DTSTAMP:20260420T111910Z
UID:1b004807-2fcb-4638-be0a-328e85faa147
DTSTART;VALUE=DATE:20260614
DTEND;VALUE=DATE:20260615
DESCRIPTION:
LOCATION:
SUMMARY:FLAG DAY
END:VEVENT
BEGIN:VEVENT
DTSTAMP:20260420T111910Z
UID:ea6274ce-4794-48a5-bfe8-f31cd5ab7951
DTSTART;VALUE=DATE:20260619
DTEND;VALUE=DATE:20260620
DESCRIPTION:
LOCATION:
SUMMARY:JUNETEENTH
END:VEVENT
BEGIN:VEVENT
DTSTAMP:20260420T111910Z
UID:f4a70fce-dde4-473a-b598-089587f4610d
DTSTART;VALUE=DATE:20260621
DTEND;VALUE=DATE:20260622
DESCRIPTION:
LOCATION:
SUMMARY:FATHER'S DAY
END:VEVENT
BEGIN:VEVENT
DTSTAMP:20260420T111910Z
UID:462c7c76-eb48-4ea5-8a16-6291f6dc74e7
DTSTART;VALUE=DATE:20260621
DTEND;VALUE=DATE:20260622
DESCRIPTION:
LOCATION:
SUMMARY:SUMMER BEGINS
END:VEVENT
BEGIN:VEVENT
DTSTAMP:20260420T111910Z
UID:f260e14a-c9ef-4abe-8759-ec6efcec4e6b
DTSTART;VALUE=DATE:20260704
DTEND;VALUE=DATE:20260705
DESCRIPTION:
LOCATION:
SUMMARY:INDEPENDENCE DAY
END:VEVENT
BEGIN:VEVENT
DTSTAMP:20260420T111910Z
UID:a44d82df-4c13-46b0-8d07-94d5d270c9a2
DTSTART;VALUE=DATE:20260819
DTEND;VALUE=DATE:20260820
DESCRIPTION:
LOCATION:
SUMMARY:NATIONAL AVIATION DAY
END:VEVENT
BEGIN:VEVENT
DTSTAMP:20260420T111910Z
UID:dc99c224-9496-45af-8795-bf37b32d1f91
DTSTART;VALUE=DATE:20260820
DTEND;VALUE=DATE:20260821
DESCRIPTION:
LOCATION:
SUMMARY:FIRST DAY STUDENTS
END:VEVENT
BEGIN:VEVENT
DTSTAMP:20260420T111910Z
UID:7f074ee5-de99-4b49-b7d8-28c86ac2a86b
DTSTART;VALUE=DATE:20260907
DTEND;VALUE=DATE:20260908
DESCRIPTION:
LOCATION:
SUMMARY:LABOR DAY\, NO SCHOOL
END:VEVENT
BEGIN:VEVENT
DTSTAMP:20260420T111910Z
UID:f8843382-ae4c-40e6-bd18-8c68094d088a
DTSTART;VALUE=DATE:20260911
DTEND;VALUE=DATE:20260912
DESCRIPTION:
LOCATION:
SUMMARY:PATRIOT'S DAY\, UNITED WE STAND
END:VEVENT
BEGIN:VEVENT
DTSTAMP:20260420T111910Z
UID:2c0fa8ae-e85e-4988-836a-9228e8ccafaf
DTSTART;VALUE=DATE:20260911
DTEND;VALUE=DATE:20260912
DESCRIPTION:
LOCATION:
SUMMARY:ROSH HASHANAH
END:VEVENT
BEGIN:VEVENT
DTSTAMP:20260420T111910Z
UID:d58046d2-9252-47ba-b128-57ea72bf8089
DTSTART;VALUE=DATE:20260913
DTEND;VALUE=DATE:20260914
DESCRIPTION:
LOCATION:
SUMMARY:NATIONAL GRANDPARENTS DAY
END:VEVENT
END:VCALENDAR
