BEGIN:VCALENDAR
VERSION:2.0
PRODID:icalendar-ruby
CALSCALE:GREGORIAN
BEGIN:VTIMEZONE
TZID:America/New_York
BEGIN:DAYLIGHT
DTSTART:20260308T030000
TZOFFSETFROM:-0500
TZOFFSETTO:-0400
RRULE:FREQ=YEARLY;BYDAY=2SU;BYMONTH=3
TZNAME:EDT
END:DAYLIGHT
BEGIN:STANDARD
DTSTART:20261101T010000
TZOFFSETFROM:-0400
TZOFFSETTO:-0500
RRULE:FREQ=YEARLY;BYDAY=1SU;BYMONTH=11
TZNAME:EST
END:STANDARD
END:VTIMEZONE
BEGIN:VEVENT
DTSTAMP:20260425T042615Z
UID:db4de054-390d-4422-8d23-bca2eaf70754
DTSTART:20260516T170000
DTEND:20260516T201500
DESCRIPTION:<p>GREASE Play at Memorial Elementary</p><p>5th and 6th Grade A
 nnual Spring Play</p><p>$5.00 Ticket cost all ages (2 and under no charge)
 </p><p>Basket Raffles\, refreshments and snacks available.</p><p>Additiona
 l information please email: clangdon@hanoverarea.net</p>
LOCATION:80 W St Mary's Rd\, Wilkes-Barre\, PA 18706\, USA
SUMMARY:MEMORIAL ELEM PRESENTS: GREASE PLAY
END:VEVENT
BEGIN:VEVENT
DTSTAMP:20260425T042615Z
UID:462343b5-664e-4c74-afb2-bb50a528b74b
DTSTART:20260516T180000
DTEND:20260516T200000
DESCRIPTION:<p>Join us for our annual Spring Play. -  <strong>Grease</stron
 g></p><p>May 16th 2026. 6 PM<br>Doors open at 5 PM</p><p>All ticket sales 
 are $5 and available now at Memorial Elementary</p><p>Grease </p>
LOCATION:80 W St Mary's Rd\, Wilkes-Barre\, PA 18706\, USA
SUMMARY:Grease - Memorial. Elementary
END:VEVENT
END:VCALENDAR
