BEGIN:VCALENDAR
VERSION:2.0
PRODID:icalendar-ruby
CALSCALE:GREGORIAN
BEGIN:VTIMEZONE
TZID:America/New_York
BEGIN:DAYLIGHT
DTSTART:20260308T030000
TZOFFSETFROM:-0500
TZOFFSETTO:-0400
RRULE:FREQ=YEARLY;BYDAY=2SU;BYMONTH=3
TZNAME:EDT
END:DAYLIGHT
BEGIN:STANDARD
DTSTART:20261101T010000
TZOFFSETFROM:-0400
TZOFFSETTO:-0500
RRULE:FREQ=YEARLY;BYDAY=1SU;BYMONTH=11
TZNAME:EST
END:STANDARD
END:VTIMEZONE
BEGIN:VEVENT
DTSTAMP:20260423T122754Z
UID:e4ce5c7e-8909-44ed-b7d2-95d559f76561
DTSTART;VALUE=DATE:20260505
DTEND;VALUE=DATE:20260506
DESCRIPTION:
LOCATION:
SUMMARY:May 5— Pre-K Application begins.  
END:VEVENT
BEGIN:VEVENT
DTSTAMP:20260423T122754Z
UID:7187d812-bd71-4ea3-a480-c82d14c8cf54
DTSTART;VALUE=DATE:20260521
DTEND;VALUE=DATE:20260523
DESCRIPTION:
LOCATION:
SUMMARY:Schools closed for ECSE\, Pre-Kindergarten\, and Kindergarten. (Con
 ferences)
END:VEVENT
BEGIN:VEVENT
DTSTAMP:20260423T122754Z
UID:f592d506-7cb3-48b7-959c-860a465e1c96
DTSTART;VALUE=DATE:20260522
DTEND;VALUE=DATE:20260523
DESCRIPTION:
LOCATION:
SUMMARY:🎓Last day for graduating seniors.
END:VEVENT
BEGIN:VEVENT
DTSTAMP:20260423T122754Z
UID:6ba8ddd8-4d05-4a10-b0f1-f30343331361
DTSTART;VALUE=DATE:20260525
DTEND;VALUE=DATE:20260526
DESCRIPTION:
LOCATION:
SUMMARY:Schools & Central Offices closed. Memorial Day.
END:VEVENT
BEGIN:VEVENT
DTSTAMP:20260423T122754Z
UID:41d01e43-b492-4afc-b4b7-65f4a2c1b14e
DTSTART;VALUE=DATE:20260527
DTEND;VALUE=DATE:20260528
DESCRIPTION:<p><strong><b>Religious and Cultural Observances</b></strong></
 p><p>AACPS will operate on a normal schedule on the following days of majo
 r religious or cultural observance:</p><ul><li><p>October 20\,2025: Diwali
  (No Moon Day)</p></li><li><p>February 17\, 2026: Lunar New Year</p></li><
 li><p>May 27\, 2026: Eid al-Adha Jewish and Muslim religious observance da
 tes begin at sundown on the evening prior to the dates noted and conclude 
 at sundown the next evening.</p></li></ul>
LOCATION:
SUMMARY: Eid al-Adha.(See Religious Observances.)
END:VEVENT
BEGIN:VEVENT
DTSTAMP:20260423T122754Z
UID:6f6d3588-8bf9-421a-be77-53fc3d0c43c4
DTSTART;VALUE=DATE:20260616
DTEND;VALUE=DATE:20260617
DESCRIPTION:
LOCATION:
SUMMARY:🎉Last day for students. 🛑End of fourth marking period.
END:VEVENT
BEGIN:VEVENT
DTSTAMP:20260423T122754Z
UID:593b5358-4a4c-46c1-8f97-411d36053331
DTSTART;VALUE=DATE:20260618
DTEND;VALUE=DATE:20260619
DESCRIPTION:
LOCATION:
SUMMARY:🎉Last day for teachers. 
END:VEVENT
BEGIN:VEVENT
DTSTAMP:20260423T122754Z
UID:8bb6e6f0-accb-4fd6-84e7-e6f07b474b82
DTSTART;VALUE=DATE:20260619
DTEND;VALUE=DATE:20260620
DESCRIPTION:
LOCATION:
SUMMARY:Schools & Central Offices closed. Juneteenth
END:VEVENT
BEGIN:VEVENT
DTSTAMP:20260423T122754Z
UID:9349d88a-d621-4cdb-b348-84abf611980a
DTSTART;VALUE=DATE:20260623
DTEND;VALUE=DATE:20260624
DESCRIPTION:
LOCATION:
SUMMARY:Schools & Central Offices closed. Primary Election Day
END:VEVENT
BEGIN:VEVENT
DTSTAMP:20260423T122754Z
UID:0126ceb5-951c-43ab-8359-dcd6b4830659
DTSTART;VALUE=DATE:20260703
DTEND;VALUE=DATE:20260704
DESCRIPTION:
LOCATION:
SUMMARY:Schools & Central Offices closed. Independence Day. 
END:VEVENT
BEGIN:VEVENT
DTSTAMP:20260423T122754Z
UID:06399931-ffd1-465c-9182-c75e6195481b
DTSTART;VALUE=DATE:20260811
DTEND;VALUE=DATE:20260815
DESCRIPTION:
LOCATION:
SUMMARY:New Teacher Onboarding Activities
END:VEVENT
BEGIN:VEVENT
DTSTAMP:20260423T122754Z
UID:0d00385a-8eb1-4526-a203-07615f740bed
DTSTART;VALUE=DATE:20260817
DTEND;VALUE=DATE:20260822
DESCRIPTION:(School-based\nteachers and other identified\nschool-based empl
 oyees have\nchoice of work location on 8/21).
LOCATION:
SUMMARY:Opening activities for all teachers.
END:VEVENT
BEGIN:VEVENT
DTSTAMP:20260423T122754Z
UID:aacf6507-f38f-498d-bbea-4dbb7bd71fbf
DTSTART;VALUE=DATE:20260824
DTEND;VALUE=DATE:20260901
DESCRIPTION:
LOCATION:
SUMMARY:Conferences/staggered openings for ECSE\, Pre-K\, and Kindergarten
END:VEVENT
BEGIN:VEVENT
DTSTAMP:20260423T122754Z
UID:4b187389-5648-464d-b012-7ca80b340bda
DTSTART;VALUE=DATE:20260824
DTEND;VALUE=DATE:20260825
DESCRIPTION:
LOCATION:
SUMMARY:🎉Schools open for grades 1–5 and grades 6 and 9 only.
END:VEVENT
BEGIN:VEVENT
DTSTAMP:20260423T122754Z
UID:6e92c185-cb29-483d-be1f-28f3650b86a7
DTSTART;VALUE=DATE:20260825
DTEND;VALUE=DATE:20260826
DESCRIPTION:
LOCATION:
SUMMARY:🎉Schools open for grades 1–12.
END:VEVENT
BEGIN:VEVENT
DTSTAMP:20260423T122754Z
UID:171008e2-8e97-4b16-aa53-966fc7bd6900
DTSTART;VALUE=DATE:20260907
DTEND;VALUE=DATE:20260908
DESCRIPTION:
LOCATION:
SUMMARY:Schools & Central Offices closed. Labor Day.
END:VEVENT
BEGIN:VEVENT
DTSTAMP:20260423T122754Z
UID:46b20367-a822-48e9-a5ae-bf5f7a3b60da
DTSTART;VALUE=DATE:20260912
DTEND;VALUE=DATE:20260913
DESCRIPTION:<p>School Sponsored Activities</p><p>For Rosh Hashanah\, Yom Ki
 ppur\, Eidal-Fitr\, and Eid al-Adha\, no athletics or other school-sponsor
 ed extracurricular activities will take place after sundown on the day bef
 ore the observance or before sundown on the first day of a multi-day relig
 ious observance.</p>
LOCATION:
SUMMARY:Rosh Hashanah.  (See School-Sponsored Activities.)
END:VEVENT
BEGIN:VEVENT
DTSTAMP:20260423T122754Z
UID:ad3d201f-c725-48ec-90f7-76d50fe768eb
DTSTART;VALUE=DATE:20260921
DTEND;VALUE=DATE:20260922
DESCRIPTION:
LOCATION:
SUMMARY:Schools & Central Offices closed. Yom Kippur.
END:VEVENT
BEGIN:VEVENT
DTSTAMP:20260423T122754Z
UID:6a7b6c4a-43c8-4c66-bb78-41f3114b2144
DTSTART;VALUE=DATE:20261013
DTEND;VALUE=DATE:20261014
DESCRIPTION:
LOCATION:
SUMMARY: ⏰️Two-hour early dismissal.  🔹No afternoon ECSE.   🧡Proj
 ect Unity Day.  Professional Development.
END:VEVENT
BEGIN:VEVENT
DTSTAMP:20260423T122754Z
UID:43535a29-7fec-4d52-976f-2d00a482f7d0
DTSTART;VALUE=DATE:20261023
DTEND;VALUE=DATE:20261024
DESCRIPTION:
LOCATION:
SUMMARY:🛑End of first marking period
END:VEVENT
BEGIN:VEVENT
DTSTAMP:20260423T122754Z
UID:a02eb096-63d8-4293-b479-856c42ed0942
DTSTART;VALUE=DATE:20261026
DTEND;VALUE=DATE:20261027
DESCRIPTION:
LOCATION:
SUMMARY:Schools closed for all students. Teacher workday.
END:VEVENT
BEGIN:VEVENT
DTSTAMP:20260423T122754Z
UID:5d14e25d-0d72-4cde-bece-a5c4718825e9
DTSTART;VALUE=DATE:20261102
DTEND;VALUE=DATE:20261103
DESCRIPTION:Teacher workday/Professional Development. Schools open for hig
 h school students.
LOCATION:
SUMMARY:Schools closed for Elementary and Middle school students only.
END:VEVENT
BEGIN:VEVENT
DTSTAMP:20260423T122754Z
UID:a9522381-2167-4ba8-98af-3302b806ad49
DTSTART;VALUE=DATE:20261103
DTEND;VALUE=DATE:20261104
DESCRIPTION:
LOCATION:
SUMMARY:Schools & Central Offices closed. Election Day
END:VEVENT
BEGIN:VEVENT
DTSTAMP:20260423T122754Z
UID:83c08061-0f81-4abd-b89a-bb0f36146e5f
DTSTART;VALUE=DATE:20261108
DTEND;VALUE=DATE:20261109
DESCRIPTION:<b>Religious and Cultural Observances</b><br>AACPS will operate
  on a normal schedule on the following days of major religious or cultur
 al observance:<br><ul><li>November 8\, 2026: Diwali (No Moon Day)</li><li>
 February 6\, 2026: Lunar New Year</li><li>May 17\, 2026: Eid al-Adha</li><
 /ul>Jewish and Muslim religious observance dates begin at sundown on the
  evening prior to the dates noted and conclude at sundown the next eveni
 ng.
LOCATION:
SUMMARY:Diwali.  (See Religious Observances.)
END:VEVENT
BEGIN:VEVENT
DTSTAMP:20260423T122754Z
UID:3bfd1d16-cf7e-4227-a08e-860e71603cec
DTSTART;VALUE=DATE:20261123
DTEND;VALUE=DATE:20261125
DESCRIPTION:
LOCATION:
SUMMARY:Schools closed for all students. Parent/Teacher Conferences.
END:VEVENT
BEGIN:VEVENT
DTSTAMP:20260423T122754Z
UID:a420c95c-96b8-449d-a55d-9e39ef5b72a2
DTSTART;VALUE=DATE:20261125
DTEND;VALUE=DATE:20261128
DESCRIPTION:
LOCATION:
SUMMARY:Schools & Central Offices closed. Thanksgiving Holiday.
END:VEVENT
BEGIN:VEVENT
DTSTAMP:20260423T122754Z
UID:41d5d475-02f2-471d-bacd-6c258051bc6d
DTSTART;VALUE=DATE:20261208
DTEND;VALUE=DATE:20261209
DESCRIPTION:
LOCATION:
SUMMARY: ⏰️Two-hour early dismissal.  🔹No afternoon ECSE.   🧡Proj
 ect Unity Day.  Professional Development.
END:VEVENT
BEGIN:VEVENT
DTSTAMP:20260423T122754Z
UID:95974429-f7cc-4f2c-bdbd-3f9dce30cf42
DTSTART;VALUE=DATE:20261224
DTEND;VALUE=DATE:20261226
DESCRIPTION:
LOCATION:
SUMMARY:❄️Schools & Central Offices closed. Christmas/ Winter Break.
END:VEVENT
BEGIN:VEVENT
DTSTAMP:20260423T122754Z
UID:a1216a97-db59-4f8e-a96d-349c0cff34cc
DTSTART;VALUE=DATE:20261228
DTEND;VALUE=DATE:20270101
DESCRIPTION:
LOCATION:
SUMMARY:❄️Schools & Central Offices closed. Christmas/ Winter Break.
END:VEVENT
BEGIN:VEVENT
DTSTAMP:20260423T122754Z
UID:824c1a4b-9e4a-4013-866b-35da86e47aec
DTSTART;VALUE=DATE:20270101
DTEND;VALUE=DATE:20270102
DESCRIPTION:
LOCATION:
SUMMARY:Schools & Central Offices closed. New Year's Day.
END:VEVENT
BEGIN:VEVENT
DTSTAMP:20260423T122754Z
UID:528c43e9-20ff-46ef-8dd4-c40f6ed7249f
DTSTART;VALUE=DATE:20270115
DTEND;VALUE=DATE:20270116
DESCRIPTION:
LOCATION:
SUMMARY:🛑End of second marking period
END:VEVENT
BEGIN:VEVENT
DTSTAMP:20260423T122754Z
UID:e864553b-aea4-42a4-8203-143fe6f7d7ca
DTSTART;VALUE=DATE:20270118
DTEND;VALUE=DATE:20270119
DESCRIPTION:
LOCATION:
SUMMARY:Schools & Central Offices closed. Martin Luther King\, Jr. Birthday
  Commemoration
END:VEVENT
BEGIN:VEVENT
DTSTAMP:20260423T122754Z
UID:30fb1319-68fd-4f8c-9557-51597f00d476
DTSTART;VALUE=DATE:20270119
DTEND;VALUE=DATE:20270120
DESCRIPTION:
LOCATION:
SUMMARY:Schools closed for all students. Teacher workday
END:VEVENT
BEGIN:VEVENT
DTSTAMP:20260423T122754Z
UID:5c0a25f0-7756-4456-9e0b-52c775872d95
DTSTART;VALUE=DATE:20270120
DTEND;VALUE=DATE:20270121
DESCRIPTION:
LOCATION:
SUMMARY:Schools closed for all students. Semester break
END:VEVENT
BEGIN:VEVENT
DTSTAMP:20260423T122754Z
UID:43287a6d-e18d-45e6-a03f-6fdfceea1316
DTSTART;VALUE=DATE:20270206
DTEND;VALUE=DATE:20270207
DESCRIPTION:<b>Religious and Cultural Observances</b><br>AACPS will operate
  on a normal schedule on the following days of major religious or cultur
 al observance:<br><ul><li>November 8\, 2026: Diwali (No Moon Day)</li><li>
 February 6\, 2026: Lunar New Year</li><li>May 17\, 2026: Eid al-Adha</li><
 /ul>Jewish and Muslim religious observance dates begin at sundown on the
  evening prior to the dates noted and conclude at sundown the next eveni
 ng.
LOCATION:
SUMMARY:Lunar New Year. (See Religious Observances.)
END:VEVENT
BEGIN:VEVENT
DTSTAMP:20260423T122754Z
UID:b4857169-3cf2-4ee5-910e-e08aa22aebe7
DTSTART;VALUE=DATE:20270209
DTEND;VALUE=DATE:20270210
DESCRIPTION:
LOCATION:
SUMMARY: ⏰️Two-hour early dismissal.  🔹No afternoon ECSE.   🧡Proj
 ect Unity Day.  Professional Development. 
END:VEVENT
BEGIN:VEVENT
DTSTAMP:20260423T122754Z
UID:68054db6-3886-4792-a465-1a36e69f97d8
DTSTART;VALUE=DATE:20270215
DTEND;VALUE=DATE:20270216
DESCRIPTION:
LOCATION:
SUMMARY:Schools & Central Offices closed. Presidents Day.   
END:VEVENT
BEGIN:VEVENT
DTSTAMP:20260423T122754Z
UID:5d001567-c907-4eb1-bfe8-b7412c55df69
DTSTART;VALUE=DATE:20270309
DTEND;VALUE=DATE:20270310
DESCRIPTION:
LOCATION:
SUMMARY:Schools & Central Offices closed. Eid al-Fitr
END:VEVENT
BEGIN:VEVENT
DTSTAMP:20260423T122754Z
UID:3e93b549-0340-4115-a1a4-2d153d68ad79
DTSTART;VALUE=DATE:20270317
DTEND;VALUE=DATE:20270318
DESCRIPTION:
LOCATION:
SUMMARY: ⏰️Two-hour early dismissal.  🔹No afternoon ECSE.   🧡Proj
 ect Unity Day.  Professional Development 
END:VEVENT
BEGIN:VEVENT
DTSTAMP:20260423T122754Z
UID:83038b6d-97a5-4d9b-8b18-a6d0648e4b77
DTSTART;VALUE=DATE:20270325
DTEND;VALUE=DATE:20270326
DESCRIPTION:
LOCATION:
SUMMARY:🛑End of third marking period 
END:VEVENT
BEGIN:VEVENT
DTSTAMP:20260423T122754Z
UID:fe299a83-5b63-445a-877f-1a1ab4cb7ab9
DTSTART;VALUE=DATE:20270326
DTEND;VALUE=DATE:20270403
DESCRIPTION:
LOCATION:
SUMMARY:Schools & Central Offices closed. Easter/Spring Break 
END:VEVENT
BEGIN:VEVENT
DTSTAMP:20260423T122754Z
UID:b875783e-845c-4e38-b503-afd41d681354
DTSTART;VALUE=DATE:20270405
DTEND;VALUE=DATE:20270406
DESCRIPTION:
LOCATION:
SUMMARY:Schools closed for all students. Teacher workday 
END:VEVENT
BEGIN:VEVENT
DTSTAMP:20260423T122754Z
UID:0b050243-f157-419d-8f1d-bd278384cc90
DTSTART;VALUE=DATE:20270517
DTEND;VALUE=DATE:20270518
DESCRIPTION:<b>Religious and Cultural Observances</b><br>AACPS will operate
  on a normal schedule on the following days of major religious or cultur
 al observance:<br><ul><li>November 8\, 2026: Diwali (No Moon Day)</li><li>
 February 6\, 2026: Lunar New Year</li><li>May 17\, 2026: Eid al-Adha</li><
 /ul>Jewish and Muslim religious observance dates begin at sundown on the
  evening prior to the dates noted and conclude at sundown the next eveni
 ng.
LOCATION:
SUMMARY:Eid al-Adha. (See Religious Observances.)    
END:VEVENT
BEGIN:VEVENT
DTSTAMP:20260423T122754Z
UID:1f306ccb-fd38-43a4-b124-c1eb4082bba5
DTSTART;VALUE=DATE:20270521
DTEND;VALUE=DATE:20270522
DESCRIPTION:
LOCATION:
SUMMARY:🎉Last day for graduating seniors.
END:VEVENT
BEGIN:VEVENT
DTSTAMP:20260423T122754Z
UID:a9f654b4-5d63-438e-9f69-08d32b5c743d
DTSTART;VALUE=DATE:20270531
DTEND;VALUE=DATE:20270601
DESCRIPTION:
LOCATION:
SUMMARY:Schools & Central Offices closed. Memorial Day. 
END:VEVENT
BEGIN:VEVENT
DTSTAMP:20260423T122754Z
UID:457f389d-e235-4047-9bc4-8e30d6164a2c
DTSTART;VALUE=DATE:20270611
DTEND;VALUE=DATE:20270612
DESCRIPTION:
LOCATION:
SUMMARY:🎉Last day for students. 🛑End of fourth marking period. 
END:VEVENT
BEGIN:VEVENT
DTSTAMP:20260423T122754Z
UID:b55e22fc-5d77-4e94-8eef-78fd527794d8
DTSTART;VALUE=DATE:20270615
DTEND;VALUE=DATE:20270616
DESCRIPTION:
LOCATION:
SUMMARY: 🎉Last day for teachers.     
END:VEVENT
BEGIN:VEVENT
DTSTAMP:20260423T122754Z
UID:434eb73f-bc64-4b37-a918-f225d01d63ba
DTSTART;VALUE=DATE:20270618
DTEND;VALUE=DATE:20270619
DESCRIPTION:
LOCATION:
SUMMARY:Schools & Central Offices closed. Juneteenth. 
END:VEVENT
BEGIN:VEVENT
DTSTAMP:20260423T122754Z
UID:0d28a01d-0890-4f2b-ab4a-0c0e47983a91
DTSTART;VALUE=DATE:20270705
DTEND;VALUE=DATE:20270706
DESCRIPTION:
LOCATION:
SUMMARY:Schools & Central Offices closed. Independence Day Observed. 
END:VEVENT
BEGIN:VEVENT
DTSTAMP:20260423T122754Z
UID:4325ac5e-a196-4a88-b459-52b08b54d3f3
DTSTART;VALUE=DATE:20280117
DTEND;VALUE=DATE:20280118
DESCRIPTION:
LOCATION:
SUMMARY:Schools & Central Offices closed. Martin Luther King\, Jr. Birthday
  Commemoration
END:VEVENT
BEGIN:VEVENT
DTSTAMP:20260423T122754Z
UID:d43cf4ec-a742-4910-b846-c309fbaf576b
DTSTART;VALUE=DATE:20280221
DTEND;VALUE=DATE:20280222
DESCRIPTION:
LOCATION:
SUMMARY:Schools & Central Offices closed. Presidents Day.
END:VEVENT
BEGIN:VEVENT
DTSTAMP:20260423T122754Z
UID:042e440f-aa14-4608-8434-5dbc7257454b
DTSTART;VALUE=DATE:20280529
DTEND;VALUE=DATE:20280530
DESCRIPTION:
LOCATION:
SUMMARY:Memorial Day - Schools & Central Offices closed. 
END:VEVENT
BEGIN:VEVENT
DTSTAMP:20260423T122754Z
UID:086b652b-c4ac-49dd-b985-8d4021b0a31b
DTSTART;VALUE=DATE:20280619
DTEND;VALUE=DATE:20280620
DESCRIPTION:
LOCATION:
SUMMARY:Schools & Central Offices closed. Juneteenth
END:VEVENT
BEGIN:VEVENT
DTSTAMP:20260423T122754Z
UID:615babbb-447d-412c-afc3-84ac8c8bd54d
DTSTART;VALUE=DATE:20280704
DTEND;VALUE=DATE:20280705
DESCRIPTION:
LOCATION:
SUMMARY:Schools & Central Offices closed. Independence Day
END:VEVENT
END:VCALENDAR
