BEGIN:VCALENDAR
VERSION:2.0
PRODID:icalendar-ruby
CALSCALE:GREGORIAN
BEGIN:VTIMEZONE
TZID:America/New_York
BEGIN:DAYLIGHT
DTSTART:20260308T030000
TZOFFSETFROM:-0500
TZOFFSETTO:-0400
RRULE:FREQ=YEARLY;BYDAY=2SU;BYMONTH=3
TZNAME:EDT
END:DAYLIGHT
BEGIN:STANDARD
DTSTART:20261101T010000
TZOFFSETFROM:-0400
TZOFFSETTO:-0500
RRULE:FREQ=YEARLY;BYDAY=1SU;BYMONTH=11
TZNAME:EST
END:STANDARD
END:VTIMEZONE
BEGIN:VEVENT
DTSTAMP:20260419T235904Z
UID:2568dcc0-aac0-4419-a59c-fcc26075245a
DTSTART:20260420T173000
DTEND:20260420T193000
DESCRIPTION:
LOCATION:8500 Patriot Boulevard North Charleston SC 29420
SUMMARY:Boys JV Soccer at Fort Dorchester High School
END:VEVENT
BEGIN:VEVENT
DTSTAMP:20260419T235904Z
UID:f9045f54-cc60-4546-9faa-b05d7f36d46a
DTSTART:20260420T173000
DTEND:20260420T193000
DESCRIPTION:
LOCATION:4128 US-78 Hanahan SC 29410
SUMMARY:Girls JV Soccer vs. Woodland High School
END:VEVENT
BEGIN:VEVENT
DTSTAMP:20260419T235904Z
UID:a4cb16bf-7f15-4fb7-8640-38446454aefb
DTSTART:20260420T190000
DTEND:20260420T210000
DESCRIPTION:
LOCATION:6015 Murray Dr Hanahan SC 29410
SUMMARY:Girls Varsity Soccer vs. Woodland High School
END:VEVENT
BEGIN:VEVENT
DTSTAMP:20260419T235904Z
UID:71377356-d87c-44db-8184-2af1c059f073
DTSTART:20260421T163000
DTEND:20260421T183000
DESCRIPTION:
LOCATION:1177 Williams Ln\, Hanahan\, SC 29410\, USA
SUMMARY:Boys Varsity Tennis vs. Battery Creek High School
END:VEVENT
BEGIN:VEVENT
DTSTAMP:20260419T235904Z
UID:f52b1aad-6a29-43b8-8d58-5a7df47456ab
DTSTART:20260421T170000
DTEND:20260421T190000
DESCRIPTION:<p></p>
LOCATION:2383 SC-41\, Mt Pleasant\, SC 29466\, USA
SUMMARY:Boys JV Baseball at Oceanside Collegiate Academy
END:VEVENT
BEGIN:VEVENT
DTSTAMP:20260419T235904Z
UID:d83614b9-a7ec-4eb6-b9ef-b47f29820f6c
DTSTART:20260421T173000
DTEND:20260421T193000
DESCRIPTION:
LOCATION:6015 Murray Dr Hanahan SC 29410
SUMMARY:Girls Varsity Soccer vs. North Charleston High School
END:VEVENT
BEGIN:VEVENT
DTSTAMP:20260419T235904Z
UID:6d75e729-1e00-4f32-a41a-e881189e6182
DTSTART:20260421T180000
DTEND:20260421T200000
DESCRIPTION:<p></p>
LOCATION:2383 SC-41\, Mt Pleasant\, SC 29466\, USA
SUMMARY:Boys Varsity Baseball at Oceanside Collegiate Academy
END:VEVENT
BEGIN:VEVENT
DTSTAMP:20260419T235904Z
UID:6823c6ed-6386-4517-a4e9-e6df20847412
DTSTART:20260421T180000
DTEND:20260421T200000
DESCRIPTION:
LOCATION:2383 SC-41\, Mt Pleasant\, SC 29466\, USA
SUMMARY:Girls Varsity Softball at Oceanside Collegiate Academy
END:VEVENT
BEGIN:VEVENT
DTSTAMP:20260419T235904Z
UID:202958fc-3c50-4e99-a7bd-4d8e916b71a6
DTSTART:20260421T190000
DTEND:20260421T210000
DESCRIPTION:
LOCATION:6015 Murray Dr Hanahan SC 29410
SUMMARY:Boys Varsity Soccer vs. North Charleston High School
END:VEVENT
BEGIN:VEVENT
DTSTAMP:20260419T235904Z
UID:db775008-997e-45b0-b211-6785c224600a
DTSTART:20260422T153000
DTEND:20260422T183000
DESCRIPTION:
LOCATION:5000 Wescott Club Dr Summerville SC 29485
SUMMARY:Varsity Golf at Fort Dorchester/Lucy Beckham
END:VEVENT
BEGIN:VEVENT
DTSTAMP:20260419T235904Z
UID:4acedc7b-7004-42c0-ace1-1de848bfd6e6
DTSTART:20260422T173000
DTEND:20260422T193000
DESCRIPTION:
LOCATION:6015 Murray Dr Hanahan SC 29410
SUMMARY:Girls JV Soccer vs. Palmetto Christian Academy
END:VEVENT
BEGIN:VEVENT
DTSTAMP:20260419T235904Z
UID:ada9ac10-c4a7-4cc3-9a9d-3969bcee220a
DTSTART:20260423T173000
DTEND:20260423T190000
DESCRIPTION:
LOCATION:6015 Murray Dr Hanahan SC 29410
SUMMARY:Girls Varsity Soccer vs. Battery Creek High School
END:VEVENT
BEGIN:VEVENT
DTSTAMP:20260419T235904Z
UID:83cf75b5-e72f-446a-a4e8-87c3e320202c
DTSTART:20260423T190000
DTEND:20260423T210000
DESCRIPTION:
LOCATION:6015 Murray Dr Hanahan SC 29410
SUMMARY:Boys Varsity Soccer vs. Battery Creek High School
END:VEVENT
BEGIN:VEVENT
DTSTAMP:20260419T235904Z
UID:235ea48a-8277-47e5-a46e-0790a7c36246
DTSTART:20260424T180000
DTEND:20260424T200000
DESCRIPTION:Senior Night
LOCATION:6015 Murray Dr\, Hanahan\, SC 29410\, USA
SUMMARY:Girls Varsity Softball vs. Oceanside Collegiate Academy
END:VEVENT
BEGIN:VEVENT
DTSTAMP:20260419T235904Z
UID:4c173abf-c573-418c-a8f1-bc9b7d11c30a
DTSTART:20260424T190000
DTEND:20260424T210000
DESCRIPTION:
LOCATION:6015 Murray Dr Hanahan SC 29410
SUMMARY:Boys Varsity Baseball vs. Oceanside Collegiate Academy
END:VEVENT
BEGIN:VEVENT
DTSTAMP:20260419T235904Z
UID:8c2b7404-e921-4eed-abee-22decee6ad65
DTSTART:20260425T093000
DTEND:20260425T133000
DESCRIPTION:
LOCATION:James Island Charter High School\, 1000 Fort Johnson Rd\,Charlesto
 n\,SC 29412-8898
SUMMARY:Track & Field at Last Chance Trojan Classic
END:VEVENT
BEGIN:VEVENT
DTSTAMP:20260419T235904Z
UID:0bcd0d8c-8f92-4c74-aaae-ae1b503f93a9
DTSTART:20260425T110000
DTEND:20260425T130000
DESCRIPTION:
LOCATION:6015 Murray Dr Hanahan SC 29410
SUMMARY:Boys JV Baseball vs. Ashley Ridge High School
END:VEVENT
BEGIN:VEVENT
DTSTAMP:20260419T235904Z
UID:a8f4626f-5842-411b-ac38-5ebe7e7b4c69
DTSTART:20260427T090000
DTEND:20260427T120000
DESCRIPTION:
LOCATION:118 Legend Oaks Way Summerville SC 29485
SUMMARY:Varsity Golf at Swamp Fox Tournament
END:VEVENT
BEGIN:VEVENT
DTSTAMP:20260419T235904Z
UID:e300b973-f43a-471a-a6b5-cc6e02481aa3
DTSTART:20260428T090000
DTEND:20260428T120000
DESCRIPTION:
LOCATION:4322 Southborough Rd Florence SC 29501
SUMMARY:Varsity Golf at West Florence Tournament
END:VEVENT
BEGIN:VEVENT
DTSTAMP:20260419T235904Z
UID:c242d707-7f10-4b1e-88d2-42cba5dd6432
DTSTART:20260428T173000
DTEND:20260428T193000
DESCRIPTION:
LOCATION:6015 Murray Dr Hanahan SC 29410
SUMMARY:Boys JV Soccer vs. Lucy Beckham High School
END:VEVENT
BEGIN:VEVENT
DTSTAMP:20260419T235904Z
UID:72668182-81ae-45f0-b78c-a20e897f5c4d
DTSTART:20260428T183000
DTEND:20260428T203000
DESCRIPTION:
LOCATION:9800 Delemar Highway Summerville SC 29485
SUMMARY:Boys Varsity Baseball at Ashley Ridge High School
END:VEVENT
BEGIN:VEVENT
DTSTAMP:20260419T235904Z
UID:3997de3c-20fd-4b32-85a4-75ef2e9b2469
DTSTART:20260428T193000
DTEND:20260428T213000
DESCRIPTION:
LOCATION:6015 Murray Dr Hanahan SC 29410
SUMMARY:Boys Varsity Soccer vs. Lucy Beckham High School
END:VEVENT
BEGIN:VEVENT
DTSTAMP:20260419T235904Z
UID:af86f650-7550-47b5-9bdc-fe6045183cce
DTSTART:20260429T180000
DTEND:20260429T200000
DESCRIPTION:
LOCATION:6015 Murray Dr Hanahan SC 29410
SUMMARY:Boys Varsity Baseball vs. Philip Simmons High School
END:VEVENT
BEGIN:VEVENT
DTSTAMP:20260419T235904Z
UID:ec0a04b5-c8e1-44bc-8273-2e8120ee24bd
DTSTART:20260430T150000
DTEND:20260430T180000
DESCRIPTION:
LOCATION:300 Hamlet Cir Goose Creek SC 29445
SUMMARY:Varsity Golf at Region Tournament
END:VEVENT
BEGIN:VEVENT
DTSTAMP:20260419T235904Z
UID:c7df9d96-3fab-4edb-8148-0d512ecc0902
DTSTART:20260430T173000
DTEND:20260430T193000
DESCRIPTION:
LOCATION:4128 US-78 Dorchester SC 29437
SUMMARY:Boys JV Soccer at Philip Simmons High School
END:VEVENT
BEGIN:VEVENT
DTSTAMP:20260419T235904Z
UID:b418682b-2a71-4355-b0eb-e48010b5f4d9
DTSTART:20260430T190000
DTEND:20260430T210000
DESCRIPTION:
LOCATION:3080 River Village Drive Charleston SC 29492
SUMMARY:Boys Varsity Soccer at Philip Simmons High School
END:VEVENT
BEGIN:VEVENT
DTSTAMP:20260419T235904Z
UID:b30106ab-c264-485c-827a-cdb5696bed75
DTSTART:20260504T000000
DTEND:20260504T000000
DESCRIPTION:
LOCATION:TBD
SUMMARY:Varsity Golf at Lower State Tournament
END:VEVENT
BEGIN:VEVENT
DTSTAMP:20260419T235904Z
UID:48d491e5-41d9-443f-951a-e75e840b09b4
DTSTART:20260509T090000
DTEND:20260509T140000
DESCRIPTION:
LOCATION:2412 Kings River Rd\, Pawleys Island\, SC 29585\, USA
SUMMARY:Varsity Track & Field at District Meet in Waccamaw
END:VEVENT
BEGIN:VEVENT
DTSTAMP:20260419T235904Z
UID:c6a4400c-f4a4-42cb-92cb-f7a5dcf69b6c
DTSTART:20260511T000000
DTEND:20260512T000000
DESCRIPTION:
LOCATION:615 Log Cabin Rd Loris SC 29569
SUMMARY:Varsity Golf at State Tournament
END:VEVENT
END:VCALENDAR
