BEGIN:VCALENDAR
VERSION:2.0
PRODID:icalendar-ruby
CALSCALE:GREGORIAN
BEGIN:VTIMEZONE
TZID:America/New_York
BEGIN:DAYLIGHT
DTSTART:20260308T030000
TZOFFSETFROM:-0500
TZOFFSETTO:-0400
RRULE:FREQ=YEARLY;BYDAY=2SU;BYMONTH=3
TZNAME:EDT
END:DAYLIGHT
BEGIN:STANDARD
DTSTART:20261101T010000
TZOFFSETFROM:-0400
TZOFFSETTO:-0500
RRULE:FREQ=YEARLY;BYDAY=1SU;BYMONTH=11
TZNAME:EST
END:STANDARD
END:VTIMEZONE
BEGIN:VEVENT
DTSTAMP:20260422T235618Z
UID:a9632c0e-1dec-459d-b617-ec54eaac876f
DTSTART:20260420T130000
DTEND:20260626T190000
DESCRIPTION:<h2><strong>Summer Evening Registration</strong></h2><h2><stron
 g>Adult Evening Class Summer Flyer/Registration</strong></h2><p>Thank you 
 for your interest in MTEC Adult Evening Classes.&nbsp\; Please check out t
 he links and contact us with any questions at 304-291-9243.&nbsp\;</p><p><
 a target="_blank" rel="noopener noreferrer nofollow" href="https://aptg.co
 /2lt9D5" relative-link="">2026 Summer Flyer</a> for Adult Evening and Comm
 unity Schools Classes</p><p><a target="_blank" rel="noopener noreferrer no
 follow" href="https://monongalia.schoolcashonline.com/Fee/Details/13067/24
 0/False/True" relative-link="">Adult Evening registration and payment info
 rmation</a>&nbsp\;(Summer registration will start on April 20th at 1:00 pm
 )</p><p><a target="_blank" rel="noopener noreferrer nofollow" href="https:
 //mtec.mono.k12.wv.us/o/mtec/page/books-needed-for-classes">Books needed f
 or Adult Evening Classes&nbsp\;&nbsp\;</a></p><p><a target="_blank" rel="n
 oopener noreferrer nofollow" href="https://monongalia.schoolcashonline.com
 /Fee/Details/13067/240/False/True" relative-link="">Community Schools regi
 stration and payment information</a>&nbsp\;(Summer registration will start
  on April 20th&nbsp\;at 1:00 pm)</p>
LOCATION:
SUMMARY:Fall Evening Registration
END:VEVENT
BEGIN:VEVENT
DTSTAMP:20260422T235618Z
UID:00756841-4ee9-42ea-96b6-8d3265b4a340
DTSTART:20260428T170000
DTEND:20260428T170000
DESCRIPTION:
LOCATION:1751 Earl L Core Rd\, Morgantown\, WV 26505\, USA
SUMMARY:Board of Education Meeting 
END:VEVENT
BEGIN:VEVENT
DTSTAMP:20260422T235618Z
UID:3ba1fa0d-c3b0-461f-b60f-4a0c06b00bb6
DTSTART;VALUE=DATE:20260512
DTEND;VALUE=DATE:20260513
DESCRIPTION:
LOCATION:
SUMMARY:Election Day - Schools & Offices Closed
END:VEVENT
BEGIN:VEVENT
DTSTAMP:20260422T235618Z
UID:a5cd2ee7-9922-44eb-af67-16040987c13e
DTSTART:20260513T170000
DTEND:20260513T170000
DESCRIPTION:
LOCATION:1751 Earl L Core Rd\, Morgantown\, WV 26505\, USA
SUMMARY:Board of Education Meeting 
END:VEVENT
BEGIN:VEVENT
DTSTAMP:20260422T235618Z
UID:db276917-0c1d-4eee-9bdd-97fe6cd1d8a5
DTSTART:20260520T190000
DTEND:20260520T190000
DESCRIPTION:
LOCATION:111 Mylan Park Ln\, Morgantown\, WV 26501\, USA
SUMMARY:MTEC Certificate Ceremony
END:VEVENT
BEGIN:VEVENT
DTSTAMP:20260422T235618Z
UID:5d3f4e50-215f-49b5-b4fb-6b58ce0371d9
DTSTART:20260522T190000
DTEND:20260522T190000
DESCRIPTION:<p>Time TBD  </p><p>All ceremonies will take place at the respe
 ctive school's athletic stadium. </p>
LOCATION:High School Athletic Stadiums 
SUMMARY:MHS\, UHS\, CBHS Graduation Ceremonies 
END:VEVENT
BEGIN:VEVENT
DTSTAMP:20260422T235618Z
UID:b62eb392-a691-42f8-aadc-9be3a3d9e18d
DTSTART;VALUE=DATE:20260525
DTEND;VALUE=DATE:20260526
DESCRIPTION:
LOCATION:
SUMMARY:Memorial Day - Schools & Offices Closed
END:VEVENT
BEGIN:VEVENT
DTSTAMP:20260422T235618Z
UID:4ff52f16-d835-4473-b365-5c2a092211b9
DTSTART:20260526T170000
DTEND:20260526T170000
DESCRIPTION:
LOCATION:1751 Earl L Core Rd\, Morgantown\, WV 26505\, USA
SUMMARY:Board of Education Meeting 
END:VEVENT
BEGIN:VEVENT
DTSTAMP:20260422T235618Z
UID:439c0a53-47e0-49f0-ac6c-7e35dff900c6
DTSTART;VALUE=DATE:20260528
DTEND;VALUE=DATE:20260529
DESCRIPTION:
LOCATION:
SUMMARY:Last Day of School 
END:VEVENT
BEGIN:VEVENT
DTSTAMP:20260422T235618Z
UID:98736151-7ed0-422f-94b2-603d3a14591b
DTSTART:20260609T170000
DTEND:20260609T170000
DESCRIPTION:
LOCATION:1751 Earl L Core Rd\, Morgantown\, WV 26505\, USA
SUMMARY:Board of Education Meeting 
END:VEVENT
BEGIN:VEVENT
DTSTAMP:20260422T235618Z
UID:b904591a-c63f-4d91-80df-b059f4fcca2e
DTSTART:20260623T170000
DTEND:20260623T170000
DESCRIPTION:
LOCATION:1751 Earl L Core Rd\, Morgantown\, WV 26505\, USA
SUMMARY:Board of Education Meeting 
END:VEVENT
BEGIN:VEVENT
DTSTAMP:20260422T235618Z
UID:6e4a2e03-6a74-48b9-af64-bce827f66f21
DTSTART:20260630T170000
DTEND:20260630T170000
DESCRIPTION:
LOCATION:1751 Earl L Core Rd\, Morgantown\, WV 26505\, USA
SUMMARY:Board of Education Meeting (Special)
END:VEVENT
END:VCALENDAR
