BEGIN:VCALENDAR
VERSION:2.0
PRODID:icalendar-ruby
CALSCALE:GREGORIAN
BEGIN:VTIMEZONE
TZID:America/New_York
BEGIN:DAYLIGHT
DTSTART:20260308T030000
TZOFFSETFROM:-0500
TZOFFSETTO:-0400
RRULE:FREQ=YEARLY;BYDAY=2SU;BYMONTH=3
TZNAME:EDT
END:DAYLIGHT
BEGIN:STANDARD
DTSTART:20261101T010000
TZOFFSETFROM:-0400
TZOFFSETTO:-0500
RRULE:FREQ=YEARLY;BYDAY=1SU;BYMONTH=11
TZNAME:EST
END:STANDARD
END:VTIMEZONE
BEGIN:VEVENT
DTSTAMP:20260422T192131Z
UID:c90f53ad-2152-4b87-95c6-99d28b396cdb
DTSTART;VALUE=DATE:20260420
DTEND;VALUE=DATE:20260425
DESCRIPTION:
LOCATION:
SUMMARY:MS/HS Battle of the Classes Spirit Week
END:VEVENT
BEGIN:VEVENT
DTSTAMP:20260422T192131Z
UID:02d69f5c-d5f7-4826-8b4d-026f9c084f47
DTSTART;VALUE=DATE:20260424
DTEND;VALUE=DATE:20260425
DESCRIPTION:
LOCATION:
SUMMARY:HS Grades 9-12 Battle of the Classes
END:VEVENT
BEGIN:VEVENT
DTSTAMP:20260422T192131Z
UID:33701e7b-6dd6-4d6b-84c0-737af5dd5f62
DTSTART;VALUE=DATE:20260424
DTEND;VALUE=DATE:20260425
DESCRIPTION:
LOCATION:
SUMMARY:Parent Portal Report  Card Access
END:VEVENT
BEGIN:VEVENT
DTSTAMP:20260422T192131Z
UID:4e316529-1770-43cf-b9f0-584d128df2ae
DTSTART;VALUE=DATE:20260428
DTEND;VALUE=DATE:20260430
DESCRIPTION:
LOCATION:
SUMMARY:RU/MS Grades 3-8 New York State  Math Assessments
END:VEVENT
BEGIN:VEVENT
DTSTAMP:20260422T192131Z
UID:8e939274-653e-47ef-bf03-0fa6d5f7fc6d
DTSTART;VALUE=DATE:20260502
DTEND;VALUE=DATE:20260503
DESCRIPTION:
LOCATION:
SUMMARY:SAT Exam 8AM
END:VEVENT
BEGIN:VEVENT
DTSTAMP:20260422T192131Z
UID:39a77059-a014-48f4-84c5-1928d2bed6b5
DTSTART;VALUE=DATE:20260504
DTEND;VALUE=DATE:20260509
DESCRIPTION:
LOCATION:
SUMMARY:AP Exams
END:VEVENT
BEGIN:VEVENT
DTSTAMP:20260422T192131Z
UID:516a45d5-186e-4e90-87cc-c5940ac259dd
DTSTART;VALUE=DATE:20260505
DTEND;VALUE=DATE:20260506
DESCRIPTION:
LOCATION:
SUMMARY:MS/HS PTSA Mtg 7:30PM (HS Conf Rm)
END:VEVENT
BEGIN:VEVENT
DTSTAMP:20260422T192131Z
UID:678865c7-db10-4469-bf6f-e1f3740a2943
DTSTART;VALUE=DATE:20260508
DTEND;VALUE=DATE:20260510
DESCRIPTION:
LOCATION:
SUMMARY:MS Musical 7:30PM (HS Auditorium)
END:VEVENT
BEGIN:VEVENT
DTSTAMP:20260422T192131Z
UID:7a207761-53da-421b-8d21-7241ba52284f
DTSTART;VALUE=DATE:20260511
DTEND;VALUE=DATE:20260516
DESCRIPTION:
LOCATION:
SUMMARY: AP Exams
END:VEVENT
BEGIN:VEVENT
DTSTAMP:20260422T192131Z
UID:33fb5650-48bb-49b2-ad7b-a54cb40ed63c
DTSTART;VALUE=DATE:20260511
DTEND;VALUE=DATE:20260512
DESCRIPTION:
LOCATION:
SUMMARY:RU Grade 5 &  MS Grade 8 NYS Science  Assessment
END:VEVENT
BEGIN:VEVENT
DTSTAMP:20260422T192131Z
UID:d49344cd-1ec2-4a57-a0c9-bd43f189bdab
DTSTART;VALUE=DATE:20260515
DTEND;VALUE=DATE:20260516
DESCRIPTION:
LOCATION:
SUMMARY:HS Senior Signing  Day-Athletics 3:15PM  (MPR)
END:VEVENT
BEGIN:VEVENT
DTSTAMP:20260422T192131Z
UID:35be7b98-ebcd-43d2-aabe-6f547ac0d053
DTSTART;VALUE=DATE:20260519
DTEND;VALUE=DATE:20260520
DESCRIPTION:
LOCATION:
SUMMARY:HS Art Show 5-7PM  (HS Conf Rm)
END:VEVENT
BEGIN:VEVENT
DTSTAMP:20260422T192131Z
UID:e1cf698c-66ef-46f0-b3df-aeaee7d2615d
DTSTART;VALUE=DATE:20260519
DTEND;VALUE=DATE:20260520
DESCRIPTION:
LOCATION:
SUMMARY:HS Spring Concert  7PM (HS Auditorium
END:VEVENT
BEGIN:VEVENT
DTSTAMP:20260422T192131Z
UID:a31bbe92-321c-4d30-aaf1-a763fd57d047
DTSTART;VALUE=DATE:20260520
DTEND;VALUE=DATE:20260521
DESCRIPTION:
LOCATION:
SUMMARY:MS/HS Honor Societies Induction Ceremony  7PM (HS Auditorium) 
END:VEVENT
BEGIN:VEVENT
DTSTAMP:20260422T192131Z
UID:b88f160d-043c-478d-9c86-ec820986e684
DTSTART;VALUE=DATE:20260522
DTEND;VALUE=DATE:20260523
DESCRIPTION:
LOCATION:
SUMMARY:EMERGENCY  CLOSURE  MAKE-UP DA
END:VEVENT
BEGIN:VEVENT
DTSTAMP:20260422T192131Z
UID:c28fc8a5-4422-4b51-9377-06b0c90512ec
DTSTART;VALUE=DATE:20260525
DTEND;VALUE=DATE:20260526
DESCRIPTION:
LOCATION:
SUMMARY:MEMORIAL DAY SCHOOLS CLOSED
END:VEVENT
BEGIN:VEVENT
DTSTAMP:20260422T192131Z
UID:5869ee52-4972-4a56-96dc-3d1c1b29f61f
DTSTART;VALUE=DATE:20260527
DTEND;VALUE=DATE:20260529
DESCRIPTION:
LOCATION:
SUMMARY:Class of 2027 Senior Portraits
END:VEVENT
BEGIN:VEVENT
DTSTAMP:20260422T192131Z
UID:163f4fbb-9edb-4ebf-bcc1-c87204a947b8
DTSTART;VALUE=DATE:20260527
DTEND;VALUE=DATE:20260528
DESCRIPTION:
LOCATION:
SUMMARY:HS Grades 9-12  Academic Awards 1:50PM  (HS Auditorium
END:VEVENT
BEGIN:VEVENT
DTSTAMP:20260422T192131Z
UID:8f9fa2e7-f620-4592-922f-8396cc4b3da6
DTSTART;VALUE=DATE:20260528
DTEND;VALUE=DATE:20260529
DESCRIPTION:
LOCATION:
SUMMARY:HS Senior Scholarship  Awards Night Dinner 6PM Ceremony 7PM
END:VEVENT
BEGIN:VEVENT
DTSTAMP:20260422T192131Z
UID:0e521789-c48d-46ba-ae58-ccac1a26dd0e
DTSTART;VALUE=DATE:20260529
DTEND;VALUE=DATE:20260530
DESCRIPTION:
LOCATION:
SUMMARY:MS Grade 8 Activity 
END:VEVENT
BEGIN:VEVENT
DTSTAMP:20260422T192131Z
UID:75f83559-8e7c-4c4f-8cb0-375e12ea03ea
DTSTART;VALUE=DATE:20260602
DTEND;VALUE=DATE:20260603
DESCRIPTION:
LOCATION:
SUMMARY:MS/HS PTSA Mtg 7:30PM (HS Conf Rm)
END:VEVENT
BEGIN:VEVENT
DTSTAMP:20260422T192131Z
UID:5f23d4bd-e767-44b3-9364-64384aa647a2
DTSTART;VALUE=DATE:20260606
DTEND;VALUE=DATE:20260607
DESCRIPTION:
LOCATION:
SUMMARY:SAT Exam 8AM
END:VEVENT
BEGIN:VEVENT
DTSTAMP:20260422T192131Z
UID:976bf41e-311c-4b76-b7b1-54d9bbed61b6
DTSTART;VALUE=DATE:20260608
DTEND;VALUE=DATE:20260609
DESCRIPTION:
LOCATION:
SUMMARY:HS Varsity Spring/ Senior Awards 6PM  (HS Auditorium) 
END:VEVENT
BEGIN:VEVENT
DTSTAMP:20260422T192131Z
UID:1425c219-1f41-4ff4-acd0-8ceecf6b5219
DTSTART;VALUE=DATE:20260609
DTEND;VALUE=DATE:20260610
DESCRIPTION:
LOCATION:
SUMMARY:HS ELA Regents Exam
END:VEVENT
BEGIN:VEVENT
DTSTAMP:20260422T192131Z
UID:5a417779-6093-461a-ac1f-4e609d287afc
DTSTART;VALUE=DATE:20260610
DTEND;VALUE=DATE:20260611
DESCRIPTION:
LOCATION:
SUMMARY:HS Algebra II  Regents Exam
END:VEVENT
BEGIN:VEVENT
DTSTAMP:20260422T192131Z
UID:d9df21ec-f8de-46c1-b92d-317c868cefbc
DTSTART;VALUE=DATE:20260610
DTEND;VALUE=DATE:20260611
DESCRIPTION:
LOCATION:
SUMMARY:HS Physical Science:  Chemistry & Physics  Regents Exams
END:VEVENT
BEGIN:VEVENT
DTSTAMP:20260422T192131Z
UID:2b907257-5371-428c-a829-0e9ba3fe2645
DTSTART;VALUE=DATE:20260611
DTEND;VALUE=DATE:20260612
DESCRIPTION:
LOCATION:
SUMMARY:HS Fine Arts Awards  7PM (HS Auditorium)
END:VEVENT
BEGIN:VEVENT
DTSTAMP:20260422T192131Z
UID:4017b48f-44aa-4f43-8445-183300e61581
DTSTART;VALUE=DATE:20260613
DTEND;VALUE=DATE:20260614
DESCRIPTION:
LOCATION:
SUMMARY:ACT Exam 8AM
END:VEVENT
BEGIN:VEVENT
DTSTAMP:20260422T192131Z
UID:b6cc0b2e-e491-4c5a-bdc6-85db3a6e5983
DTSTART;VALUE=DATE:20260615
DTEND;VALUE=DATE:20260616
DESCRIPTION:
LOCATION:
SUMMARY:MS/HS Fourth Marking  Period Ends/Last Day of  Classes
END:VEVENT
BEGIN:VEVENT
DTSTAMP:20260422T192131Z
UID:a83fb496-0516-4ea6-bb36-5ca87c41ecb3
DTSTART;VALUE=DATE:20260616
DTEND;VALUE=DATE:20260617
DESCRIPTION:
LOCATION:
SUMMARY:MS/HS Finals & Regents Exams
END:VEVENT
BEGIN:VEVENT
DTSTAMP:20260422T192131Z
UID:6e655d69-dece-4311-b2b5-34a11b3063e6
DTSTART;VALUE=DATE:20260619
DTEND;VALUE=DATE:20260620
DESCRIPTION:
LOCATION:
SUMMARY:JUNETEENTH SCHOOLS CLOSE
END:VEVENT
BEGIN:VEVENT
DTSTAMP:20260422T192131Z
UID:b0d6f34b-f2d7-484d-a32e-f14237beb5f1
DTSTART;VALUE=DATE:20260622
DTEND;VALUE=DATE:20260627
DESCRIPTION:
LOCATION:
SUMMARY:MS/HS Finals & Regents Exams
END:VEVENT
BEGIN:VEVENT
DTSTAMP:20260422T192131Z
UID:8a7a7bb4-1871-41f7-9987-a2cb801a49af
DTSTART;VALUE=DATE:20260624
DTEND;VALUE=DATE:20260625
DESCRIPTION:
LOCATION:
SUMMARY:HS Senior Prom 6:30PM
END:VEVENT
BEGIN:VEVENT
DTSTAMP:20260422T192131Z
UID:b4596bd9-073f-4116-869e-3c7d32766add
DTSTART;VALUE=DATE:20260625
DTEND;VALUE=DATE:20260626
DESCRIPTION:
LOCATION:
SUMMARY:HS Grade 12 Graduation  Rehearsal 12PM  (HS Auditorium) 
END:VEVENT
BEGIN:VEVENT
DTSTAMP:20260422T192131Z
UID:84a88a11-31c3-44da-a302-d2f30621beed
DTSTART;VALUE=DATE:20260625
DTEND;VALUE=DATE:20260626
DESCRIPTION:
LOCATION:
SUMMARY:MS Grade 8 Moving-Up  Day 2PM (HS Auditorium)
END:VEVENT
BEGIN:VEVENT
DTSTAMP:20260422T192131Z
UID:cb4f527b-94da-4306-9de1-9b54533b768c
DTSTART;VALUE=DATE:20260626
DTEND;VALUE=DATE:20260627
DESCRIPTION:
LOCATION:
SUMMARY:HS Grade 12 Graduation  6:30PM
END:VEVENT
BEGIN:VEVENT
DTSTAMP:20260422T192131Z
UID:06f6dbcc-abd7-48a2-b09e-64b73c0e3371
DTSTART;VALUE=DATE:20260626
DTEND;VALUE=DATE:20260627
DESCRIPTION:
LOCATION:
SUMMARY:LAST DAY OF  SCHOOL
END:VEVENT
BEGIN:VEVENT
DTSTAMP:20260422T192131Z
UID:7823d419-33f5-4a0c-b658-5404883279cd
DTSTART;VALUE=DATE:20260630
DTEND;VALUE=DATE:20260701
DESCRIPTION:
LOCATION:
SUMMARY:Parent Portal Report  Card Access
END:VEVENT
BEGIN:VEVENT
DTSTAMP:20260422T192131Z
UID:279abfcc-8172-4717-b619-1a3a5bbc53d9
DTSTART;VALUE=DATE:20260711
DTEND;VALUE=DATE:20260712
DESCRIPTION:
LOCATION:
SUMMARY:ACT Exam 8AM
END:VEVENT
END:VCALENDAR
