BEGIN:VCALENDAR
VERSION:2.0
PRODID:icalendar-ruby
CALSCALE:GREGORIAN
BEGIN:VTIMEZONE
TZID:America/New_York
BEGIN:DAYLIGHT
DTSTART:20260308T030000
TZOFFSETFROM:-0500
TZOFFSETTO:-0400
RRULE:FREQ=YEARLY;BYDAY=2SU;BYMONTH=3
TZNAME:EDT
END:DAYLIGHT
BEGIN:STANDARD
DTSTART:20261101T010000
TZOFFSETFROM:-0400
TZOFFSETTO:-0500
RRULE:FREQ=YEARLY;BYDAY=1SU;BYMONTH=11
TZNAME:EST
END:STANDARD
END:VTIMEZONE
BEGIN:VEVENT
DTSTAMP:20260425T153720Z
UID:1464c06e-4c70-4994-9293-3b1321667c7b
DTSTART;VALUE=DATE:20260427
DTEND;VALUE=DATE:20260428
DESCRIPTION:
LOCATION:
SUMMARY:Spring Book Fair
END:VEVENT
BEGIN:VEVENT
DTSTAMP:20260425T153720Z
UID:2ead0f16-0950-4baf-a742-fc042b4c0887
DTSTART;VALUE=DATE:20260428
DTEND;VALUE=DATE:20260429
DESCRIPTION:
LOCATION:
SUMMARY:Spring Book Fair
END:VEVENT
BEGIN:VEVENT
DTSTAMP:20260425T153720Z
UID:c40fb701-d730-4143-b179-071383e848ae
DTSTART;VALUE=DATE:20260429
DTEND;VALUE=DATE:20260430
DESCRIPTION:
LOCATION:
SUMMARY:Spring Book Fair
END:VEVENT
BEGIN:VEVENT
DTSTAMP:20260425T153720Z
UID:3964a7a1-5fe0-417a-b905-dd8631cc0c82
DTSTART;VALUE=DATE:20260430
DTEND;VALUE=DATE:20260501
DESCRIPTION:
LOCATION:
SUMMARY:Spring Book Fair
END:VEVENT
BEGIN:VEVENT
DTSTAMP:20260425T153720Z
UID:30337c4e-fef5-448e-833a-3e671082d872
DTSTART;VALUE=DATE:20260501
DTEND;VALUE=DATE:20260502
DESCRIPTION:
LOCATION:
SUMMARY:Spring Book Fair
END:VEVENT
BEGIN:VEVENT
DTSTAMP:20260425T153720Z
UID:b4e23cc9-6cf4-446f-9a8b-60bc9acd3b77
DTSTART:20260504T080000
DTEND:20260504T150000
DESCRIPTION:
LOCATION:
SUMMARY:NYS Math Testing--Grades 5-8
END:VEVENT
BEGIN:VEVENT
DTSTAMP:20260425T153720Z
UID:9587e7f2-98e4-4de6-b343-3e2dd7a412c2
DTSTART:20260505T080000
DTEND:20260505T150000
DESCRIPTION:
LOCATION:
SUMMARY:NYS Math Testing--Grades 5-8
END:VEVENT
BEGIN:VEVENT
DTSTAMP:20260425T153720Z
UID:b5cf6093-74d1-4f0c-9c6d-251fab6ccbc1
DTSTART:20260506T080000
DTEND:20260506T150000
DESCRIPTION:
LOCATION:
SUMMARY:NYS Math Testing--Grades 3 & 4
END:VEVENT
BEGIN:VEVENT
DTSTAMP:20260425T153720Z
UID:cdebc20e-f13e-4b95-ab1b-d7426d120dcf
DTSTART:20260507T080000
DTEND:20260507T150000
DESCRIPTION:
LOCATION:
SUMMARY:NYS Math Testing--Grades 3 & 4
END:VEVENT
BEGIN:VEVENT
DTSTAMP:20260425T153720Z
UID:0eb4151b-68a9-4b34-b7a8-ca599162f7c2
DTSTART:20260511T080000
DTEND:20260511T150000
DESCRIPTION:
LOCATION:
SUMMARY:NYS Science Testing--Grades 5 & 8
END:VEVENT
BEGIN:VEVENT
DTSTAMP:20260425T153720Z
UID:a979ab56-afac-44f2-84d3-01e34b2f2b9d
DTSTART:20260512T183000
DTEND:20260512T200000
DESCRIPTION:
LOCATION:
SUMMARY:Budget Hearing & Board of Education Meeting (MS/HS Theatre)
END:VEVENT
BEGIN:VEVENT
DTSTAMP:20260425T153720Z
UID:7871c07b-f1e1-43a6-a064-1c5aad4f449f
DTSTART:20260513T133000
DTEND:20260513T143000
DESCRIPTION:
LOCATION:
SUMMARY:Top 10 Seniors Celebration
END:VEVENT
BEGIN:VEVENT
DTSTAMP:20260425T153720Z
UID:a0afee97-e9f4-48a5-9754-3bcc28d7b90c
DTSTART;VALUE=DATE:20260514
DTEND;VALUE=DATE:20260515
DESCRIPTION:
LOCATION:
SUMMARY:FFA State Convention
END:VEVENT
BEGIN:VEVENT
DTSTAMP:20260425T153720Z
UID:2ae9a045-31b1-4a67-bc49-424ddfef2e82
DTSTART;VALUE=DATE:20260515
DTEND;VALUE=DATE:20260516
DESCRIPTION:
LOCATION:
SUMMARY:FFA State Convention
END:VEVENT
BEGIN:VEVENT
DTSTAMP:20260425T153720Z
UID:8b27d5f6-4714-4185-bf59-1bd1c1bb75d9
DTSTART;VALUE=DATE:20260516
DTEND;VALUE=DATE:20260517
DESCRIPTION:
LOCATION:
SUMMARY:FFA State Convention
END:VEVENT
BEGIN:VEVENT
DTSTAMP:20260425T153720Z
UID:ff292076-e55e-426e-8db6-81c99d5ffef2
DTSTART;VALUE=DATE:20260518
DTEND;VALUE=DATE:20260519
DESCRIPTION:
LOCATION:
SUMMARY:Pre-K Screening
END:VEVENT
BEGIN:VEVENT
DTSTAMP:20260425T153720Z
UID:75c8fcf3-330e-4e01-bbce-02f5c6c2e9b8
DTSTART;VALUE=DATE:20260519
DTEND;VALUE=DATE:20260520
DESCRIPTION:
LOCATION:
SUMMARY:Pre-K Screening
END:VEVENT
BEGIN:VEVENT
DTSTAMP:20260425T153720Z
UID:f61fb996-2f49-4650-8b6b-5e1de736c38d
DTSTART:20260519T110000
DTEND:20260519T200000
DESCRIPTION:
LOCATION:
SUMMARY:Budget Vote/School Board Election (MS/HS Atrium)
END:VEVENT
BEGIN:VEVENT
DTSTAMP:20260425T153720Z
UID:173adf93-0b18-42cf-a8c1-1684a40a1181
DTSTART:20260519T183000
DTEND:20260519T200000
DESCRIPTION:
LOCATION:
SUMMARY:Grades 3-6 Chorus & Grades 5-8 Band Concert
END:VEVENT
BEGIN:VEVENT
DTSTAMP:20260425T153720Z
UID:666201ee-20f3-459c-8a78-870f0348339f
DTSTART;VALUE=DATE:20260520
DTEND;VALUE=DATE:20260521
DESCRIPTION:
LOCATION:
SUMMARY:Pre-K Screening
END:VEVENT
BEGIN:VEVENT
DTSTAMP:20260425T153720Z
UID:9a4c7a6f-0f17-4818-8b0b-70e143cafd37
DTSTART;VALUE=DATE:20260521
DTEND;VALUE=DATE:20260522
DESCRIPTION:
LOCATION:
SUMMARY:Pre-K Screening
END:VEVENT
BEGIN:VEVENT
DTSTAMP:20260425T153720Z
UID:4c029150-de40-45a0-95f0-e9868277aca9
DTSTART:20260524T113000
DTEND:20260524T120000
DESCRIPTION:
LOCATION:
SUMMARY:East Otto Parade (Grades 7-12 Band)
END:VEVENT
BEGIN:VEVENT
DTSTAMP:20260425T153720Z
UID:e765f7ab-c1ba-4ff2-b027-0cedbf8a1ff9
DTSTART;VALUE=DATE:20260525
DTEND;VALUE=DATE:20260526
DESCRIPTION:
LOCATION:
SUMMARY:No School--Memorial Day
END:VEVENT
BEGIN:VEVENT
DTSTAMP:20260425T153720Z
UID:2ae5aef9-ee74-4ac3-a9f7-1883b3928d57
DTSTART:20260525T100000
DTEND:20260525T110000
DESCRIPTION:
LOCATION:
SUMMARY:Little Valley Parade (7-12 Band)
END:VEVENT
BEGIN:VEVENT
DTSTAMP:20260425T153720Z
UID:284ed29b-edd5-49d3-bf7c-8c241aae50a7
DTSTART:20260525T120000
DTEND:20260525T130000
DESCRIPTION:
LOCATION:
SUMMARY:Cattaraugus Parade (5-12 Band)
END:VEVENT
BEGIN:VEVENT
DTSTAMP:20260425T153720Z
UID:c963367b-ba1a-4dac-8e31-2943abad960f
DTSTART:20260526T080000
DTEND:20260526T150000
DESCRIPTION:
LOCATION:
SUMMARY:Spring Spirit Week
END:VEVENT
BEGIN:VEVENT
DTSTAMP:20260425T153720Z
UID:5a5c2bdc-323f-4ff8-8ad6-225d6268690e
DTSTART:20260526T183000
DTEND:20260526T200000
DESCRIPTION:
LOCATION:
SUMMARY:Board of Education Meeting
END:VEVENT
BEGIN:VEVENT
DTSTAMP:20260425T153720Z
UID:66da4355-516b-431f-ae96-24933b3f3377
DTSTART:20260527T080000
DTEND:20260527T150000
DESCRIPTION:
LOCATION:
SUMMARY:Spring Spirit Week
END:VEVENT
BEGIN:VEVENT
DTSTAMP:20260425T153720Z
UID:03309467-1597-433f-ad20-d3c643e608b8
DTSTART:20260527T183000
DTEND:20260527T200000
DESCRIPTION:
LOCATION:
SUMMARY:Grades 7-12 Band & Chorus Concert
END:VEVENT
BEGIN:VEVENT
DTSTAMP:20260425T153720Z
UID:2c5e6e21-6aee-4115-aaa5-803f51caaaee
DTSTART:20260528T080000
DTEND:20260528T150000
DESCRIPTION:
LOCATION:
SUMMARY:Spring Spirit Week
END:VEVENT
BEGIN:VEVENT
DTSTAMP:20260425T153720Z
UID:32fc2714-036d-4084-84fc-afa5601efbfe
DTSTART:20260528T170000
DTEND:20260528T183000
DESCRIPTION:
LOCATION:
SUMMARY:Elementary Summer Slide Picnic
END:VEVENT
BEGIN:VEVENT
DTSTAMP:20260425T153720Z
UID:23f9c6be-ba0d-4e5a-a251-4add4a1086d9
DTSTART:20260529T080000
DTEND:20260529T150000
DESCRIPTION:
LOCATION:
SUMMARY:MS/HS Strive to Thrive Day
END:VEVENT
BEGIN:VEVENT
DTSTAMP:20260425T153720Z
UID:3bb19c11-94b2-4d52-9a12-6218ddb38e2c
DTSTART:20260529T080000
DTEND:20260529T150000
DESCRIPTION:
LOCATION:
SUMMARY:Spring Spirit Week
END:VEVENT
BEGIN:VEVENT
DTSTAMP:20260425T153720Z
UID:2e7ec5fb-de24-4c39-83f9-dbb9307aa2fc
DTSTART;VALUE=DATE:20260530
DTEND;VALUE=DATE:20260531
DESCRIPTION:
LOCATION:
SUMMARY:6th-8th Grade Band Students to Darien Lake
END:VEVENT
BEGIN:VEVENT
DTSTAMP:20260425T153720Z
UID:478b5210-411e-4795-9078-484b9ec3d7fa
DTSTART;VALUE=DATE:20260605
DTEND;VALUE=DATE:20260606
DESCRIPTION:
LOCATION:
SUMMARY:Pre-K Field Day
END:VEVENT
BEGIN:VEVENT
DTSTAMP:20260425T153720Z
UID:5a950d5b-e89d-4df7-b368-44cb3d3dec8a
DTSTART:20260609T091500
DTEND:20260609T121500
DESCRIPTION:
LOCATION:
SUMMARY:ELA Regents Exam
END:VEVENT
BEGIN:VEVENT
DTSTAMP:20260425T153720Z
UID:36bb2e05-4109-4f27-8268-f2b217590929
DTSTART:20260609T131500
DTEND:20260609T151500
DESCRIPTION:
LOCATION:
SUMMARY:Algebra II Regents Exam
END:VEVENT
BEGIN:VEVENT
DTSTAMP:20260425T153720Z
UID:cd9a19c8-ec8b-4bf6-bfdb-4d10c380054c
DTSTART:20260609T183000
DTEND:20260609T200000
DESCRIPTION:
LOCATION:
SUMMARY:Board of Education Meeting
END:VEVENT
BEGIN:VEVENT
DTSTAMP:20260425T153720Z
UID:2ae2766b-b32d-4c5e-a15e-ef3fd90c34ae
DTSTART:20260610T091500
DTEND:20260610T121500
DESCRIPTION:
LOCATION:
SUMMARY:Physical Science: Chemistry Regents
END:VEVENT
BEGIN:VEVENT
DTSTAMP:20260425T153720Z
UID:fd678e6a-f61e-4360-ba1a-fc39c506f0ab
DTSTART:20260610T131500
DTEND:20260610T151500
DESCRIPTION:
LOCATION:
SUMMARY:Physical Science: Physics Regents
END:VEVENT
BEGIN:VEVENT
DTSTAMP:20260425T153720Z
UID:7a999c12-06df-4b3c-946c-f565595443a5
DTSTART:20260611T180000
DTEND:20260611T200000
DESCRIPTION:
LOCATION:
SUMMARY:Academic Awards Ceremony
END:VEVENT
BEGIN:VEVENT
DTSTAMP:20260425T153720Z
UID:42c4335a-8215-4f19-bbf1-9a631f279624
DTSTART:20260612T080000
DTEND:20260612T144500
DESCRIPTION:
LOCATION:
SUMMARY:Grades 3 & 4 Field Day
END:VEVENT
BEGIN:VEVENT
DTSTAMP:20260425T153720Z
UID:9626e6ce-7f76-40a8-ac6c-d92000e2a0f8
DTSTART:20260613T100000
DTEND:20260613T130000
DESCRIPTION:
LOCATION:
SUMMARY:Community Day
END:VEVENT
BEGIN:VEVENT
DTSTAMP:20260425T153720Z
UID:5e41d7e4-eb01-44b0-943c-31a0c613e5fb
DTSTART;VALUE=DATE:20260616
DTEND;VALUE=DATE:20260617
DESCRIPTION:
LOCATION:
SUMMARY:Last Day of Regular Attendance for Grades 7-12
END:VEVENT
BEGIN:VEVENT
DTSTAMP:20260425T153720Z
UID:811dadce-d984-470b-af6f-5eb2ee92521b
DTSTART:20260617T080000
DTEND:20260618T160000
DESCRIPTION:
LOCATION:
SUMMARY:4th Grade Students and Staff at Ecology Camp
END:VEVENT
BEGIN:VEVENT
DTSTAMP:20260425T153720Z
UID:9d1b61e9-fe5b-4fc5-97ce-8e2aba40b1df
DTSTART:20260617T091500
DTEND:20260617T151500
DESCRIPTION:
LOCATION:
SUMMARY:Regents Exams
END:VEVENT
BEGIN:VEVENT
DTSTAMP:20260425T153720Z
UID:05b71c00-f9ee-466b-b987-f78beb1f7095
DTSTART:20260617T180000
DTEND:20260617T200000
DESCRIPTION:
LOCATION:
SUMMARY:Spring Sports Awards
END:VEVENT
BEGIN:VEVENT
DTSTAMP:20260425T153720Z
UID:f93aa7cb-9c7a-4e05-ae3b-34ad4ceb3473
DTSTART:20260618T074500
DTEND:20260618T113000
DESCRIPTION:
LOCATION:
SUMMARY:1/2 Day Grades PK-6
END:VEVENT
BEGIN:VEVENT
DTSTAMP:20260425T153720Z
UID:8c6937f1-3c4c-4687-acd0-9adcdec9f244
DTSTART:20260618T090000
DTEND:20260618T103000
DESCRIPTION:
LOCATION:
SUMMARY:5th Grade Talent Show
END:VEVENT
BEGIN:VEVENT
DTSTAMP:20260425T153720Z
UID:40e289a6-7473-494d-9196-ebf1b6a73547
DTSTART:20260618T091500
DTEND:20260618T151500
DESCRIPTION:
LOCATION:
SUMMARY:Regents Exams
END:VEVENT
BEGIN:VEVENT
DTSTAMP:20260425T153720Z
UID:fe4f7a22-dcfb-4909-b26a-db2b3ad71e2b
DTSTART;VALUE=DATE:20260619
DTEND;VALUE=DATE:20260620
DESCRIPTION:
LOCATION:
SUMMARY:No School--Juneteenth
END:VEVENT
BEGIN:VEVENT
DTSTAMP:20260425T153720Z
UID:36507d12-7b50-4872-ada0-ebc320cb7a11
DTSTART;VALUE=DATE:20260622
DTEND;VALUE=DATE:20260623
DESCRIPTION:
LOCATION:
SUMMARY:Regents Exams
END:VEVENT
BEGIN:VEVENT
DTSTAMP:20260425T153720Z
UID:e84bab7e-1510-42aa-8872-8bef76a66325
DTSTART:20260622T083000
DTEND:20260622T113000
DESCRIPTION:
LOCATION:
SUMMARY:Kindergarten Graduations
END:VEVENT
BEGIN:VEVENT
DTSTAMP:20260425T153720Z
UID:86da1dfc-205b-4ab9-8254-844181648368
DTSTART;VALUE=DATE:20260623
DTEND;VALUE=DATE:20260624
DESCRIPTION:
LOCATION:
SUMMARY:Regents Exams
END:VEVENT
BEGIN:VEVENT
DTSTAMP:20260425T153720Z
UID:dea0e915-59bf-463d-9b0b-d700353b6e07
DTSTART:20260623T074500
DTEND:20260623T113000
DESCRIPTION:
LOCATION:
SUMMARY:1/2 Day Grades PK-6
END:VEVENT
BEGIN:VEVENT
DTSTAMP:20260425T153720Z
UID:a92f60f8-b104-4ff0-8647-7e827a164b31
DTSTART:20260623T090000
DTEND:20260623T110000
DESCRIPTION:
LOCATION:
SUMMARY:Grades K-2 Field Day
END:VEVENT
BEGIN:VEVENT
DTSTAMP:20260425T153720Z
UID:e1eb52a0-620d-4d53-ba0c-0e801bfc7ac0
DTSTART:20260623T183000
DTEND:20260623T200000
DESCRIPTION:
LOCATION:
SUMMARY:Board of Education Meeting
END:VEVENT
BEGIN:VEVENT
DTSTAMP:20260425T153720Z
UID:7c086cc7-1ef6-457a-8bda-c4425e76c5cc
DTSTART;VALUE=DATE:20260624
DTEND;VALUE=DATE:20260625
DESCRIPTION:
LOCATION:
SUMMARY:Last Day of School for Students
END:VEVENT
BEGIN:VEVENT
DTSTAMP:20260425T153720Z
UID:b9c08884-6b10-4079-8021-a4fe53b1776c
DTSTART;VALUE=DATE:20260624
DTEND;VALUE=DATE:20260625
DESCRIPTION:
LOCATION:
SUMMARY:Regents Exams
END:VEVENT
BEGIN:VEVENT
DTSTAMP:20260425T153720Z
UID:0990409f-6b08-4622-83d2-9a7aec32c84d
DTSTART:20260624T074500
DTEND:20260624T113000
DESCRIPTION:
LOCATION:
SUMMARY:1/2 Day Grades PK-6
END:VEVENT
BEGIN:VEVENT
DTSTAMP:20260425T153720Z
UID:1a70a647-77c4-4294-814d-687d563b0318
DTSTART:20260624T081500
DTEND:20260624T091500
DESCRIPTION:
LOCATION:
SUMMARY:4th Grade Graduation
END:VEVENT
BEGIN:VEVENT
DTSTAMP:20260425T153720Z
UID:5b8fbc40-8b7a-4b0a-9da7-6376a217856b
DTSTART:20260624T103000
DTEND:20260624T120000
DESCRIPTION:
LOCATION:
SUMMARY:HS Graduation Practice
END:VEVENT
BEGIN:VEVENT
DTSTAMP:20260425T153720Z
UID:cb0bf126-1ce3-4c23-9947-88ab47b2cf37
DTSTART:20260624T104500
DTEND:20260624T111500
DESCRIPTION:
LOCATION:
SUMMARY:Kindergarten/Senior Walk
END:VEVENT
BEGIN:VEVENT
DTSTAMP:20260425T153720Z
UID:3682ff48-dc58-4404-9ad5-4b4a43f87b64
DTSTART;VALUE=DATE:20260625
DTEND;VALUE=DATE:20260626
DESCRIPTION:
LOCATION:
SUMMARY:Regents Exams
END:VEVENT
BEGIN:VEVENT
DTSTAMP:20260425T153720Z
UID:14be3c14-2971-4b3b-aa15-4481d5d74bb9
DTSTART:20260626T190000
DTEND:20260626T203000
DESCRIPTION:
LOCATION:
SUMMARY:High School Graduation
END:VEVENT
BEGIN:VEVENT
DTSTAMP:20260425T153720Z
UID:6f460f9c-44db-43f5-8798-3d788dc2e1b6
DTSTART:20260703T080000
DTEND:20260703T090000
DESCRIPTION:
LOCATION:
SUMMARY:Offices Closed for July 4th Holiday
END:VEVENT
BEGIN:VEVENT
DTSTAMP:20260425T153720Z
UID:9baab04a-77f7-4093-98ea-f1a4c5d4b6b4
DTSTART:20260831T080000
DTEND:20260831T150000
DESCRIPTION:
LOCATION:
SUMMARY:Staff Development
END:VEVENT
BEGIN:VEVENT
DTSTAMP:20260425T153720Z
UID:f03669f2-7066-49f3-a570-6b1fc3280b47
DTSTART:20260831T173000
DTEND:20260831T190000
DESCRIPTION:
LOCATION:
SUMMARY:Open House
END:VEVENT
BEGIN:VEVENT
DTSTAMP:20260425T153720Z
UID:3b38e2a2-085a-4adc-bd33-0a5254a36a65
DTSTART:20260901T080000
DTEND:20260901T150000
DESCRIPTION:
LOCATION:
SUMMARY:Staff Development
END:VEVENT
BEGIN:VEVENT
DTSTAMP:20260425T153720Z
UID:84c31e58-8660-40f4-83c6-c065d9bbfd12
DTSTART;VALUE=DATE:20260902
DTEND;VALUE=DATE:20260903
DESCRIPTION:
LOCATION:
SUMMARY:First Day of School for Students (K-12)
END:VEVENT
BEGIN:VEVENT
DTSTAMP:20260425T153720Z
UID:bd065d14-9875-446c-a158-7c79fcc3b56f
DTSTART:20260902T080000
DTEND:20260902T150000
DESCRIPTION:
LOCATION:
SUMMARY:Pre-K Orientation
END:VEVENT
BEGIN:VEVENT
DTSTAMP:20260425T153720Z
UID:d876b682-eda0-44e3-a385-c57db11b1656
DTSTART;VALUE=DATE:20260903
DTEND;VALUE=DATE:20260904
DESCRIPTION:
LOCATION:
SUMMARY:First Day of School for Pre-K Students
END:VEVENT
BEGIN:VEVENT
DTSTAMP:20260425T153720Z
UID:ee20eeb2-5b21-4e6a-9462-64af992ad5e9
DTSTART;VALUE=DATE:20260904
DTEND;VALUE=DATE:20260905
DESCRIPTION:
LOCATION:
SUMMARY:No School
END:VEVENT
BEGIN:VEVENT
DTSTAMP:20260425T153720Z
UID:0fc0d114-a996-408a-a9d3-c6484330f198
DTSTART;VALUE=DATE:20260907
DTEND;VALUE=DATE:20260908
DESCRIPTION:
LOCATION:
SUMMARY:Labor Day--No School\; Offices Closed
END:VEVENT
BEGIN:VEVENT
DTSTAMP:20260425T153720Z
UID:faf5c9f7-461e-4796-b5ff-8143b21464e3
DTSTART;VALUE=DATE:20261012
DTEND;VALUE=DATE:20261013
DESCRIPTION:
LOCATION:
SUMMARY:Columbus/Indigenous Peoples' Day--No School\; Offices Closed
END:VEVENT
BEGIN:VEVENT
DTSTAMP:20260425T153720Z
UID:b87a20a9-774a-44de-98d7-08e10a59033f
DTSTART:20261030T074500
DTEND:20261030T113000
DESCRIPTION:
LOCATION:
SUMMARY:1/2 Day for Students (Pre-K-12)
END:VEVENT
BEGIN:VEVENT
DTSTAMP:20260425T153720Z
UID:84252faf-7d07-426d-98e5-35be8f673889
DTSTART:20261030T113000
DTEND:20261030T150000
DESCRIPTION:
LOCATION:
SUMMARY:Staff Development (PM)
END:VEVENT
BEGIN:VEVENT
DTSTAMP:20260425T153720Z
UID:f9e80325-d7ed-4efd-9601-f6b52de20e00
DTSTART;VALUE=DATE:20261106
DTEND;VALUE=DATE:20261107
DESCRIPTION:
LOCATION:
SUMMARY:End of Quarter 1
END:VEVENT
BEGIN:VEVENT
DTSTAMP:20260425T153720Z
UID:856d5717-ec78-4276-876e-543a934e45c6
DTSTART;VALUE=DATE:20261111
DTEND;VALUE=DATE:20261112
DESCRIPTION:
LOCATION:
SUMMARY:Veterans Day--No School\; Offices Closed
END:VEVENT
BEGIN:VEVENT
DTSTAMP:20260425T153720Z
UID:1d5edd1c-2ad5-461e-ac2c-e49233360b57
DTSTART:20261123T074500
DTEND:20261123T113000
DESCRIPTION:
LOCATION:
SUMMARY:1/2 Day for Students (Pre-K-12)
END:VEVENT
BEGIN:VEVENT
DTSTAMP:20260425T153720Z
UID:f16755f9-3057-4d5f-8634-89f151513371
DTSTART:20261123T120000
DTEND:20261123T150000
DESCRIPTION:
LOCATION:
SUMMARY:Parent/Teacher Conferences (PM)
END:VEVENT
BEGIN:VEVENT
DTSTAMP:20260425T153720Z
UID:562b32ee-d664-4527-9498-800201fbdedb
DTSTART:20261124T080000
DTEND:20261124T190000
DESCRIPTION:
LOCATION:
SUMMARY:Parent/Teacher Conferences
END:VEVENT
BEGIN:VEVENT
DTSTAMP:20260425T153720Z
UID:f4a50dcd-6d9b-439a-a223-0c3e6809985a
DTSTART;VALUE=DATE:20261125
DTEND;VALUE=DATE:20261126
DESCRIPTION:
LOCATION:
SUMMARY:No School
END:VEVENT
BEGIN:VEVENT
DTSTAMP:20260425T153720Z
UID:6f51010b-3141-4e28-a6e8-22b5ea027eab
DTSTART;VALUE=DATE:20261126
DTEND;VALUE=DATE:20261127
DESCRIPTION:
LOCATION:
SUMMARY:Thanksgiving Day--No School\; Offices Closed
END:VEVENT
BEGIN:VEVENT
DTSTAMP:20260425T153720Z
UID:ccf057d8-a1fa-4efe-8e7a-6d74d799298d
DTSTART;VALUE=DATE:20261127
DTEND;VALUE=DATE:20261128
DESCRIPTION:
LOCATION:
SUMMARY:Thanksgiving Break--No School\; Offices Closed
END:VEVENT
BEGIN:VEVENT
DTSTAMP:20260425T153720Z
UID:da11093c-21d5-405b-81a0-95e54d05c646
DTSTART;VALUE=DATE:20261223
DTEND;VALUE=DATE:20261224
DESCRIPTION:
LOCATION:
SUMMARY:Winter Break--No School
END:VEVENT
BEGIN:VEVENT
DTSTAMP:20260425T153720Z
UID:d7eb4cc5-e4cc-4be7-be20-2dc3f06aea09
DTSTART:20261224T080000
DTEND:20261224T090000
DESCRIPTION:
LOCATION:
SUMMARY:Christmas Eve--No School\; Offices Closed
END:VEVENT
BEGIN:VEVENT
DTSTAMP:20260425T153720Z
UID:161a78e1-a296-411f-a827-8670acdf48e0
DTSTART;VALUE=DATE:20261225
DTEND;VALUE=DATE:20261226
DESCRIPTION:
LOCATION:
SUMMARY:Christmas Day--No School\; Offices Closed
END:VEVENT
BEGIN:VEVENT
DTSTAMP:20260425T153720Z
UID:9e093511-5cfb-440f-bf30-79bc7c5045d7
DTSTART:20261228T080000
DTEND:20261228T090000
DESCRIPTION:
LOCATION:
SUMMARY:Winter Break--No School\; Offices Closed
END:VEVENT
BEGIN:VEVENT
DTSTAMP:20260425T153720Z
UID:56b8210d-5b15-4c45-960c-63f4a407253f
DTSTART;VALUE=DATE:20261229
DTEND;VALUE=DATE:20261230
DESCRIPTION:
LOCATION:
SUMMARY:Winter Break--No School
END:VEVENT
BEGIN:VEVENT
DTSTAMP:20260425T153720Z
UID:b7b576ad-454d-4240-86e3-43a91d073ab3
DTSTART;VALUE=DATE:20261230
DTEND;VALUE=DATE:20261231
DESCRIPTION:
LOCATION:
SUMMARY:Winter Break--No School\; Offices Closed
END:VEVENT
BEGIN:VEVENT
DTSTAMP:20260425T153720Z
UID:022caf7b-45df-46a3-ab83-c03537831ab5
DTSTART;VALUE=DATE:20261231
DTEND;VALUE=DATE:20270101
DESCRIPTION:
LOCATION:
SUMMARY:New Year's Eve--No School\; Offices Closed
END:VEVENT
BEGIN:VEVENT
DTSTAMP:20260425T153720Z
UID:90400ec8-a0b5-4c50-a82a-084ad2eb55a5
DTSTART;VALUE=DATE:20270101
DTEND;VALUE=DATE:20270102
DESCRIPTION:
LOCATION:
SUMMARY:New Year's Day--No School\; Offices Closed
END:VEVENT
BEGIN:VEVENT
DTSTAMP:20260425T153720Z
UID:2e99eb5f-a807-46de-84c2-2f174a805fc4
DTSTART;VALUE=DATE:20270118
DTEND;VALUE=DATE:20270119
DESCRIPTION:
LOCATION:
SUMMARY:MLK Jr. Day--No School\; Offices Closed
END:VEVENT
BEGIN:VEVENT
DTSTAMP:20260425T153720Z
UID:781e5d5b-41fe-421a-b645-6b2c043e3800
DTSTART;VALUE=DATE:20270126
DTEND;VALUE=DATE:20270127
DESCRIPTION:
LOCATION:
SUMMARY:January Regents Exams
END:VEVENT
BEGIN:VEVENT
DTSTAMP:20260425T153720Z
UID:8b4c9c25-f07a-4172-8b6e-d0715fb95cee
DTSTART;VALUE=DATE:20270127
DTEND;VALUE=DATE:20270128
DESCRIPTION:
LOCATION:
SUMMARY:January Regents Exams
END:VEVENT
BEGIN:VEVENT
DTSTAMP:20260425T153720Z
UID:d774a77b-b1dc-4989-8f6c-f8685228c5d1
DTSTART;VALUE=DATE:20270128
DTEND;VALUE=DATE:20270129
DESCRIPTION:
LOCATION:
SUMMARY:January Regents Exams
END:VEVENT
BEGIN:VEVENT
DTSTAMP:20260425T153720Z
UID:a3558c46-998c-44b3-b639-4cae577fd90f
DTSTART;VALUE=DATE:20270129
DTEND;VALUE=DATE:20270130
DESCRIPTION:
LOCATION:
SUMMARY:January Regents Exams
END:VEVENT
BEGIN:VEVENT
DTSTAMP:20260425T153720Z
UID:7e64f025-e9e0-477a-aa02-bc4ff2efbefa
DTSTART:20270129T080000
DTEND:20270129T090000
DESCRIPTION:
LOCATION:
SUMMARY:End of Quarter 2/Semester 1
END:VEVENT
BEGIN:VEVENT
DTSTAMP:20260425T153720Z
UID:e0edd67b-8b8c-4fde-9696-e63007acf559
DTSTART;VALUE=DATE:20270215
DTEND;VALUE=DATE:20270216
DESCRIPTION:
LOCATION:
SUMMARY:President's Day--No School\; Offices Closed
END:VEVENT
BEGIN:VEVENT
DTSTAMP:20260425T153720Z
UID:237ca7cd-0e62-440f-9a82-806a515c145e
DTSTART;VALUE=DATE:20270216
DTEND;VALUE=DATE:20270217
DESCRIPTION:
LOCATION:
SUMMARY:Mid-Winter Recess--No School
END:VEVENT
BEGIN:VEVENT
DTSTAMP:20260425T153720Z
UID:3e8eb49e-c9db-4807-aef0-00c81c42bac4
DTSTART;VALUE=DATE:20270217
DTEND;VALUE=DATE:20270218
DESCRIPTION:
LOCATION:
SUMMARY:Mid-Winter Recess--No School
END:VEVENT
BEGIN:VEVENT
DTSTAMP:20260425T153720Z
UID:7fa3e76e-e620-493f-9922-8ce9502b5fdc
DTSTART;VALUE=DATE:20270218
DTEND;VALUE=DATE:20270219
DESCRIPTION:
LOCATION:
SUMMARY:Mid-Winter Recess--No School
END:VEVENT
BEGIN:VEVENT
DTSTAMP:20260425T153720Z
UID:6ff6eda0-4af1-4a2c-b266-120161086795
DTSTART;VALUE=DATE:20270219
DTEND;VALUE=DATE:20270220
DESCRIPTION:
LOCATION:
SUMMARY:Mid-Winter Recess--No School
END:VEVENT
BEGIN:VEVENT
DTSTAMP:20260425T153720Z
UID:5d023b48-b3cd-4924-9c46-54dc5fe77e23
DTSTART:20270312T080000
DTEND:20270312T150000
DESCRIPTION:
LOCATION:
SUMMARY:No School--Parent/Teacher Conferences
END:VEVENT
BEGIN:VEVENT
DTSTAMP:20260425T153720Z
UID:ad047d9a-02e3-4667-8c12-437db152f343
DTSTART;VALUE=DATE:20270326
DTEND;VALUE=DATE:20270327
DESCRIPTION:
LOCATION:
SUMMARY:Good Friday--No School\; Offices Closed
END:VEVENT
BEGIN:VEVENT
DTSTAMP:20260425T153720Z
UID:a618600e-56b5-4127-8140-4b4bddd15ce9
DTSTART;VALUE=DATE:20270329
DTEND;VALUE=DATE:20270330
DESCRIPTION:
LOCATION:
SUMMARY:Spring Recess--No School
END:VEVENT
BEGIN:VEVENT
DTSTAMP:20260425T153720Z
UID:9de7863a-5c0b-410b-86f6-fccc12e4224c
DTSTART;VALUE=DATE:20270330
DTEND;VALUE=DATE:20270331
DESCRIPTION:
LOCATION:
SUMMARY:Spring Recess--No School
END:VEVENT
BEGIN:VEVENT
DTSTAMP:20260425T153720Z
UID:4a8216c4-5627-4207-8fc2-4914187dae4e
DTSTART;VALUE=DATE:20270331
DTEND;VALUE=DATE:20270401
DESCRIPTION:
LOCATION:
SUMMARY:Spring Recess--No School
END:VEVENT
BEGIN:VEVENT
DTSTAMP:20260425T153720Z
UID:8d434326-9e76-493e-88aa-c701c2767bed
DTSTART;VALUE=DATE:20270401
DTEND;VALUE=DATE:20270402
DESCRIPTION:
LOCATION:
SUMMARY:Spring Recess--No School
END:VEVENT
BEGIN:VEVENT
DTSTAMP:20260425T153720Z
UID:efc51ab7-9693-41d3-99ca-cce6a531da5b
DTSTART;VALUE=DATE:20270402
DTEND;VALUE=DATE:20270403
DESCRIPTION:
LOCATION:
SUMMARY:Spring Recess--No School
END:VEVENT
BEGIN:VEVENT
DTSTAMP:20260425T153720Z
UID:c99b87bb-c6d2-454a-8d5e-aeedbbd8dde4
DTSTART;VALUE=DATE:20270412
DTEND;VALUE=DATE:20270413
DESCRIPTION:
LOCATION:
SUMMARY:NYS ELA Exams--Grades 5-8
END:VEVENT
BEGIN:VEVENT
DTSTAMP:20260425T153720Z
UID:f51176f3-f43b-4e78-a9ee-766bfac01d40
DTSTART;VALUE=DATE:20270413
DTEND;VALUE=DATE:20270414
DESCRIPTION:
LOCATION:
SUMMARY:NYS ELA Exams--Grades 5-8
END:VEVENT
BEGIN:VEVENT
DTSTAMP:20260425T153720Z
UID:455236a4-03c8-43b9-ac93-b27a0a512b54
DTSTART;VALUE=DATE:20270414
DTEND;VALUE=DATE:20270415
DESCRIPTION:
LOCATION:
SUMMARY:NYS ELA Exams--Grades 3 & 4
END:VEVENT
BEGIN:VEVENT
DTSTAMP:20260425T153720Z
UID:cb7c4775-2b40-468e-b632-c33fb285c242
DTSTART;VALUE=DATE:20270415
DTEND;VALUE=DATE:20270416
DESCRIPTION:
LOCATION:
SUMMARY:NYS ELA Exams--Grades 3 & 4
END:VEVENT
BEGIN:VEVENT
DTSTAMP:20260425T153720Z
UID:8a3912a8-0d31-4a63-9311-3d45a56cd75a
DTSTART;VALUE=DATE:20270416
DTEND;VALUE=DATE:20270417
DESCRIPTION:
LOCATION:
SUMMARY:End of Quarter 3
END:VEVENT
BEGIN:VEVENT
DTSTAMP:20260425T153720Z
UID:db6a992d-d831-43f8-8bfb-c3819c81cfa4
DTSTART;VALUE=DATE:20270503
DTEND;VALUE=DATE:20270504
DESCRIPTION:
LOCATION:
SUMMARY:NYS Math Exams--Grades 5-8
END:VEVENT
BEGIN:VEVENT
DTSTAMP:20260425T153720Z
UID:345ac895-66fa-4098-9428-b30bacf50034
DTSTART;VALUE=DATE:20270504
DTEND;VALUE=DATE:20270505
DESCRIPTION:
LOCATION:
SUMMARY:NYS Math Exams--Grades 5-8
END:VEVENT
BEGIN:VEVENT
DTSTAMP:20260425T153720Z
UID:8c4502ab-ba6b-40d8-ad62-43eb6c188f3b
DTSTART;VALUE=DATE:20270505
DTEND;VALUE=DATE:20270506
DESCRIPTION:
LOCATION:
SUMMARY:NYS Math Exams--Grades 3 & 4
END:VEVENT
BEGIN:VEVENT
DTSTAMP:20260425T153720Z
UID:0550f101-58b9-423e-afe3-a4615d5e0fec
DTSTART;VALUE=DATE:20270506
DTEND;VALUE=DATE:20270507
DESCRIPTION:
LOCATION:
SUMMARY:NYS Math Exams--Grades 3 & 4
END:VEVENT
BEGIN:VEVENT
DTSTAMP:20260425T153720Z
UID:6f4e0d82-2e95-4bb9-9985-c87c68ce9107
DTSTART;VALUE=DATE:20270510
DTEND;VALUE=DATE:20270511
DESCRIPTION:
LOCATION:
SUMMARY:NYS Science Exams--Grades 5 & 8
END:VEVENT
BEGIN:VEVENT
DTSTAMP:20260425T153720Z
UID:5ef3aeaa-c414-4d29-8fe6-8554bedb5bd5
DTSTART;VALUE=DATE:20270531
DTEND;VALUE=DATE:20270601
DESCRIPTION:
LOCATION:
SUMMARY:Memorial Day--No School\; Offices Closed
END:VEVENT
BEGIN:VEVENT
DTSTAMP:20260425T153720Z
UID:0ffdd341-cc5a-4c0d-a20f-229973237790
DTSTART;VALUE=DATE:20270614
DTEND;VALUE=DATE:20270615
DESCRIPTION:
LOCATION:
SUMMARY:Last Day of School for Grades 7-12
END:VEVENT
BEGIN:VEVENT
DTSTAMP:20260425T153720Z
UID:5e49e30a-f87f-4660-8704-a7cec555745b
DTSTART;VALUE=DATE:20270615
DTEND;VALUE=DATE:20270616
DESCRIPTION:
LOCATION:
SUMMARY:June Regents Exams
END:VEVENT
BEGIN:VEVENT
DTSTAMP:20260425T153720Z
UID:f64027fb-e9f5-46a7-9e6a-4ece9d4e7347
DTSTART;VALUE=DATE:20270616
DTEND;VALUE=DATE:20270617
DESCRIPTION:
LOCATION:
SUMMARY:June Regents Exams
END:VEVENT
BEGIN:VEVENT
DTSTAMP:20260425T153720Z
UID:16bc924b-4442-49e4-8f59-63d84ef4f630
DTSTART;VALUE=DATE:20270617
DTEND;VALUE=DATE:20270618
DESCRIPTION:
LOCATION:
SUMMARY:June Regents Exams
END:VEVENT
BEGIN:VEVENT
DTSTAMP:20260425T153720Z
UID:36d94d11-0dc1-4050-a4ea-0160cb9caab0
DTSTART:20270617T074500
DTEND:20270617T113000
DESCRIPTION:
LOCATION:
SUMMARY:1/2 Day for Students Grades PK-6
END:VEVENT
BEGIN:VEVENT
DTSTAMP:20260425T153720Z
UID:7cb54036-12a1-4a0d-8bf2-af492b6656f2
DTSTART;VALUE=DATE:20270618
DTEND;VALUE=DATE:20270619
DESCRIPTION:
LOCATION:
SUMMARY:Juneteenth--No School\; Offices Closed
END:VEVENT
BEGIN:VEVENT
DTSTAMP:20260425T153720Z
UID:f0d6c988-27dc-4c77-bd18-cfbad07630b9
DTSTART;VALUE=DATE:20270621
DTEND;VALUE=DATE:20270622
DESCRIPTION:
LOCATION:
SUMMARY:June Regents Exams
END:VEVENT
BEGIN:VEVENT
DTSTAMP:20260425T153720Z
UID:bcd683d7-e52c-4953-aed1-5cb9f8ed6978
DTSTART;VALUE=DATE:20270622
DTEND;VALUE=DATE:20270623
DESCRIPTION:
LOCATION:
SUMMARY:June Regents Exams
END:VEVENT
BEGIN:VEVENT
DTSTAMP:20260425T153720Z
UID:026164f6-9ac3-4bd1-b744-50dfad375b06
DTSTART;VALUE=DATE:20270623
DTEND;VALUE=DATE:20270624
DESCRIPTION:
LOCATION:
SUMMARY:June Regents Exams
END:VEVENT
BEGIN:VEVENT
DTSTAMP:20260425T153720Z
UID:2c9499df-6cd2-407e-bef4-8d7b791c22c9
DTSTART:20270623T074500
DTEND:20270623T113000
DESCRIPTION:
LOCATION:
SUMMARY:1/2 Day for Students Grades PK-6
END:VEVENT
BEGIN:VEVENT
DTSTAMP:20260425T153720Z
UID:7a0a5b81-b087-4c02-abb9-326ebf6a2461
DTSTART;VALUE=DATE:20270624
DTEND;VALUE=DATE:20270625
DESCRIPTION:
LOCATION:
SUMMARY:June Regents Exams
END:VEVENT
BEGIN:VEVENT
DTSTAMP:20260425T153720Z
UID:40c12f83-7986-4b6d-89fd-32e577a2e648
DTSTART;VALUE=DATE:20270624
DTEND;VALUE=DATE:20270625
DESCRIPTION:
LOCATION:
SUMMARY:Last Day of School for Students Grades PK-6
END:VEVENT
BEGIN:VEVENT
DTSTAMP:20260425T153720Z
UID:cf44b5e0-1eff-4c4e-91d1-0594dad912ec
DTSTART:20270624T074500
DTEND:20270624T113000
DESCRIPTION:
LOCATION:
SUMMARY:1/2 Day for Students Grades PK-6
END:VEVENT
BEGIN:VEVENT
DTSTAMP:20260425T153720Z
UID:dd4af951-769d-4759-bbfc-004fb1592ae6
DTSTART:20270625T190000
DTEND:20270625T203000
DESCRIPTION:
LOCATION:
SUMMARY:High School Graduation
END:VEVENT
END:VCALENDAR
