BEGIN:VCALENDAR
VERSION:2.0
PRODID:icalendar-ruby
CALSCALE:GREGORIAN
BEGIN:VTIMEZONE
TZID:America/Chicago
BEGIN:DAYLIGHT
DTSTART:20260308T030000
TZOFFSETFROM:-0600
TZOFFSETTO:-0500
RRULE:FREQ=YEARLY;BYDAY=2SU;BYMONTH=3
TZNAME:CDT
END:DAYLIGHT
BEGIN:STANDARD
DTSTART:20261101T010000
TZOFFSETFROM:-0500
TZOFFSETTO:-0600
RRULE:FREQ=YEARLY;BYDAY=1SU;BYMONTH=11
TZNAME:CST
END:STANDARD
END:VTIMEZONE
BEGIN:VEVENT
DTSTAMP:20260424T221913Z
UID:239e96b7-92bd-40e2-9f9f-08fae796cdc7
DTSTART;VALUE=DATE:20260420
DTEND;VALUE=DATE:20260502
DESCRIPTION:
LOCATION:
SUMMARY:Bernie's Book Drive - Hosted by 4th Grade Girl Scout Troop
END:VEVENT
BEGIN:VEVENT
DTSTAMP:20260424T221913Z
UID:641239a2-1c58-442f-94af-e31c309dffd8
DTSTART:20260428T190000
DTEND:20260428T200000
DESCRIPTION:<p><span>Join D205 district leaders for an informative session 
 designed for families new to REACH programming. This event will provide an
  overview of how District 205 supports students who demonstrate exceptiona
 l academic potential through enriched and accelerated learning opportuniti
 es in English Language Arts and Mathematics.<br><br>Families will learn ho
 w REACH programming nurtures advanced learners from elementary through hig
 h school\, the difference between enrichment and acceleration\, and what p
 athways may look like for their child over time. You’ll also have the op
 portunity to ask questions and connect with district leaders to better und
 erstand how to support your child’s learning journey.<br><br>Whether you
 r child is just beginning their REACH experience or you are exploring what
  lies ahead\, this session will help you feel informed\, confident\, and c
 onnected.</span></p><p><a target="_blank" rel="noopener noreferrer nofollo
 w" href="https://meet.google.com/vvg-pyoa-cdy">Meeting Link</a></p>
LOCATION:Virtual
SUMMARY:REACH Information NIght
END:VEVENT
BEGIN:VEVENT
DTSTAMP:20260424T221913Z
UID:11805cb6-401c-4da2-a041-bb42bef6f0e9
DTSTART:20260429T190000
DTEND:20260429T203000
DESCRIPTION:
LOCATION:Bryan Middle School\, 111 W Butterfield Rd\, Elmhurst\, IL 60126\,
  USA
SUMMARY:BMS Area Spring Orchestra Concert
END:VEVENT
BEGIN:VEVENT
DTSTAMP:20260424T221913Z
UID:2ac1d636-2443-494a-92de-89b355d0e407
DTSTART:20260429T190000
DTEND:20260429T203000
DESCRIPTION:
LOCATION:Sandburg Middle School\, 345 E St Charles Rd\, Elmhurst\, IL 60126
 \, USA
SUMMARY:SMS Area Spring Band Concert
END:VEVENT
BEGIN:VEVENT
DTSTAMP:20260424T221913Z
UID:6fe6e98b-e22e-4df9-8f1b-1dde2b9888b2
DTSTART:20260430T173000
DTEND:20260430T181500
DESCRIPTION:
LOCATION:
SUMMARY:Incoming 6th Grade Parent Night @ Sandburg - WELCOME
END:VEVENT
BEGIN:VEVENT
DTSTAMP:20260424T221913Z
UID:7617b55a-8dbe-4762-ab61-c839176184fd
DTSTART:20260430T181500
DTEND:20260430T184500
DESCRIPTION:
LOCATION:
SUMMARY:Incoming 6th Grade Student Tours @ Sandburg
END:VEVENT
BEGIN:VEVENT
DTSTAMP:20260424T221913Z
UID:fba616ad-787c-4f31-8bba-3ff5ae873359
DTSTART;VALUE=DATE:20260501
DTEND;VALUE=DATE:20260502
DESCRIPTION:
LOCATION:
SUMMARY:SMS B/O Elementary Area Tour
END:VEVENT
BEGIN:VEVENT
DTSTAMP:20260424T221913Z
UID:edd83976-1d34-43d8-9628-662626b81962
DTSTART:20260502T100000
DTEND:20260502T170000
DESCRIPTION:District 205 K-8 student artwork will be on display in the Elmh
 urst Art Museum during Art in Wilder Park. There will not be a reception i
 n 2026 due to space limitations. All are invited and welcome to view the a
 rtwork at a time that works for them.
LOCATION:Elmhurst Art Museum\, 150 S Cottage Hill Ave\, Elmhurst\, IL 60126
 \, USA
SUMMARY:D205 K-8 Artwork Display
END:VEVENT
BEGIN:VEVENT
DTSTAMP:20260424T221913Z
UID:f209abc7-dbb9-44d4-af3b-0b28415a4e82
DTSTART:20260503T100000
DTEND:20260503T170000
DESCRIPTION:District 205 K-8 student artwork will be on display in the Elmh
 urst Art Museum during Art in Wilder Park. There will not be a reception i
 n 2026 due to space limitations. All are invited and welcome to view the a
 rtwork at a time that works for them.
LOCATION:Elmhurst Art Museum\, 150 S Cottage Hill Ave\, Elmhurst\, IL 60126
 \, USA
SUMMARY:D205 K-8 Artwork Display
END:VEVENT
BEGIN:VEVENT
DTSTAMP:20260424T221913Z
UID:e39bf3c5-1090-43b2-801c-e7e0f5295df3
DTSTART:20260504T190000
DTEND:20260504T203000
DESCRIPTION:
LOCATION:Churchville Middle School\, 155 Victory Pkwy\, Elmhurst\, IL 60126
 \, USA
SUMMARY:CMS Spring Choir Concert
END:VEVENT
BEGIN:VEVENT
DTSTAMP:20260424T221913Z
UID:e7d16e7d-1f4d-4b14-b421-08417b6602c3
DTSTART;VALUE=DATE:20260505
DTEND;VALUE=DATE:20260506
DESCRIPTION:830 - 900 5th Grade\n930 - 1000 4th Grade\n1030 - 1100 2nd Grad
 e\n100 - 130 - 1st Grade\n200 - 230 3rd Grade
LOCATION:
SUMMARY:Spring Sing Grades 1 - 5
END:VEVENT
BEGIN:VEVENT
DTSTAMP:20260424T221913Z
UID:6c889e68-a1f8-461c-90b8-fc5320e829d7
DTSTART:20260505T190000
DTEND:20260505T203000
DESCRIPTION:
LOCATION:Churchville Middle School\, 155 Victory Pkwy\, Elmhurst\, IL 60126
 \, USA
SUMMARY:CMS Area Spring Band Concert
END:VEVENT
BEGIN:VEVENT
DTSTAMP:20260424T221913Z
UID:ab67797e-3241-42c1-bcaa-fba6e9449d8a
DTSTART:20260506T074500
DTEND:20260506T081500
DESCRIPTION:
LOCATION:
SUMMARY:National Bike or Roll To School Day
END:VEVENT
BEGIN:VEVENT
DTSTAMP:20260424T221913Z
UID:7dc8f1be-9fcc-4c7a-8dcf-2bdc99f2056e
DTSTART:20260506T163000
DTEND:20260506T193000
DESCRIPTION:
LOCATION:Churchville Middle School\, 155 Victory Pkwy\, Elmhurst\, IL 60126
 \, USA
SUMMARY:Beginner Registration Night *tentative*
END:VEVENT
BEGIN:VEVENT
DTSTAMP:20260424T221913Z
UID:5494a591-e52c-4c9a-86f8-a0a53218c1ae
DTSTART:20260506T170000
DTEND:20260506T183000
DESCRIPTION:
LOCATION:
SUMMARY:Literacy Night
END:VEVENT
BEGIN:VEVENT
DTSTAMP:20260424T221913Z
UID:d4ac5201-5df8-49ea-a41a-609a3d592fe4
DTSTART:20260506T173000
DTEND:20260506T183000
DESCRIPTION:
LOCATION:
SUMMARY:Committee of the Whole Meeting
END:VEVENT
BEGIN:VEVENT
DTSTAMP:20260424T221913Z
UID:36afce49-c001-4edb-8111-a9696792d121
DTSTART;VALUE=DATE:20260508
DTEND;VALUE=DATE:20260509
DESCRIPTION:
LOCATION:
SUMMARY:BMS Choir Elementary Area Tour
END:VEVENT
BEGIN:VEVENT
DTSTAMP:20260424T221913Z
UID:7f257938-17d4-4415-ac9e-dbb9579f10e6
DTSTART;VALUE=DATE:20260508
DTEND;VALUE=DATE:20260509
DESCRIPTION:
LOCATION:
SUMMARY:CMS Choir Elementary Area Tour
END:VEVENT
BEGIN:VEVENT
DTSTAMP:20260424T221913Z
UID:b3c202e1-ff17-4dc2-b55a-f9bcba28edd8
DTSTART:20260508T180000
DTEND:20260508T200000
DESCRIPTION:
LOCATION:
SUMMARY:Color Run
END:VEVENT
BEGIN:VEVENT
DTSTAMP:20260424T221913Z
UID:4abb3615-4f1e-4f4a-9e12-58cf92d49000
DTSTART:20260511T190000
DTEND:20260511T203000
DESCRIPTION:
LOCATION:Bryan Middle School\, 111 W Butterfield Rd\, Elmhurst\, IL 60126\,
  USA
SUMMARY:BMS Spring Choir Concert
END:VEVENT
BEGIN:VEVENT
DTSTAMP:20260424T221913Z
UID:a52b8187-e11d-477d-a11c-c1f0a6227725
DTSTART:20260512T115500
DTEND:20260512T122500
DESCRIPTION:
LOCATION:
SUMMARY:Tracy Kinder Spring Sing Informance
END:VEVENT
BEGIN:VEVENT
DTSTAMP:20260424T221913Z
UID:072349b5-c6de-4d96-b310-bc7f59a7db99
DTSTART:20260512T122500
DTEND:20260512T125500
DESCRIPTION:
LOCATION:
SUMMARY:Hobbs Kinder Spring Sing Informance
END:VEVENT
BEGIN:VEVENT
DTSTAMP:20260424T221913Z
UID:6f903693-893d-4eaf-94fa-e64eb91c8eed
DTSTART:20260512T180000
DTEND:20260512T190000
DESCRIPTION:
LOCATION:
SUMMARY:PTA Meeting
END:VEVENT
BEGIN:VEVENT
DTSTAMP:20260424T221913Z
UID:0e6dbb6e-a3c9-48dc-8942-f3b25a34e920
DTSTART:20260512T183000
DTEND:20260512T203000
DESCRIPTION:
LOCATION:
SUMMARY:5th Grade Party - SkyZone
END:VEVENT
BEGIN:VEVENT
DTSTAMP:20260424T221913Z
UID:02b18413-f6dc-4290-8c4d-86e49703cd1d
DTSTART:20260512T183000
DTEND:20260512T203000
DESCRIPTION:
LOCATION:
SUMMARY:5TH GRADE PARTY - SKYZONE
END:VEVENT
BEGIN:VEVENT
DTSTAMP:20260424T221913Z
UID:8c707b2e-a6eb-4b4b-9c1c-1cf38fa1973e
DTSTART:20260512T190000
DTEND:20260512T203000
DESCRIPTION:
LOCATION:Churchville Middle School\, 155 Victory Pkwy\, Elmhurst\, IL 60126
 \, USA
SUMMARY:CMS Area Spring Orchestra Concert
END:VEVENT
BEGIN:VEVENT
DTSTAMP:20260424T221913Z
UID:7eaa64b3-074f-49f8-ad70-ed7079c5b147
DTSTART:20260513T094500
DTEND:20260513T094500
DESCRIPTION:
LOCATION:
SUMMARY:Late Start
END:VEVENT
BEGIN:VEVENT
DTSTAMP:20260424T221913Z
UID:4203b1a4-7017-455c-a700-a77cf3eee430
DTSTART:20260513T115500
DTEND:20260513T122500
DESCRIPTION:
LOCATION:
SUMMARY:Keleher Kinder Spring Sing Informance
END:VEVENT
BEGIN:VEVENT
DTSTAMP:20260424T221913Z
UID:3ac88f1f-758c-4a06-ac25-4a2953610baa
DTSTART:20260513T122500
DTEND:20260513T125500
DESCRIPTION:
LOCATION:
SUMMARY:Phillips Kinder Spring Sing Informance
END:VEVENT
BEGIN:VEVENT
DTSTAMP:20260424T221913Z
UID:1e287a34-f690-4dfa-9030-66df9618f5a3
DTSTART:20260513T190000
DTEND:20260513T203000
DESCRIPTION:
LOCATION:Sandburg Middle School\, 345 E St Charles Rd\, Elmhurst\, IL 60126
 \, USA
SUMMARY:SMS Spring Orchestra Concert
END:VEVENT
BEGIN:VEVENT
DTSTAMP:20260424T221913Z
UID:306bbd61-35d7-43eb-888a-ec346766f76c
DTSTART;VALUE=DATE:20260514
DTEND;VALUE=DATE:20260515
DESCRIPTION:
LOCATION:
SUMMARY:CMS B/O Elementary Area Tour
END:VEVENT
BEGIN:VEVENT
DTSTAMP:20260424T221913Z
UID:40d8c253-8f61-42a9-bf67-e650ac69f76f
DTSTART;VALUE=DATE:20260515
DTEND;VALUE=DATE:20260516
DESCRIPTION:
LOCATION:
SUMMARY:SMS Choir Elementary Area Tour
END:VEVENT
BEGIN:VEVENT
DTSTAMP:20260424T221913Z
UID:64a864ec-654a-4772-8a83-1badc3530367
DTSTART:20260515T105500
DTEND:20260515T125500
DESCRIPTION:
LOCATION:
SUMMARY:PTA Hot Dog Lunch Day
END:VEVENT
BEGIN:VEVENT
DTSTAMP:20260424T221913Z
UID:8918675a-73f9-435d-b512-ea669872a164
DTSTART:20260518T153000
DTEND:20260518T173000
DESCRIPTION:Elmhurst Memorial Day Parade participants only
LOCATION:Sandburg Middle School\, 345 E St Charles Rd\, Elmhurst\, IL 60126
 \, USA
SUMMARY:D205 Middle School Marching Band Parade Rehearsal
END:VEVENT
BEGIN:VEVENT
DTSTAMP:20260424T221913Z
UID:9bff2c25-251f-4a22-b939-21205fc7a932
DTSTART:20260519T190000
DTEND:20260519T200000
DESCRIPTION:
LOCATION:
SUMMARY:May BOE Meeting
END:VEVENT
BEGIN:VEVENT
DTSTAMP:20260424T221913Z
UID:6922eb25-b52b-4830-ba2b-0af669031058
DTSTART:20260519T190000
DTEND:20260519T203000
DESCRIPTION:
LOCATION:Sandburg Middle School\, 345 E St Charles Rd\, Elmhurst\, IL 60126
 \, USA
SUMMARY:SMS Spring Choir Concert
END:VEVENT
BEGIN:VEVENT
DTSTAMP:20260424T221913Z
UID:a7edef2a-fb3b-4989-a324-b937ba4d6fe3
DTSTART;VALUE=DATE:20260521
DTEND;VALUE=DATE:20260522
DESCRIPTION:
LOCATION:
SUMMARY:LAST DAY OF SCHOOL
END:VEVENT
BEGIN:VEVENT
DTSTAMP:20260424T221913Z
UID:e8f1c458-65d9-4ef8-80b1-f9302a7fc3ea
DTSTART:20260525T093000
DTEND:20260525T113000
DESCRIPTION:
LOCATION:
SUMMARY:Elmhurst Memorial Day Parade - YHS and MS Marching Bands
END:VEVENT
BEGIN:VEVENT
DTSTAMP:20260424T221913Z
UID:8b12e864-c52e-4b9f-9e38-bd68b872276f
DTSTART:20260527T173000
DTEND:20260527T183000
DESCRIPTION:
LOCATION:
SUMMARY:CANCELLED- Special Board Meeting
END:VEVENT
BEGIN:VEVENT
DTSTAMP:20260424T221913Z
UID:16419f80-e2a3-4658-98ad-fc49024d1ef7
DTSTART:20260603T173000
DTEND:20260603T183000
DESCRIPTION:
LOCATION:
SUMMARY:Policy Committee Meeting
END:VEVENT
BEGIN:VEVENT
DTSTAMP:20260424T221913Z
UID:b63a5877-5dde-486f-87f1-8009b5db7579
DTSTART:20260616T190000
DTEND:20260616T200000
DESCRIPTION:
LOCATION:
SUMMARY:June BOE Meeting
END:VEVENT
END:VCALENDAR
