BEGIN:VCALENDAR
VERSION:2.0
PRODID:icalendar-ruby
CALSCALE:GREGORIAN
BEGIN:VTIMEZONE
TZID:America/Denver
BEGIN:DAYLIGHT
DTSTART:20260308T030000
TZOFFSETFROM:-0700
TZOFFSETTO:-0600
RRULE:FREQ=YEARLY;BYDAY=2SU;BYMONTH=3
TZNAME:MDT
END:DAYLIGHT
BEGIN:STANDARD
DTSTART:20261101T010000
TZOFFSETFROM:-0600
TZOFFSETTO:-0700
RRULE:FREQ=YEARLY;BYDAY=1SU;BYMONTH=11
TZNAME:MST
END:STANDARD
END:VTIMEZONE
BEGIN:VEVENT
DTSTAMP:20260425T162405Z
UID:799b9470-8262-4ba9-9f08-419e53acdeb9
DTSTART:20260425T190000
DTEND:20260425T203000
DESCRIPTION:
LOCATION:
SUMMARY:School Play
END:VEVENT
BEGIN:VEVENT
DTSTAMP:20260425T162405Z
UID:ec5dd57d-59bd-47f8-8781-797ae8ecf709
DTSTART;VALUE=DATE:20260427
DTEND;VALUE=DATE:20260428
DESCRIPTION:
LOCATION:
SUMMARY:B Day
END:VEVENT
BEGIN:VEVENT
DTSTAMP:20260425T162405Z
UID:db14f709-3e7b-4a2a-a8d5-ae31fb77e15b
DTSTART:20260427T130000
DTEND:20260427T180000
DESCRIPTION:<html><head><meta http-equiv="Content-Type" content="text/html\
 ; charset=utf-8"></head><body><div></div></body></html>
LOCATION:Bountiful High School\, 695 S Orchard Dr\, Bountiful\, UT\, 84010
SUMMARY:Track with Mueller Park\, Millcreek\, South Davis\, Bountiful
END:VEVENT
BEGIN:VEVENT
DTSTAMP:20260425T162405Z
UID:b02feef9-908e-4cb9-a1a2-a62e1552e2f4
DTSTART:20260427T190000
DTEND:20260427T203000
DESCRIPTION:
LOCATION:
SUMMARY:School Play
END:VEVENT
BEGIN:VEVENT
DTSTAMP:20260425T162405Z
UID:b6986c23-0380-46a8-8a03-6378f26aca37
DTSTART;VALUE=DATE:20260428
DTEND;VALUE=DATE:20260429
DESCRIPTION:
LOCATION:
SUMMARY:A Day
END:VEVENT
BEGIN:VEVENT
DTSTAMP:20260425T162405Z
UID:38882052-6fdd-496d-ba61-ad1fd89b9b56
DTSTART;VALUE=DATE:20260429
DTEND;VALUE=DATE:20260430
DESCRIPTION:
LOCATION:
SUMMARY:B Day
END:VEVENT
BEGIN:VEVENT
DTSTAMP:20260425T162405Z
UID:576e81a0-f525-4b12-9ffb-c85d07700dff
DTSTART:20260429T093000
DTEND:20260429T100000
DESCRIPTION:
LOCATION:Room A-14
SUMMARY:Honor Society Office Meeting
END:VEVENT
BEGIN:VEVENT
DTSTAMP:20260425T162405Z
UID:dfce0e35-0dfe-4f4a-b6fe-44746fa25fdb
DTSTART:20260429T150000
DTEND:20260429T160000
DESCRIPTION:<html><head><meta http-equiv="Content-Type" content="text/html\
 ; charset=utf-8"><meta name="Generator" content="Microsoft Exchange Server
 "><!-- converted from text --><style><!-- .EmailQuote { margin-left: 1pt\;
  padding-left: 4pt\; border-left: #800000 2px solid\; } --></style></head>
 <body><font size="2"><span style="font-size:11pt\;"><div class="PlainText"
 >&nbsp\;</div></span></font></body></html>
LOCATION:Room E-7
SUMMARY:GSA 
END:VEVENT
BEGIN:VEVENT
DTSTAMP:20260425T162405Z
UID:b5cc8b52-b6be-4198-b18c-6df1b89d45df
DTSTART;VALUE=DATE:20260430
DTEND;VALUE=DATE:20260501
DESCRIPTION:
LOCATION:
SUMMARY:A Day
END:VEVENT
BEGIN:VEVENT
DTSTAMP:20260425T162405Z
UID:2800a38f-3e49-41fb-ae58-6b12781a4eca
DTSTART:20260430T150000
DTEND:20260430T160000
DESCRIPTION:
LOCATION:Room D-19
SUMMARY:Leppy Literature (Comic Club)
END:VEVENT
BEGIN:VEVENT
DTSTAMP:20260425T162405Z
UID:33919bbd-b99a-4204-b460-708e4259c71c
DTSTART:20260430T150000
DTEND:20260430T160000
DESCRIPTION:
LOCATION:Room D-19
SUMMARY:Manga-Anime Club
END:VEVENT
BEGIN:VEVENT
DTSTAMP:20260425T162405Z
UID:f9ed8a03-2a99-4198-908d-e6b8854f7705
DTSTART:20260430T173000
DTEND:20260430T180000
DESCRIPTION:
LOCATION:
SUMMARY:Art Show
END:VEVENT
BEGIN:VEVENT
DTSTAMP:20260425T162405Z
UID:ecfde113-9d51-4d7a-84e4-66e3345e17d4
DTSTART:20260430T180000
DTEND:20260430T190000
DESCRIPTION:
LOCATION:
SUMMARY:Night of Excellence 
END:VEVENT
BEGIN:VEVENT
DTSTAMP:20260425T162405Z
UID:5c0dd185-751e-4aad-aebd-cd2dcd76505c
DTSTART:20260430T190000
DTEND:20260430T203000
DESCRIPTION:
LOCATION:
SUMMARY:9th Grade Dance
END:VEVENT
BEGIN:VEVENT
DTSTAMP:20260425T162405Z
UID:b1993e36-1824-4f99-987e-9995a06fb4bf
DTSTART;VALUE=DATE:20260501
DTEND;VALUE=DATE:20260502
DESCRIPTION:
LOCATION:
SUMMARY:B Day
END:VEVENT
BEGIN:VEVENT
DTSTAMP:20260425T162405Z
UID:fa004569-6680-4d30-98f8-12925ea7e936
DTSTART;VALUE=DATE:20260501
DTEND;VALUE=DATE:20260502
DESCRIPTION:<html><head><meta http-equiv="Content-Type" content="text/html\
 ; charset=utf-8"></head><body><div class="elementToProof" style="font-fami
 ly:Aptos\,Aptos_EmbeddedFont\,Aptos_MSFontService\,Calibri\,Helvetica\,san
 s-serif\; font-size:12pt\; color:rgb(0\,0\,0)">Veronica is gluten free</di
 v></body></html>
LOCATION:
SUMMARY:School Lunch Hero Day
END:VEVENT
BEGIN:VEVENT
DTSTAMP:20260425T162405Z
UID:cc48b38c-10a7-4fb5-bc17-23d4b9431187
DTSTART:20260501T190000
DTEND:20260501T203000
DESCRIPTION:
LOCATION:
SUMMARY:School Play
END:VEVENT
BEGIN:VEVENT
DTSTAMP:20260425T162405Z
UID:85421237-6132-4ffa-9944-e8afc55b7658
DTSTART:20260502T190000
DTEND:20260502T203000
DESCRIPTION:
LOCATION:
SUMMARY:School Play
END:VEVENT
BEGIN:VEVENT
DTSTAMP:20260425T162405Z
UID:817fa37a-316d-4489-908b-5cdf77efe9c3
DTSTART;VALUE=DATE:20260504
DTEND;VALUE=DATE:20260505
DESCRIPTION:
LOCATION:
SUMMARY:A Day
END:VEVENT
BEGIN:VEVENT
DTSTAMP:20260425T162405Z
UID:150af195-8a85-4b91-9806-3584db837a77
DTSTART:20260504T154500
DTEND:20260504T170000
DESCRIPTION:
LOCATION:
SUMMARY:Girls' Basketball Camp
END:VEVENT
BEGIN:VEVENT
DTSTAMP:20260425T162405Z
UID:25fffd51-eba3-4262-bdb8-287fdd3a07ce
DTSTART:20260504T190000
DTEND:20260504T203000
DESCRIPTION:<html><head><meta http-equiv="Content-Type" content="text/html\
 ; charset=utf-8"></head><body><div style="font-family:Aptos\,Aptos_Embedde
 dFont\,Aptos_MSFontService\,Calibri\,Helvetica\,sans-serif\; font-size:12p
 t\; color:rgb(0\,0\,0)">Call Time 6pm</div></body></html>
LOCATION:Viewmont High School\, 120 W 1000 N\, Bountiful\, UT\, 84010
SUMMARY:Spring Choir Concert
END:VEVENT
BEGIN:VEVENT
DTSTAMP:20260425T162405Z
UID:3d67fa0a-68c0-43cd-a081-0e040cae2ed6
DTSTART;VALUE=DATE:20260505
DTEND;VALUE=DATE:20260506
DESCRIPTION:
LOCATION:
SUMMARY:B Day
END:VEVENT
BEGIN:VEVENT
DTSTAMP:20260425T162405Z
UID:cf73f5f6-b515-4a42-ae0e-a05d76847b51
DTSTART:20260505T080000
DTEND:20260505T120000
DESCRIPTION:
LOCATION:
SUMMARY:AP Human Geography Test
END:VEVENT
BEGIN:VEVENT
DTSTAMP:20260425T162405Z
UID:69a05537-a182-40dd-9e77-5e0fb3abf3d9
DTSTART:20260505T154500
DTEND:20260505T170000
DESCRIPTION:
LOCATION:
SUMMARY:Girls' Basketball Camp
END:VEVENT
BEGIN:VEVENT
DTSTAMP:20260425T162405Z
UID:a2e4a9f7-4285-4562-9198-938994fcbec6
DTSTART:20260505T190000
DTEND:20260505T200000
DESCRIPTION:
LOCATION:Viewmont High School\, 120 W 1000 N\, Bountiful\, UT\, 84010
SUMMARY:CJH Final Band Concert
END:VEVENT
BEGIN:VEVENT
DTSTAMP:20260425T162405Z
UID:052e4169-108d-43cc-91bf-fcd9ae027e47
DTSTART;VALUE=DATE:20260506
DTEND;VALUE=DATE:20260507
DESCRIPTION:
LOCATION:
SUMMARY:A Day
END:VEVENT
BEGIN:VEVENT
DTSTAMP:20260425T162405Z
UID:648a9ea3-2a8c-4424-9c86-916535d96931
DTSTART:20260506T150000
DTEND:20260506T160000
DESCRIPTION:<html><head><meta http-equiv="Content-Type" content="text/html\
 ; charset=utf-8"><meta name="Generator" content="Microsoft Exchange Server
 "><!-- converted from text --><style><!-- .EmailQuote { margin-left: 1pt\;
  padding-left: 4pt\; border-left: #800000 2px solid\; } --></style></head>
 <body><font size="2"><span style="font-size:11pt\;"><div class="PlainText"
 >&nbsp\;</div></span></font></body></html>
LOCATION:Room E-7
SUMMARY:GSA 
END:VEVENT
BEGIN:VEVENT
DTSTAMP:20260425T162405Z
UID:eeda15e2-b838-4aa7-8903-dc9ada01902c
DTSTART:20260506T150000
DTEND:20260506T160000
DESCRIPTION:
LOCATION:Room A-14
SUMMARY:Honor Society Activity
END:VEVENT
BEGIN:VEVENT
DTSTAMP:20260425T162405Z
UID:c09074c5-f88b-42c9-bb76-835f4fbbe147
DTSTART:20260506T150000
DTEND:20260506T160000
DESCRIPTION:
LOCATION:Library
SUMMARY:Lego Club 
END:VEVENT
BEGIN:VEVENT
DTSTAMP:20260425T162405Z
UID:d39195a1-1818-42ac-9894-9707bd7d5ef8
DTSTART:20260506T154500
DTEND:20260506T170000
DESCRIPTION:
LOCATION:
SUMMARY:Girls' Basketball Camp
END:VEVENT
BEGIN:VEVENT
DTSTAMP:20260425T162405Z
UID:6887e4f7-d86e-4ffa-907e-b6d99909ebae
DTSTART;VALUE=DATE:20260507
DTEND;VALUE=DATE:20260508
DESCRIPTION:
LOCATION:
SUMMARY:B Day
END:VEVENT
BEGIN:VEVENT
DTSTAMP:20260425T162405Z
UID:86777e19-cbfb-448f-9dd0-3f0553354a6a
DTSTART;VALUE=DATE:20260507
DTEND;VALUE=DATE:20260508
DESCRIPTION:
LOCATION:Valley View Golf Course\, 2501 E Gentile St\, Layton\, UT\, 84040
SUMMARY:Unified Golf
END:VEVENT
BEGIN:VEVENT
DTSTAMP:20260425T162405Z
UID:0d53a0e7-c1f3-4285-97ec-f70cb616ee32
DTSTART:20260507T150000
DTEND:20260507T160000
DESCRIPTION:
LOCATION:Room D-19
SUMMARY:Leppy Literature (Comic Club)
END:VEVENT
BEGIN:VEVENT
DTSTAMP:20260425T162405Z
UID:241106b5-4a14-4ac9-b5cd-4e22c9cecebc
DTSTART:20260507T150000
DTEND:20260507T160000
DESCRIPTION:
LOCATION:Room D-12
SUMMARY:Make it Move Animation Club
END:VEVENT
BEGIN:VEVENT
DTSTAMP:20260425T162405Z
UID:e58cacc2-6b75-4d9f-947a-79a2100cc37a
DTSTART:20260507T154500
DTEND:20260507T170000
DESCRIPTION:
LOCATION:
SUMMARY:Girls' Basketball Camp
END:VEVENT
BEGIN:VEVENT
DTSTAMP:20260425T162405Z
UID:f30d8f8d-5bba-43cd-974f-e285773468f5
DTSTART;VALUE=DATE:20260508
DTEND;VALUE=DATE:20260509
DESCRIPTION:
LOCATION:
SUMMARY:A Day
END:VEVENT
BEGIN:VEVENT
DTSTAMP:20260425T162405Z
UID:2b4f9412-bcc5-4599-b474-5cc39971d947
DTSTART:20260508T090000
DTEND:20260508T153000
DESCRIPTION:<html><head><meta http-equiv="Content-Type" content="text/html\
 ; charset=utf-8"></head><body><div class="elementToProof" style="font-fami
 ly:&quot\;Times New Roman&quot\;\,Times\,serif\; font-size:11pt\; color:rg
 b(0\,0\,0)">Field events begin @ 9AM\; Track events begin @ 1PM</div></bod
 y></html>
LOCATION:Bountiful High School\, 695 S Orchard Dr\, Bountiful\, UT\, 84010
SUMMARY:South End Track
END:VEVENT
BEGIN:VEVENT
DTSTAMP:20260425T162405Z
UID:4d2a6074-0066-4292-899f-01880b840e73
DTSTART:20260508T093000
DTEND:20260508T103000
DESCRIPTION:
LOCATION:
SUMMARY:PTSA Meeting
END:VEVENT
BEGIN:VEVENT
DTSTAMP:20260425T162405Z
UID:493d67f3-3f9e-437f-b0e1-ea5402ccc6d1
DTSTART:20260508T120000
DTEND:20260508T160000
DESCRIPTION:
LOCATION:
SUMMARY:AP Chinese Test
END:VEVENT
BEGIN:VEVENT
DTSTAMP:20260425T162405Z
UID:3387ca62-e117-4839-8a00-dd145c562c9a
DTSTART:20260509T090000
DTEND:20260509T120000
DESCRIPTION:
LOCATION:Bountiful High School\, 695 S Orchard Dr\, Bountiful\, UT\, 84010
SUMMARY:Southend Track Field Events
END:VEVENT
BEGIN:VEVENT
DTSTAMP:20260425T162405Z
UID:e5c3c02e-962a-419e-a3a8-0ed86cd8406b
DTSTART;VALUE=DATE:20260511
DTEND;VALUE=DATE:20260512
DESCRIPTION:
LOCATION:
SUMMARY:B Day
END:VEVENT
BEGIN:VEVENT
DTSTAMP:20260425T162405Z
UID:36a966b1-309f-41e0-b0b3-804ceb3e685a
DTSTART;VALUE=DATE:20260512
DTEND;VALUE=DATE:20260513
DESCRIPTION:
LOCATION:
SUMMARY:A Day
END:VEVENT
BEGIN:VEVENT
DTSTAMP:20260425T162405Z
UID:73e9f350-c92b-448f-b5a0-c1acc0b99b88
DTSTART:20260512T113500
DTEND:20260512T121000
DESCRIPTION:
LOCATION:
SUMMARY:Service Club
END:VEVENT
BEGIN:VEVENT
DTSTAMP:20260425T162405Z
UID:270f6f55-d0a6-412d-b2fa-efeda0ce0ab8
DTSTART:20260512T130000
DTEND:20260512T133500
DESCRIPTION:
LOCATION:
SUMMARY:Service Club
END:VEVENT
BEGIN:VEVENT
DTSTAMP:20260425T162405Z
UID:f8dc4e37-57ae-4cdc-9883-3e3f3b9162c7
DTSTART:20260512T150000
DTEND:20260512T153000
DESCRIPTION:
LOCATION:
SUMMARY:FCCLA Meeting 
END:VEVENT
BEGIN:VEVENT
DTSTAMP:20260425T162405Z
UID:45d27f9c-9944-4176-b94e-e80fcbd4ad71
DTSTART;VALUE=DATE:20260513
DTEND;VALUE=DATE:20260514
DESCRIPTION:
LOCATION:
SUMMARY:B Day
END:VEVENT
BEGIN:VEVENT
DTSTAMP:20260425T162405Z
UID:e5924b45-8baa-4e8c-a291-eb87d7191c46
DTSTART:20260513T150000
DTEND:20260513T160000
DESCRIPTION:<html><head><meta http-equiv="Content-Type" content="text/html\
 ; charset=utf-8"><meta name="Generator" content="Microsoft Exchange Server
 "><!-- converted from text --><style><!-- .EmailQuote { margin-left: 1pt\;
  padding-left: 4pt\; border-left: #800000 2px solid\; } --></style></head>
 <body><font size="2"><span style="font-size:11pt\;"><div class="PlainText"
 >&nbsp\;</div></span></font></body></html>
LOCATION:Room E-7
SUMMARY:GSA 
END:VEVENT
BEGIN:VEVENT
DTSTAMP:20260425T162405Z
UID:ad8fd095-6857-4808-be9d-62639d792c49
DTSTART:20260513T190000
DTEND:20260513T200000
DESCRIPTION:
LOCATION:Viewmont High School\, 120 W 1000 N\, Bountiful\, UT\, 84010
SUMMARY:Finale Orchestra Concert 
END:VEVENT
BEGIN:VEVENT
DTSTAMP:20260425T162405Z
UID:d35ba717-2ed3-44d5-9ca4-adfc79f16577
DTSTART;VALUE=DATE:20260514
DTEND;VALUE=DATE:20260515
DESCRIPTION:
LOCATION:
SUMMARY:A Day
END:VEVENT
BEGIN:VEVENT
DTSTAMP:20260425T162405Z
UID:297a5a2a-7547-4ab0-8c62-b91c72af3f12
DTSTART:20260514T150000
DTEND:20260514T160000
DESCRIPTION:
LOCATION:Room D-19
SUMMARY:Leppy Literature (Comic Club)
END:VEVENT
BEGIN:VEVENT
DTSTAMP:20260425T162405Z
UID:9b7ed432-61e4-4717-954c-9bce4c4953a3
DTSTART:20260514T150000
DTEND:20260514T160000
DESCRIPTION:
LOCATION:Room D-19
SUMMARY:Manga-Anime Club
END:VEVENT
BEGIN:VEVENT
DTSTAMP:20260425T162405Z
UID:5275ea12-63a6-4d7d-83a6-da88814392a5
DTSTART:20260514T150000
DTEND:20260514T160000
DESCRIPTION:
LOCATION:Room D-19
SUMMARY:Manga-Anime Club
END:VEVENT
BEGIN:VEVENT
DTSTAMP:20260425T162405Z
UID:2aa35961-efbb-49b4-8e82-c338b855e85f
DTSTART;VALUE=DATE:20260515
DTEND;VALUE=DATE:20260516
DESCRIPTION:
LOCATION:
SUMMARY:B Day
END:VEVENT
BEGIN:VEVENT
DTSTAMP:20260425T162405Z
UID:32238403-2195-420c-8130-dd6d4a1ee849
DTSTART:20260515T080000
DTEND:20260515T120000
DESCRIPTION:
LOCATION:
SUMMARY:AP Environmental Science Test
END:VEVENT
BEGIN:VEVENT
DTSTAMP:20260425T162405Z
UID:288cb190-abaf-4459-9738-c11c35dd103b
DTSTART;VALUE=DATE:20260518
DTEND;VALUE=DATE:20260519
DESCRIPTION:
LOCATION:
SUMMARY:A Day
END:VEVENT
BEGIN:VEVENT
DTSTAMP:20260425T162405Z
UID:599ec068-9e1d-4d50-b4a5-ef3c0e2e2c15
DTSTART:20260518T170000
DTEND:20260518T180000
DESCRIPTION:
LOCATION:Library
SUMMARY:Honor Society Celebration of Excellence
END:VEVENT
BEGIN:VEVENT
DTSTAMP:20260425T162405Z
UID:91190822-5d33-47c6-bec7-b53021af3621
DTSTART:20260518T170000
DTEND:20260518T173000
DESCRIPTION:<html><head><meta http-equiv="Content-Type" content="text/html\
 ; charset=utf-8"><meta name="Generator" content="Microsoft Exchange Server
 "><!-- converted from text --><style><!-- .EmailQuote { margin-left: 1pt\;
  padding-left: 4pt\; border-left: #800000 2px solid\; } --></style></head>
 <body><font size="2"><span style="font-size:11pt\;"><div class="PlainText"
 >&nbsp\;</div></span></font></body></html>
LOCATION:
SUMMARY:Honor Society Celebration of Excellence
END:VEVENT
BEGIN:VEVENT
DTSTAMP:20260425T162405Z
UID:95607235-235c-4594-b00f-09f29b4da49f
DTSTART;VALUE=DATE:20260519
DTEND;VALUE=DATE:20260520
DESCRIPTION:
LOCATION:
SUMMARY:B Day
END:VEVENT
BEGIN:VEVENT
DTSTAMP:20260425T162405Z
UID:44c3ad39-12e3-440b-a67e-db519f3d8753
DTSTART:20260519T183000
DTEND:20260519T203000
DESCRIPTION:
LOCATION:
SUMMARY:SBO Recognition Night
END:VEVENT
BEGIN:VEVENT
DTSTAMP:20260425T162405Z
UID:33c2b569-eb5c-4054-8c4a-cc28a8ba6b03
DTSTART;VALUE=DATE:20260520
DTEND;VALUE=DATE:20260521
DESCRIPTION:
LOCATION:
SUMMARY:A Day
END:VEVENT
BEGIN:VEVENT
DTSTAMP:20260425T162405Z
UID:feb910cb-2358-4395-a594-088962668305
DTSTART:20260520T103000
DTEND:20260520T113000
DESCRIPTION:
LOCATION:
SUMMARY:End of Year Assembly
END:VEVENT
BEGIN:VEVENT
DTSTAMP:20260425T162405Z
UID:b0a3ad87-6542-4ecd-acfa-71f2954e7023
DTSTART;VALUE=DATE:20260521
DTEND;VALUE=DATE:20260522
DESCRIPTION:
LOCATION:
SUMMARY:Activity Day
END:VEVENT
BEGIN:VEVENT
DTSTAMP:20260425T162405Z
UID:b0457450-4625-476e-960b-8b9218fcf9ad
DTSTART;VALUE=DATE:20260521
DTEND;VALUE=DATE:20260522
DESCRIPTION:
LOCATION:
SUMMARY:B Day
END:VEVENT
BEGIN:VEVENT
DTSTAMP:20260425T162405Z
UID:02857800-7cba-454d-b6a6-ea5162743294
DTSTART;VALUE=DATE:20260522
DTEND;VALUE=DATE:20260523
DESCRIPTION:
LOCATION:
SUMMARY:A/B Day - Last day of school
END:VEVENT
BEGIN:VEVENT
DTSTAMP:20260425T162405Z
UID:b4354987-19b0-4286-8a09-7606fbebf5c1
DTSTART;VALUE=DATE:20260522
DTEND;VALUE=DATE:20260523
DESCRIPTION:
LOCATION:
SUMMARY:Consultation Day
END:VEVENT
BEGIN:VEVENT
DTSTAMP:20260425T162405Z
UID:bce4a270-1acb-4cf3-a9e2-02c65fa35493
DTSTART;VALUE=DATE:20260525
DTEND;VALUE=DATE:20260526
DESCRIPTION:
LOCATION:
SUMMARY:Memorial Day - no school
END:VEVENT
BEGIN:VEVENT
DTSTAMP:20260425T162405Z
UID:ac8176f4-3919-4e4e-8002-ea70710dfd87
DTSTART;VALUE=DATE:20260703
DTEND;VALUE=DATE:20260704
DESCRIPTION:
LOCATION:
SUMMARY:Independence Day observed - office closed
END:VEVENT
BEGIN:VEVENT
DTSTAMP:20260425T162405Z
UID:f96afaf0-91c2-4d5d-883b-f408bb277ccb
DTSTART;VALUE=DATE:20260706
DTEND;VALUE=DATE:20260707
DESCRIPTION:
LOCATION:
SUMMARY:Independence Day observed - office closed
END:VEVENT
BEGIN:VEVENT
DTSTAMP:20260425T162405Z
UID:23f2dbed-eb3d-47dd-b4eb-6324f3013210
DTSTART;VALUE=DATE:20260724
DTEND;VALUE=DATE:20260725
DESCRIPTION:
LOCATION:
SUMMARY:Pioneer Day - office closed
END:VEVENT
BEGIN:VEVENT
DTSTAMP:20260425T162405Z
UID:0b4fa0d7-b8f4-44ea-a107-fceffde3ddef
DTSTART;VALUE=DATE:20260820
DTEND;VALUE=DATE:20260821
DESCRIPTION:<html><head><meta http-equiv="Content-Type" content="text/html\
 ; charset=utf-8"><meta name="Generator" content="Microsoft Exchange Server
 "><!-- converted from text --><style><!-- .EmailQuote { margin-left: 1pt\;
  padding-left: 4pt\; border-left: #800000 2px solid\; } --></style></head>
 <body><font size="2"><span style="font-size:11pt\;"><div class="PlainText"
 >&nbsp\;</div></span></font></body></html>
LOCATION:
SUMMARY:First day of school - A Day
END:VEVENT
BEGIN:VEVENT
DTSTAMP:20260425T162405Z
UID:317988d0-0f96-4484-b1e7-e57ed2809a72
DTSTART;VALUE=DATE:20260821
DTEND;VALUE=DATE:20260822
DESCRIPTION:<html><head><meta http-equiv="Content-Type" content="text/html\
 ; charset=utf-8"><meta name="Generator" content="Microsoft Exchange Server
 "><!-- converted from text --><style><!-- .EmailQuote { margin-left: 1pt\;
  padding-left: 4pt\; border-left: #800000 2px solid\; } --></style></head>
 <body><font size="2"><span style="font-size:11pt\;"><div class="PlainText"
 >&nbsp\;</div></span></font></body></html>
LOCATION:
SUMMARY:B - Day
END:VEVENT
BEGIN:VEVENT
DTSTAMP:20260425T162405Z
UID:c8e0fdb0-dd64-456d-b53a-6dc1d07de7e5
DTSTART;VALUE=DATE:20260907
DTEND;VALUE=DATE:20260908
DESCRIPTION:
LOCATION:
SUMMARY:Labor Day - no school
END:VEVENT
BEGIN:VEVENT
DTSTAMP:20260425T162405Z
UID:34214189-870f-4068-b16f-f5172cc30954
DTSTART:20260908T150000
DTEND:20260908T153000
DESCRIPTION:
LOCATION:
SUMMARY:FCCLA Meeting 
END:VEVENT
BEGIN:VEVENT
DTSTAMP:20260425T162405Z
UID:12d05785-08e4-42e8-866c-d2ddadac113c
DTSTART;VALUE=DATE:20261126
DTEND;VALUE=DATE:20261127
DESCRIPTION:<html><head><meta http-equiv="Content-Type" content="text/html\
 ; charset=utf-8"><meta name="Generator" content="Microsoft Exchange Server
 "><!-- converted from text --><style><!-- .EmailQuote { margin-left: 1pt\;
  padding-left: 4pt\; border-left: #800000 2px solid\; } --></style></head>
 <body><font size="2"><span style="font-size:11pt\;"><div class="PlainText"
 ><br></div></span></font></body></html>
LOCATION:
SUMMARY:Thanksgiving Recess - no school
END:VEVENT
BEGIN:VEVENT
DTSTAMP:20260425T162405Z
UID:51f3dee8-355a-4c90-919e-8be9fd392e99
DTSTART;VALUE=DATE:20261127
DTEND;VALUE=DATE:20261128
DESCRIPTION:<html><head><meta http-equiv="Content-Type" content="text/html\
 ; charset=utf-8"><meta name="Generator" content="Microsoft Exchange Server
 "><!-- converted from text --><style><!-- .EmailQuote { margin-left: 1pt\;
  padding-left: 4pt\; border-left: #800000 2px solid\; } --></style></head>
 <body><font size="2"><span style="font-size:11pt\;"><div class="PlainText"
 >&nbsp\;</div></span></font></body></html>
LOCATION:
SUMMARY:Thanksgiving Recess - no school
END:VEVENT
END:VCALENDAR
