BEGIN:VCALENDAR
VERSION:2.0
PRODID:icalendar-ruby
CALSCALE:GREGORIAN
BEGIN:VTIMEZONE
TZID:America/Denver
BEGIN:DAYLIGHT
DTSTART:20260308T030000
TZOFFSETFROM:-0700
TZOFFSETTO:-0600
RRULE:FREQ=YEARLY;BYDAY=2SU;BYMONTH=3
TZNAME:MDT
END:DAYLIGHT
BEGIN:STANDARD
DTSTART:20261101T010000
TZOFFSETFROM:-0600
TZOFFSETTO:-0700
RRULE:FREQ=YEARLY;BYDAY=1SU;BYMONTH=11
TZNAME:MST
END:STANDARD
END:VTIMEZONE
BEGIN:VEVENT
DTSTAMP:20260420T084519Z
UID:f5740cd7-6570-4b2b-8417-0d298c1dab5c
DTSTART:20260420T140000
DTEND:20260420T150000
DESCRIPTION:<html><head><meta http-equiv="Content-Type" content="text/html\
 ; charset=utf-8"></head><body><div></div></body></html>
LOCATION:
SUMMARY:Community Council
END:VEVENT
BEGIN:VEVENT
DTSTAMP:20260420T084519Z
UID:a17456ef-a76c-43d5-a1f9-0e4e5bbe18f1
DTSTART:20260420T153000
DTEND:20260420T163000
DESCRIPTION:<html><head><meta http-equiv="Content-Type" content="text/html\
 ; charset=utf-8"></head><body><div></div></body></html>
LOCATION:
SUMMARY:Karate in gym
END:VEVENT
BEGIN:VEVENT
DTSTAMP:20260420T084519Z
UID:381aac26-c9e5-446f-b2f8-126c7ca7b506
DTSTART:20260422T153000
DTEND:20260422T163000
DESCRIPTION:<html><head><meta http-equiv="Content-Type" content="text/html\
 ; charset=utf-8"></head><body><div></div></body></html>
LOCATION:
SUMMARY:Karate in gym
END:VEVENT
BEGIN:VEVENT
DTSTAMP:20260420T084519Z
UID:ad04058e-caec-4aae-95b6-fe7633924ed6
DTSTART:20260423T180000
DTEND:20260423T200000
DESCRIPTION:
LOCATION:
SUMMARY:Grandparents' Night
END:VEVENT
BEGIN:VEVENT
DTSTAMP:20260420T084519Z
UID:ef61d2b4-c1c9-42a9-a065-9b22141c3f43
DTSTART;VALUE=DATE:20260424
DTEND;VALUE=DATE:20260425
DESCRIPTION:
LOCATION:
SUMMARY:Compensation Day- No School for Students
END:VEVENT
BEGIN:VEVENT
DTSTAMP:20260420T084519Z
UID:d52e1df6-6ee4-4638-857e-b117e9a0e994
DTSTART;VALUE=DATE:20260504
DTEND;VALUE=DATE:20260509
DESCRIPTION:<html><head><meta http-equiv="Content-Type" content="text/html\
 ; charset=utf-8"></head><body><div></div></body></html>
LOCATION:
SUMMARY:Hope Week
END:VEVENT
BEGIN:VEVENT
DTSTAMP:20260420T084519Z
UID:65a2de60-37b1-4385-814a-b716cfc6ac9e
DTSTART:20260505T133000
DTEND:20260505T143000
DESCRIPTION:<html><head><meta http-equiv="Content-Type" content="text/html\
 ; charset=utf-8"></head><body><div></div></body></html>
LOCATION:
SUMMARY:PTA Meeting
END:VEVENT
BEGIN:VEVENT
DTSTAMP:20260420T084519Z
UID:af1d5c93-fa92-4fb5-8dbc-a610d2354d07
DTSTART;VALUE=DATE:20260515
DTEND;VALUE=DATE:20260516
DESCRIPTION:<html><head><meta http-equiv="Content-Type" content="text/html\
 ; charset=utf-8"></head><body><div></div></body></html>
LOCATION:
SUMMARY:Utah Rendezvous
END:VEVENT
BEGIN:VEVENT
DTSTAMP:20260420T084519Z
UID:939b7c8a-31b2-4c7d-b452-90f6b1bf9c67
DTSTART:20260518T100000
DTEND:20260518T120000
DESCRIPTION:<html><head><meta http-equiv="Content-Type" content="text/html\
 ; charset=utf-8"></head><body><div></div></body></html>
LOCATION:
SUMMARY:School Swim Day
END:VEVENT
BEGIN:VEVENT
DTSTAMP:20260420T084519Z
UID:2457be34-a385-4f59-a615-effd9979a2d5
DTSTART:20260518T140000
DTEND:20260518T150000
DESCRIPTION:<html><head><meta http-equiv="Content-Type" content="text/html\
 ; charset=utf-8"></head><body><div></div></body></html>
LOCATION:
SUMMARY:Community Council
END:VEVENT
BEGIN:VEVENT
DTSTAMP:20260420T084519Z
UID:64622176-ec32-4e55-b448-c9d5ef9e1d96
DTSTART;VALUE=DATE:20260520
DTEND;VALUE=DATE:20260521
DESCRIPTION:<html><head><meta http-equiv="Content-Type" content="text/html\
 ; charset=utf-8"></head><body><div></div></body></html>
LOCATION:
SUMMARY:FIELD DAY
END:VEVENT
BEGIN:VEVENT
DTSTAMP:20260420T084519Z
UID:5f305648-2b62-4a45-88c2-81c4b9b3bdba
DTSTART;VALUE=DATE:20260522
DTEND;VALUE=DATE:20260523
DESCRIPTION:
LOCATION:
SUMMARY:Last Day of School
END:VEVENT
BEGIN:VEVENT
DTSTAMP:20260420T084519Z
UID:56388863-39b7-47d5-9492-4e9d33c8be3c
DTSTART:20260525T090000
DTEND:20260525T093000
DESCRIPTION:
LOCATION:
SUMMARY:Memorial Day
END:VEVENT
END:VCALENDAR
