BEGIN:VCALENDAR
VERSION:2.0
PRODID:icalendar-ruby
CALSCALE:GREGORIAN
BEGIN:VTIMEZONE
TZID:America/Denver
BEGIN:DAYLIGHT
DTSTART:20260308T030000
TZOFFSETFROM:-0700
TZOFFSETTO:-0600
RRULE:FREQ=YEARLY;BYDAY=2SU;BYMONTH=3
TZNAME:MDT
END:DAYLIGHT
BEGIN:STANDARD
DTSTART:20261101T010000
TZOFFSETFROM:-0600
TZOFFSETTO:-0700
RRULE:FREQ=YEARLY;BYDAY=1SU;BYMONTH=11
TZNAME:MST
END:STANDARD
END:VTIMEZONE
BEGIN:VEVENT
DTSTAMP:20260424T225216Z
UID:718701a5-c7f7-468e-bd5a-d6a7c369ef76
DTSTART;VALUE=DATE:20260424
DTEND;VALUE=DATE:20260425
DESCRIPTION:<html><head><meta http-equiv="Content-Type" content="text/html\
 ; charset=utf-8"></head><body><p>This week our school is doing a Spirit We
 ek in recognition of the Month of the Military Child. We invite all to par
 ticipate as we honor the resilience and contributions of our military-conn
 ected students and their families. Participation is a simple but powerful 
 way to show community support and appreciation. Thank you to our military 
 families for all you do.</p><p>Monday: Hats off to our military families! 
 Wear a hat to school</p><p>Tuesday: Wear camouflage.</p><p>Wednesday: Rock
  the stars and stripes because your support deserves to shine!</p><p>Thurs
 day: Wear red\, white\, and blue!</p><p>Friday: Purple pride! There is no 
 school on Friday\, April 24\, but we encourage you to celebrate the streng
 th and support of our military students and their families by wearing purp
 le.</p><p>Reminders:</p><p>- Dress should be school-appropriate.</p><p>- P
 articipation is encouraged\, but optional.</p><p>- Let's show respect and 
 appreciation all week long!</p></body></html>
LOCATION:
SUMMARY:Military Spirit Week - Wear Purple!
END:VEVENT
BEGIN:VEVENT
DTSTAMP:20260424T225216Z
UID:388da9d7-84c3-49b1-8d85-8cc2f93c3395
DTSTART;VALUE=DATE:20260424
DTEND;VALUE=DATE:20260425
DESCRIPTION:
LOCATION:
SUMMARY:No School
END:VEVENT
BEGIN:VEVENT
DTSTAMP:20260424T225216Z
UID:6d9e554f-320c-44cb-9269-da20654fe181
DTSTART;VALUE=DATE:20260427
DTEND;VALUE=DATE:20260514
DESCRIPTION:
LOCATION:
SUMMARY:Acadience Reading Testing K-6 Grades
END:VEVENT
BEGIN:VEVENT
DTSTAMP:20260424T225216Z
UID:e5eeb408-a752-45ef-a7bd-f38afbecf1c2
DTSTART:20260427T190000
DTEND:20260427T200000
DESCRIPTION:<html><head><meta http-equiv="Content-Type" content="text/html\
 ; charset=utf-8"></head><body><div></div></body></html>
LOCATION:
SUMMARY:4th Grade Program 
END:VEVENT
BEGIN:VEVENT
DTSTAMP:20260424T225216Z
UID:853c3056-5867-4a84-8e27-1de5f2f7bdf8
DTSTART:20260428T090000
DTEND:20260428T110000
DESCRIPTION:
LOCATION:
SUMMARY:4th\, 5th\, and 6th Grade RISE Testing
END:VEVENT
BEGIN:VEVENT
DTSTAMP:20260424T225216Z
UID:a68f454c-63f5-4aeb-b789-0cb0cf8ee1ba
DTSTART:20260429T090000
DTEND:20260429T110000
DESCRIPTION:
LOCATION:
SUMMARY:4th\, 5th\, and 6th Grade RISE Testing
END:VEVENT
BEGIN:VEVENT
DTSTAMP:20260424T225216Z
UID:5c7028fa-311e-4776-8e7d-f38755f7f68a
DTSTART:20260430T090000
DTEND:20260430T110000
DESCRIPTION:
LOCATION:
SUMMARY:4th\, 5th\, and 6th Grade RISE Testing
END:VEVENT
BEGIN:VEVENT
DTSTAMP:20260424T225216Z
UID:20b31d59-4049-45d4-9cd2-ce0c88c2ad79
DTSTART;VALUE=DATE:20260504
DTEND;VALUE=DATE:20260509
DESCRIPTION:
LOCATION:
SUMMARY:Teacher Appreciation Week
END:VEVENT
BEGIN:VEVENT
DTSTAMP:20260424T225216Z
UID:cd55faee-1de6-4c54-a09c-f53adfff5919
DTSTART:20260505T100000
DTEND:20260505T133000
DESCRIPTION:<html><head><meta http-equiv="Content-Type" content="text/html\
 ; charset=utf-8"></head><body><div></div></body></html>
LOCATION:Whitaker Museum
SUMMARY:4th Grade Walking Field Trip
END:VEVENT
BEGIN:VEVENT
DTSTAMP:20260424T225216Z
UID:bab9f3a0-330a-47a1-a4b3-859e50f6211d
DTSTART:20260506T103000
DTEND:20260506T140000
DESCRIPTION:<html><head><meta http-equiv="Content-Type" content="text/html\
 ; charset=utf-8"></head><body><div></div></body></html>
LOCATION:
SUMMARY:4th Grade Field Trip Hill Aerospace Museum
END:VEVENT
BEGIN:VEVENT
DTSTAMP:20260424T225216Z
UID:00806026-1d52-478e-af06-48d023a66d5a
DTSTART:20260512T090000
DTEND:20260512T140000
DESCRIPTION:<html><head><meta http-equiv="Content-Type" content="text/html\
 ; charset=utf-8"></head><body><div></div></body></html>
LOCATION:
SUMMARY:6th Grade Space Camp 
END:VEVENT
BEGIN:VEVENT
DTSTAMP:20260424T225216Z
UID:1713e342-a7ae-4781-b0a4-196777228ad5
DTSTART:20260512T093000
DTEND:20260512T140000
DESCRIPTION:<html><head><meta http-equiv="Content-Type" content="text/html\
 ; charset=utf-8"></head><body><div></div></body></html>
LOCATION:Loveland Living Planet Aquarium
SUMMARY:3rd Grade Field Trip
END:VEVENT
BEGIN:VEVENT
DTSTAMP:20260424T225216Z
UID:6810ed72-2714-42dd-aa7c-bc1f748bb950
DTSTART:20260513T001000
DTEND:20260513T011000
DESCRIPTION:
LOCATION:
SUMMARY:PTA Board Meeting
END:VEVENT
BEGIN:VEVENT
DTSTAMP:20260424T225216Z
UID:286167db-9f2f-49af-a0e3-6e480dd54f82
DTSTART:20260513T121000
DTEND:20260513T131000
DESCRIPTION:
LOCATION:
SUMMARY:PTA Board Meeting
END:VEVENT
BEGIN:VEVENT
DTSTAMP:20260424T225216Z
UID:25923444-c282-4293-a6bc-ef26d96e88b3
DTSTART:20260514T090000
DTEND:20260514T140000
DESCRIPTION:<html><head><meta http-equiv="Content-Type" content="text/html\
 ; charset=utf-8"></head><body><div></div></body></html>
LOCATION:
SUMMARY:4th Grade Wings and Water Field Trip
END:VEVENT
BEGIN:VEVENT
DTSTAMP:20260424T225216Z
UID:175d7c66-a87d-4e29-a6fc-ffa16ac7f1c6
DTSTART:20260519T090000
DTEND:20260519T111500
DESCRIPTION:<html><head><meta http-equiv="Content-Type" content="text/html\
 ; charset=utf-8"></head><body><div class="cal_c9ca"><div><div class="x_ele
 mentToProof" style="font-family:Aptos\,Aptos_EmbeddedFont\,Aptos_MSFontSer
 vice\,Calibri\,Helvetica\,sans-serif\; font-size:14pt\; color:rgb(0\,0\,0)
 ">One class will leave at 9:00. 2<sup>nd</sup>&nbsp\;class will leave at 9
 :15</div></div></div></body></html>
LOCATION:Bangerter Farms
SUMMARY:2nd Grade Walking Field Trip
END:VEVENT
BEGIN:VEVENT
DTSTAMP:20260424T225216Z
UID:8383f0ac-b2c2-4cfb-b6c9-d445ea5fc0ae
DTSTART;VALUE=DATE:20260520
DTEND;VALUE=DATE:20260521
DESCRIPTION:
LOCATION:
SUMMARY:Field Day (PTA)
END:VEVENT
BEGIN:VEVENT
DTSTAMP:20260424T225216Z
UID:95904b8a-1e85-4fc6-a885-87096160b193
DTSTART:20260521T141500
DTEND:20260521T153000
DESCRIPTION:<html><head><meta http-equiv="Content-Type" content="text/html\
 ; charset=utf-8"></head><body><div></div></body></html>
LOCATION:
SUMMARY:6th Grade Dance Party
END:VEVENT
BEGIN:VEVENT
DTSTAMP:20260424T225216Z
UID:dbb35115-8c29-4145-a963-4504fd31c16c
DTSTART;VALUE=DATE:20260522
DTEND;VALUE=DATE:20260523
DESCRIPTION:
LOCATION:
SUMMARY:Last Day of School
END:VEVENT
BEGIN:VEVENT
DTSTAMP:20260424T225216Z
UID:26823e1f-9a68-4dad-b21f-2b823c66e5a8
DTSTART:20260522T091500
DTEND:20260522T103000
DESCRIPTION:<html><head><meta http-equiv="Content-Type" content="text/html\
 ; charset=utf-8"></head><body><div></div></body></html>
LOCATION:
SUMMARY:6th Grade Graduation 
END:VEVENT
BEGIN:VEVENT
DTSTAMP:20260424T225216Z
UID:20bfc7da-fd89-4fd6-8a54-ac4c9843c48a
DTSTART:20260522T103000
DTEND:20260522T110000
DESCRIPTION:
LOCATION:
SUMMARY:Kindergarten Graduation (TBD)
END:VEVENT
BEGIN:VEVENT
DTSTAMP:20260424T225216Z
UID:1d9a16ba-bc53-4a24-ac29-40889d9b7bce
DTSTART:20260610T001000
DTEND:20260610T011000
DESCRIPTION:
LOCATION:
SUMMARY:PTA Board Meeting
END:VEVENT
BEGIN:VEVENT
DTSTAMP:20260424T225216Z
UID:f540c903-f800-4a3e-a487-ea9412ca930b
DTSTART:20260708T001000
DTEND:20260708T011000
DESCRIPTION:
LOCATION:
SUMMARY:PTA Board Meeting
END:VEVENT
BEGIN:VEVENT
DTSTAMP:20260424T225216Z
UID:560cff38-cd5a-4022-8a5d-ee242539ece1
DTSTART:20260812T001000
DTEND:20260812T011000
DESCRIPTION:
LOCATION:
SUMMARY:PTA Board Meeting
END:VEVENT
BEGIN:VEVENT
DTSTAMP:20260424T225216Z
UID:3b2d355e-034f-4df2-96cf-17dcdede0389
DTSTART:20260818T173000
DTEND:20260818T190000
DESCRIPTION:
LOCATION:
SUMMARY:Back-to-School Open House
END:VEVENT
BEGIN:VEVENT
DTSTAMP:20260424T225216Z
UID:25481caf-c6a5-4cca-83ac-134309b6daa6
DTSTART;VALUE=DATE:20260820
DTEND;VALUE=DATE:20260821
DESCRIPTION:
LOCATION:
SUMMARY:Early 1:30 Dismissal
END:VEVENT
BEGIN:VEVENT
DTSTAMP:20260424T225216Z
UID:c9986861-9bc9-428b-b872-afdedb6dbd92
DTSTART;VALUE=DATE:20260820
DTEND;VALUE=DATE:20260821
DESCRIPTION:
LOCATION:
SUMMARY:First Day of School
END:VEVENT
BEGIN:VEVENT
DTSTAMP:20260424T225216Z
UID:13e65877-3122-4aeb-9be7-2c1acb82adee
DTSTART:20260909T001000
DTEND:20260909T011000
DESCRIPTION:
LOCATION:
SUMMARY:PTA Board Meeting
END:VEVENT
BEGIN:VEVENT
DTSTAMP:20260424T225216Z
UID:7c58c132-ab5c-445d-9c5c-29b6b3886aa5
DTSTART:20261014T001000
DTEND:20261014T011000
DESCRIPTION:
LOCATION:
SUMMARY:PTA Board Meeting
END:VEVENT
BEGIN:VEVENT
DTSTAMP:20260424T225216Z
UID:190049f8-7f90-4de4-92f9-9f9715b87145
DTSTART;VALUE=DATE:20261028
DTEND;VALUE=DATE:20261030
DESCRIPTION:
LOCATION:
SUMMARY:Early 1:30 Dismissal
END:VEVENT
BEGIN:VEVENT
DTSTAMP:20260424T225216Z
UID:c94997f0-4bba-4b8a-9ca3-f9edaf57748e
DTSTART;VALUE=DATE:20261028
DTEND;VALUE=DATE:20261030
DESCRIPTION:
LOCATION:
SUMMARY:Parent-Teacher Conferences
END:VEVENT
BEGIN:VEVENT
DTSTAMP:20260424T225216Z
UID:7f4f77cf-f2c2-470e-97ec-8e84548ae29f
DTSTART:20261111T001000
DTEND:20261111T011000
DESCRIPTION:
LOCATION:
SUMMARY:PTA Board Meeting
END:VEVENT
END:VCALENDAR
