BEGIN:VCALENDAR
VERSION:2.0
PRODID:icalendar-ruby
CALSCALE:GREGORIAN
BEGIN:VTIMEZONE
TZID:America/Denver
BEGIN:DAYLIGHT
DTSTART:20260308T030000
TZOFFSETFROM:-0700
TZOFFSETTO:-0600
RRULE:FREQ=YEARLY;BYDAY=2SU;BYMONTH=3
TZNAME:MDT
END:DAYLIGHT
BEGIN:STANDARD
DTSTART:20261101T010000
TZOFFSETFROM:-0600
TZOFFSETTO:-0700
RRULE:FREQ=YEARLY;BYDAY=1SU;BYMONTH=11
TZNAME:MST
END:STANDARD
END:VTIMEZONE
BEGIN:VEVENT
DTSTAMP:20260424T101554Z
UID:1d7edbe6-1b56-4125-94b9-b10c479f09b2
DTSTART;VALUE=DATE:20260424
DTEND;VALUE=DATE:20260425
DESCRIPTION:<html><head><meta http-equiv="Content-Type" content="text/html\
 ; charset=utf-8"><meta name="ProgId" content="Word.Document"><meta name="G
 enerator" content="Microsoft Word 15"><meta name="Originator" content="Mic
 rosoft Word 15"><style><!--@font-face	{font-family:"Cambria Math"}@font-fa
 ce	{font-family:Aptos}p.MsoNormal\, li.MsoNormal\, div.MsoNormal	{margin:0
 in\;	font-size:12.0pt\;	font-family:"Aptos"\,sans-serif}a:link\, span.MsoH
 yperlink	{color:#467886\;	text-decoration:underline}a:visited\, span.MsoHy
 perlinkFollowed	{color:#96607D\;	text-decoration:underline}span.EmailStyle
 17	{font-family:"Aptos"\,sans-serif\;	color:windowtext}.MsoChpDefault	{}@p
 age WordSection1	{margin:1.0in 1.0in 1.0in 1.0in}div.WordSection1	{}--></s
 tyle></head><body lang="EN-US" link="#467886" vlink="#96607D" style="word-
 wrap:break-word"><div class="WordSection1"><p class="MsoNormal"><span styl
 e="font-size:11.0pt">&nbsp\;</span></p></div></body></html>
LOCATION:
SUMMARY:Teacher Comp Day (No School) 
END:VEVENT
BEGIN:VEVENT
DTSTAMP:20260424T101554Z
UID:c6b5d9da-47f2-4192-a6a1-08b3fe145c84
DTSTART:20260514T141500
DTEND:20260514T153000
DESCRIPTION:
LOCATION:
SUMMARY:SYTYCD Assembly for Parents 
END:VEVENT
BEGIN:VEVENT
DTSTAMP:20260424T101554Z
UID:26c93b26-6ee4-4039-90ed-2fff1abb652e
DTSTART;VALUE=DATE:20260519
DTEND;VALUE=DATE:20260520
DESCRIPTION:
LOCATION:
SUMMARY:6th Grade Graduation 
END:VEVENT
BEGIN:VEVENT
DTSTAMP:20260424T101554Z
UID:122d5919-b5d4-43e6-a631-8b915c6df958
DTSTART;VALUE=DATE:20260520
DTEND;VALUE=DATE:20260521
DESCRIPTION:<html><head><meta http-equiv="Content-Type" content="text/html\
 ; charset=utf-8"><meta name="ProgId" content="Word.Document"><meta name="G
 enerator" content="Microsoft Word 15"><meta name="Originator" content="Mic
 rosoft Word 15"><style><!--@font-face	{font-family:"Cambria Math"}@font-fa
 ce	{font-family:Aptos}p.MsoNormal\, li.MsoNormal\, div.MsoNormal	{margin:0
 in\;	font-size:12.0pt\;	font-family:"Aptos"\,sans-serif}a:link\, span.MsoH
 yperlink	{color:#467886\;	text-decoration:underline}a:visited\, span.MsoHy
 perlinkFollowed	{color:#96607D\;	text-decoration:underline}span.EmailStyle
 17	{font-family:"Aptos"\,sans-serif\;	color:windowtext}.MsoChpDefault	{}@p
 age WordSection1	{margin:1.0in 1.0in 1.0in 1.0in}div.WordSection1	{}--></s
 tyle></head><body lang="EN-US" link="#467886" vlink="#96607D" style="word-
 wrap:break-word"><div class="WordSection1"><p class="MsoNormal"><span styl
 e="font-size:11.0pt">&nbsp\;</span></p></div></body></html>
LOCATION:
SUMMARY:Field Day/ Fun Run
END:VEVENT
BEGIN:VEVENT
DTSTAMP:20260424T101554Z
UID:1861df90-4cc0-4d9d-8c87-917ab123d2e1
DTSTART;VALUE=DATE:20260522
DTEND;VALUE=DATE:20260523
DESCRIPTION:<html><head><meta http-equiv="Content-Type" content="text/html\
 ; charset=utf-8"><meta name="ProgId" content="Word.Document"><meta name="G
 enerator" content="Microsoft Word 15"><meta name="Originator" content="Mic
 rosoft Word 15"><style><!--@font-face	{font-family:"Cambria Math"}@font-fa
 ce	{font-family:Aptos}p.MsoNormal\, li.MsoNormal\, div.MsoNormal	{margin:0
 in\;	font-size:12.0pt\;	font-family:"Aptos"\,sans-serif}a:link\, span.MsoH
 yperlink	{color:#467886\;	text-decoration:underline}a:visited\, span.MsoHy
 perlinkFollowed	{color:#96607D\;	text-decoration:underline}span.EmailStyle
 17	{font-family:"Aptos"\,sans-serif\;	color:windowtext}.MsoChpDefault	{}@p
 age WordSection1	{margin:1.0in 1.0in 1.0in 1.0in}div.WordSection1	{}--></s
 tyle></head><body lang="EN-US" link="#467886" vlink="#96607D" style="word-
 wrap:break-word"><div class="WordSection1"><p class="MsoNormal"><span styl
 e="font-size:11.0pt">&nbsp\;</span></p></div></body></html>
LOCATION:
SUMMARY:Last Day of School
END:VEVENT
BEGIN:VEVENT
DTSTAMP:20260424T101554Z
UID:7508118e-4f90-46f1-a573-3e1f7ae38f4a
DTSTART;VALUE=DATE:20260820
DTEND;VALUE=DATE:20260821
DESCRIPTION:
LOCATION:
SUMMARY:1st Day of School for Grades 1-6
END:VEVENT
BEGIN:VEVENT
DTSTAMP:20260424T101554Z
UID:dc730b7e-ed1f-42d5-aedc-14f892b207f8
DTSTART;VALUE=DATE:20260824
DTEND;VALUE=DATE:20260825
DESCRIPTION:
LOCATION:
SUMMARY:1st Day of School for Kindergarten
END:VEVENT
END:VCALENDAR
