BEGIN:VCALENDAR
VERSION:2.0
PRODID:icalendar-ruby
CALSCALE:GREGORIAN
BEGIN:VTIMEZONE
TZID:America/Denver
BEGIN:DAYLIGHT
DTSTART:20260308T030000
TZOFFSETFROM:-0700
TZOFFSETTO:-0600
RRULE:FREQ=YEARLY;BYDAY=2SU;BYMONTH=3
TZNAME:MDT
END:DAYLIGHT
BEGIN:STANDARD
DTSTART:20261101T010000
TZOFFSETFROM:-0600
TZOFFSETTO:-0700
RRULE:FREQ=YEARLY;BYDAY=1SU;BYMONTH=11
TZNAME:MST
END:STANDARD
END:VTIMEZONE
BEGIN:VEVENT
DTSTAMP:20260425T003013Z
UID:31b16ebc-447d-492e-8f01-9b043ff3e50c
DTSTART;VALUE=DATE:20260424
DTEND;VALUE=DATE:20260425
DESCRIPTION:<html><head><meta http-equiv="Content-Type" content="text/html\
 ; charset=utf-8"></head><body><div></div></body></html>
LOCATION:
SUMMARY:Teacher Comp Day - No School 
END:VEVENT
BEGIN:VEVENT
DTSTAMP:20260425T003013Z
UID:5aa9703c-2399-4a3f-8b22-2faae9e70825
DTSTART:20260424T133000
DTEND:20260424T140000
DESCRIPTION:
LOCATION:
SUMMARY:Friday Early Out @1:30pm
END:VEVENT
BEGIN:VEVENT
DTSTAMP:20260425T003013Z
UID:7d700a6d-8566-4bbb-9b3f-49ca80c8e762
DTSTART:20260501T110000
DTEND:20260501T133000
DESCRIPTION:<html><head><meta http-equiv="Content-Type" content="text/html\
 ; charset=utf-8"></head><body><div></div></body></html>
LOCATION:
SUMMARY:Birthday Tables
END:VEVENT
BEGIN:VEVENT
DTSTAMP:20260425T003013Z
UID:3659ece0-9917-41a1-88a7-097ffb316c83
DTSTART:20260501T133000
DTEND:20260501T140000
DESCRIPTION:
LOCATION:
SUMMARY:Friday Early Out @1:30pm
END:VEVENT
BEGIN:VEVENT
DTSTAMP:20260425T003013Z
UID:53ab2f7b-9046-413f-a431-f908f8e9754a
DTSTART;VALUE=DATE:20260504
DTEND;VALUE=DATE:20260509
DESCRIPTION:<html><head><meta http-equiv="Content-Type" content="text/html\
 ; charset=utf-8"></head><body><div></div></body></html>
LOCATION:
SUMMARY:Teacher Appreciation Week
END:VEVENT
BEGIN:VEVENT
DTSTAMP:20260425T003013Z
UID:b267b89c-c43b-4dc7-ad81-e343e0c393db
DTSTART:20260508T133000
DTEND:20260508T140000
DESCRIPTION:
LOCATION:
SUMMARY:Friday Early Out @1:30pm
END:VEVENT
BEGIN:VEVENT
DTSTAMP:20260425T003013Z
UID:66bc9471-4af1-46ac-91b6-d4329bc611ff
DTSTART:20260515T093000
DTEND:20260515T103000
DESCRIPTION:<html><head><meta http-equiv="Content-Type" content="text/html\
 ; charset=utf-8"></head><body><div></div></body></html>
LOCATION:
SUMMARY:Kindergarten Graduation - Stage/Gym
END:VEVENT
BEGIN:VEVENT
DTSTAMP:20260425T003013Z
UID:6d2d3270-6993-48f7-8456-f96d5066e2c7
DTSTART:20260515T133000
DTEND:20260515T140000
DESCRIPTION:
LOCATION:
SUMMARY:Friday Early Out @1:30pm
END:VEVENT
BEGIN:VEVENT
DTSTAMP:20260425T003013Z
UID:1a5e9f12-3672-4583-b7bd-23197d5e522a
DTSTART;VALUE=DATE:20260521
DTEND;VALUE=DATE:20260522
DESCRIPTION:<html><head><meta http-equiv="Content-Type" content="text/html\
 ; charset=utf-8"></head><body><div></div></body></html>
LOCATION:
SUMMARY:Field Day
END:VEVENT
BEGIN:VEVENT
DTSTAMP:20260425T003013Z
UID:25aeaad9-c993-4830-9d0e-777f88446838
DTSTART;VALUE=DATE:20260522
DTEND;VALUE=DATE:20260523
DESCRIPTION:<html><head><meta http-equiv="Content-Type" content="text/html\
 ; charset=utf-8"></head><body><div></div></body></html>
LOCATION:
SUMMARY:Last Day of School 
END:VEVENT
BEGIN:VEVENT
DTSTAMP:20260425T003013Z
UID:05159b6b-05dc-4c57-8671-685e94a9db42
DTSTART:20260522T091500
DTEND:20260522T110000
DESCRIPTION:<html><head><meta http-equiv="Content-Type" content="text/html\
 ; charset=utf-8"></head><body><div></div></body></html>
LOCATION:
SUMMARY:6th Grade Graduation
END:VEVENT
BEGIN:VEVENT
DTSTAMP:20260425T003013Z
UID:d5dbeac1-897d-4118-9ce1-d21523382c39
DTSTART:20260522T133000
DTEND:20260522T140000
DESCRIPTION:
LOCATION:
SUMMARY:Friday Early Out @1:30pm
END:VEVENT
BEGIN:VEVENT
DTSTAMP:20260425T003013Z
UID:90a8f891-1721-4a1a-a55f-95a208adf6f9
DTSTART;VALUE=DATE:20260525
DTEND;VALUE=DATE:20260526
DESCRIPTION:
LOCATION:
SUMMARY:Memorial Day
END:VEVENT
BEGIN:VEVENT
DTSTAMP:20260425T003013Z
UID:6fbeaba3-832c-4828-8e0f-042c4f6243f4
DTSTART;VALUE=DATE:20260615
DTEND;VALUE=DATE:20260616
DESCRIPTION:
LOCATION:
SUMMARY:National Independence Day
END:VEVENT
BEGIN:VEVENT
DTSTAMP:20260425T003013Z
UID:83c24419-988a-4889-8a31-472d4dd560ac
DTSTART;VALUE=DATE:20260820
DTEND;VALUE=DATE:20260821
DESCRIPTION:<html><head><meta http-equiv="Content-Type" content="text/html\
 ; charset=utf-8"></head><body><div></div></body></html>
LOCATION:
SUMMARY:First Day of School - Early Out
END:VEVENT
END:VCALENDAR
