BEGIN:VCALENDAR
VERSION:2.0
PRODID:icalendar-ruby
CALSCALE:GREGORIAN
BEGIN:VTIMEZONE
TZID:America/Denver
BEGIN:DAYLIGHT
DTSTART:20260308T030000
TZOFFSETFROM:-0700
TZOFFSETTO:-0600
RRULE:FREQ=YEARLY;BYDAY=2SU;BYMONTH=3
TZNAME:MDT
END:DAYLIGHT
BEGIN:STANDARD
DTSTART:20261101T010000
TZOFFSETFROM:-0600
TZOFFSETTO:-0700
RRULE:FREQ=YEARLY;BYDAY=1SU;BYMONTH=11
TZNAME:MST
END:STANDARD
END:VTIMEZONE
BEGIN:VEVENT
DTSTAMP:20260425T105522Z
UID:39e28ae3-dec7-410c-bf49-14f0010f5685
DTSTART;VALUE=DATE:20260428
DTEND;VALUE=DATE:20260430
DESCRIPTION:
LOCATION:
SUMMARY:RISE Math
END:VEVENT
BEGIN:VEVENT
DTSTAMP:20260425T105522Z
UID:bb7b1256-a245-4310-bc7b-db48009a1c39
DTSTART:20260428T153000
DTEND:20260428T160000
DESCRIPTION:
LOCATION:
SUMMARY:Karate Fundraiser 
END:VEVENT
BEGIN:VEVENT
DTSTAMP:20260425T105522Z
UID:c6014729-f83a-45b0-82a6-542a8e75c477
DTSTART:20260430T153000
DTEND:20260430T160000
DESCRIPTION:
LOCATION:
SUMMARY:Karate Fundraiser 
END:VEVENT
BEGIN:VEVENT
DTSTAMP:20260425T105522Z
UID:36ac8946-05d6-45fa-aff6-d269bdb86dcb
DTSTART:20260505T153000
DTEND:20260505T160000
DESCRIPTION:
LOCATION:
SUMMARY:Karate Fundraiser
END:VEVENT
BEGIN:VEVENT
DTSTAMP:20260425T105522Z
UID:82623868-c761-4eb6-82b6-b380b6739efe
DTSTART:20260507T103000
DTEND:20260507T110000
DESCRIPTION:
LOCATION:
SUMMARY:1st Grade Walking Field Trip 10:30
END:VEVENT
BEGIN:VEVENT
DTSTAMP:20260425T105522Z
UID:d86dbf66-cbc5-4515-a9ae-25fbc9072838
DTSTART:20260507T153000
DTEND:20260507T160000
DESCRIPTION:
LOCATION:
SUMMARY:Karate Fundraiser
END:VEVENT
BEGIN:VEVENT
DTSTAMP:20260425T105522Z
UID:ff1e091f-ee82-4b38-af80-976e592042a7
DTSTART:20260508T090000
DTEND:20260508T093000
DESCRIPTION:
LOCATION:
SUMMARY:Gun Safety Classes 4-6 Grades
END:VEVENT
BEGIN:VEVENT
DTSTAMP:20260425T105522Z
UID:0e75589a-d40d-4e72-8626-798e2349ba24
DTSTART:20260512T100000
DTEND:20260512T103000
DESCRIPTION:
LOCATION:
SUMMARY:Safety Assembly 3rd-6th
END:VEVENT
BEGIN:VEVENT
DTSTAMP:20260425T105522Z
UID:d91aaf7f-c7b1-4b87-b2f3-b56743fdb7de
DTSTART:20260514T180000
DTEND:20260514T190000
DESCRIPTION:
LOCATION:
SUMMARY:Wide Mouth Frog 1st Grade Performance
END:VEVENT
BEGIN:VEVENT
DTSTAMP:20260425T105522Z
UID:6794b255-6559-496b-aa15-2451b6de454a
DTSTART:20260515T080000
DTEND:20260515T093000
DESCRIPTION:
LOCATION:
SUMMARY:Food Bank Friday
END:VEVENT
BEGIN:VEVENT
DTSTAMP:20260425T105522Z
UID:2df41a8d-c5d7-4d3f-a00e-6c1eac5deedd
DTSTART:20260518T143000
DTEND:20260518T153000
DESCRIPTION:
LOCATION:
SUMMARY:Facutly vs. 6th Grade Kickball Game 2:30-3:30
END:VEVENT
BEGIN:VEVENT
DTSTAMP:20260425T105522Z
UID:605305fb-30d9-4821-80c3-248cafdf81a3
DTSTART:20260519T090000
DTEND:20260519T113000
DESCRIPTION:
LOCATION:
SUMMARY:3rd Grade Field Trip
END:VEVENT
BEGIN:VEVENT
DTSTAMP:20260425T105522Z
UID:8c0cbf36-08c0-4a95-97dc-d8581886eaac
DTSTART:20260520T100000
DTEND:20260520T120000
DESCRIPTION:
LOCATION:
SUMMARY:Swim Day Field Trip Grades 3-6
END:VEVENT
BEGIN:VEVENT
DTSTAMP:20260425T105522Z
UID:d749b482-f81e-4eae-bb16-3136062a45bf
DTSTART;VALUE=DATE:20260521
DTEND;VALUE=DATE:20260522
DESCRIPTION:
LOCATION:
SUMMARY:Field Day
END:VEVENT
BEGIN:VEVENT
DTSTAMP:20260425T105522Z
UID:4cbb54e9-e07c-4911-8604-621d8ac0f76a
DTSTART;VALUE=DATE:20260522
DTEND;VALUE=DATE:20260523
DESCRIPTION:
LOCATION:
SUMMARY:Last Day of School
END:VEVENT
BEGIN:VEVENT
DTSTAMP:20260425T105522Z
UID:ed6e3457-20de-43f8-8e2c-026ea6e643fa
DTSTART:20260522T090000
DTEND:20260522T100000
DESCRIPTION:
LOCATION:
SUMMARY:Kindergarten Graduation
END:VEVENT
BEGIN:VEVENT
DTSTAMP:20260425T105522Z
UID:f163124c-a13d-4124-ab59-9a2b3bbc4326
DTSTART:20260522T101500
DTEND:20260522T104500
DESCRIPTION:
LOCATION:
SUMMARY:6th Grade Graduation
END:VEVENT
BEGIN:VEVENT
DTSTAMP:20260425T105522Z
UID:3df6f06e-bb55-4ff5-9743-3c9cf274c70f
DTSTART:20260525T080000
DTEND:20260525T083000
DESCRIPTION:
LOCATION:
SUMMARY:Memorial Day
END:VEVENT
END:VCALENDAR
